BEGIN:VCALENDAR
VERSION:2.0
PRODID:http://www.kufer.de/kuferweb / DE
METHOD:PUBLISH
CALSCALE:GREGORIAN
X-WR-TIMEZONE:Europe/Berlin
BEGIN:VTIMEZONE
TZID:Europe/Berlin
X-LIC-LOCATION:Europe/Berlin
BEGIN:DAYLIGHT
TZOFFSETFROM:+0100
TZOFFSETTO:+0200
TZNAME:CEST
DTSTART;TZID=Europe/Berlin:19700329T020000
RRULE:FREQ=YEARLY;INTERVAL=1;BYDAY=-1SU;BYMONTH=3
END:DAYLIGHT
BEGIN:STANDARD
TZOFFSETFROM:+0200
TZOFFSETTO:+0100
TZNAME:CET
DTSTART;TZID=Europe/Berlin:19701025T030000
RRULE:FREQ=YEARLY;INTERVAL=1;BYDAY=-1SU;BYMONTH=10
END:STANDARD
END:VTIMEZONE
BEGIN:VEVENT
DTSTAMP:20260419T142013
DTSTART;TZID=Europe/Berlin:20260223T181500
DTEND;TZID=Europe/Berlin:20260223T193000
UID:261IL30130-20260223T181500@VHSUNTERLAND
SUMMARY:Hatha Yoga (261IL30130) 
LOCATION:il Polizeigebäude, Raum 1, Charlottenstraße 5, 74360 Ilsfeld
END:VEVENT
BEGIN:VEVENT
DTSTAMP:20260419T142013
DTSTART;TZID=Europe/Berlin:20260302T181500
DTEND;TZID=Europe/Berlin:20260302T193000
UID:261IL30130-20260302T181500@VHSUNTERLAND
SUMMARY:Hatha Yoga (261IL30130) 
LOCATION:il Polizeigebäude, Raum 1, Charlottenstraße 5, 74360 Ilsfeld
END:VEVENT
BEGIN:VEVENT
DTSTAMP:20260419T142013
DTSTART;TZID=Europe/Berlin:20260309T181500
DTEND;TZID=Europe/Berlin:20260309T193000
UID:261IL30130-20260309T181500@VHSUNTERLAND
SUMMARY:Hatha Yoga (261IL30130) 
LOCATION:il Polizeigebäude, Raum 1, Charlottenstraße 5, 74360 Ilsfeld
END:VEVENT
BEGIN:VEVENT
DTSTAMP:20260419T142013
DTSTART;TZID=Europe/Berlin:20260316T181500
DTEND;TZID=Europe/Berlin:20260316T193000
UID:261IL30130-20260316T181500@VHSUNTERLAND
SUMMARY:Hatha Yoga (261IL30130) 
LOCATION:il Polizeigebäude, Raum 1, Charlottenstraße 5, 74360 Ilsfeld
END:VEVENT
BEGIN:VEVENT
DTSTAMP:20260419T142013
DTSTART;TZID=Europe/Berlin:20260323T181500
DTEND;TZID=Europe/Berlin:20260323T193000
UID:261IL30130-20260323T181500@VHSUNTERLAND
SUMMARY:Hatha Yoga (261IL30130) 
LOCATION:il Polizeigebäude, Raum 1, Charlottenstraße 5, 74360 Ilsfeld
END:VEVENT
BEGIN:VEVENT
DTSTAMP:20260419T142013
DTSTART;TZID=Europe/Berlin:20260413T181500
DTEND;TZID=Europe/Berlin:20260413T193000
UID:261IL30130-20260413T181500@VHSUNTERLAND
SUMMARY:Hatha Yoga (261IL30130) 
LOCATION:il Polizeigebäude, Raum 1, Charlottenstraße 5, 74360 Ilsfeld
END:VEVENT
BEGIN:VEVENT
DTSTAMP:20260419T142013
DTSTART;TZID=Europe/Berlin:20260420T181500
DTEND;TZID=Europe/Berlin:20260420T193000
UID:261IL30130-20260420T181500@VHSUNTERLAND
SUMMARY:Hatha Yoga (261IL30130) 
LOCATION:il Polizeigebäude, Raum 1, Charlottenstraße 5, 74360 Ilsfeld
END:VEVENT
BEGIN:VEVENT
DTSTAMP:20260419T142013
DTSTART;TZID=Europe/Berlin:20260427T181500
DTEND;TZID=Europe/Berlin:20260427T193000
UID:261IL30130-20260427T181500@VHSUNTERLAND
SUMMARY:Hatha Yoga (261IL30130) 
LOCATION:il Polizeigebäude, Raum 1, Charlottenstraße 5, 74360 Ilsfeld
END:VEVENT
BEGIN:VEVENT
DTSTAMP:20260419T142013
DTSTART;TZID=Europe/Berlin:20260504T181500
DTEND;TZID=Europe/Berlin:20260504T193000
UID:261IL30130-20260504T181500@VHSUNTERLAND
SUMMARY:Hatha Yoga (261IL30130) 
LOCATION:il Polizeigebäude, Raum 1, Charlottenstraße 5, 74360 Ilsfeld
END:VEVENT
BEGIN:VEVENT
DTSTAMP:20260419T142013
DTSTART;TZID=Europe/Berlin:20260511T181500
DTEND;TZID=Europe/Berlin:20260511T193000
UID:261IL30130-20260511T181500@VHSUNTERLAND
SUMMARY:Hatha Yoga (261IL30130) 
LOCATION:il Polizeigebäude, Raum 1, Charlottenstraße 5, 74360 Ilsfeld
END:VEVENT
BEGIN:VEVENT
DTSTAMP:20260419T142013
DTSTART;TZID=Europe/Berlin:20260518T181500
DTEND;TZID=Europe/Berlin:20260518T193000
UID:261IL30130-20260518T181500@VHSUNTERLAND
SUMMARY:Hatha Yoga (261IL30130) 
LOCATION:il Polizeigebäude, Raum 1, Charlottenstraße 5, 74360 Ilsfeld
END:VEVENT
BEGIN:VEVENT
DTSTAMP:20260419T142013
DTSTART;TZID=Europe/Berlin:20260608T181500
DTEND;TZID=Europe/Berlin:20260608T193000
UID:261IL30130-20260608T181500@VHSUNTERLAND
SUMMARY:Hatha Yoga (261IL30130) 
LOCATION:il Polizeigebäude, Raum 1, Charlottenstraße 5, 74360 Ilsfeld
END:VEVENT
END:VCALENDAR