BEGIN:VCALENDAR
VERSION:2.0
PRODID:http://www.kufer.de/kuferweb / DE
METHOD:PUBLISH
CALSCALE:GREGORIAN
X-WR-TIMEZONE:Europe/Berlin
BEGIN:VTIMEZONE
TZID:Europe/Berlin
X-LIC-LOCATION:Europe/Berlin
BEGIN:DAYLIGHT
TZOFFSETFROM:+0100
TZOFFSETTO:+0200
TZNAME:CEST
DTSTART;TZID=Europe/Berlin:19700329T020000
RRULE:FREQ=YEARLY;INTERVAL=1;BYDAY=-1SU;BYMONTH=3
END:DAYLIGHT
BEGIN:STANDARD
TZOFFSETFROM:+0200
TZOFFSETTO:+0100
TZNAME:CET
DTSTART;TZID=Europe/Berlin:19701025T030000
RRULE:FREQ=YEARLY;INTERVAL=1;BYDAY=-1SU;BYMONTH=10
END:STANDARD
END:VTIMEZONE
BEGIN:VEVENT
DTSTAMP:20260420T230444
DTSTART;TZID=Europe/Berlin:20260620T100000
DTEND;TZID=Europe/Berlin:20260620T170000
UID:261IL20875-20260620T100000@VHSUNTERLAND
SUMMARY:Weibsbilder/Charakterfrauen  für Anfänger*innen und Fortgeschrittene (261IL20875) 
LOCATION:il Atelier Sibylle Nestrasil, Auensteiner Straße 10-12, 74360 Ilsfeld
END:VEVENT
BEGIN:VEVENT
DTSTAMP:20260420T230444
DTSTART;TZID=Europe/Berlin:20260621T100000
DTEND;TZID=Europe/Berlin:20260621T170000
UID:261IL20875-20260621T100000@VHSUNTERLAND
SUMMARY:Weibsbilder/Charakterfrauen  für Anfänger*innen und Fortgeschrittene (261IL20875) 
LOCATION:il Atelier Sibylle Nestrasil, Auensteiner Straße 10-12, 74360 Ilsfeld
END:VEVENT
BEGIN:VEVENT
DTSTAMP:20260420T230444
DTSTART;TZID=Europe/Berlin:20260629T180000
DTEND;TZID=Europe/Berlin:20260629T210000
UID:261IL20875-20260629T180000@VHSUNTERLAND
SUMMARY:Weibsbilder/Charakterfrauen  für Anfänger*innen und Fortgeschrittene (261IL20875) 
LOCATION:il Atelier Sibylle Nestrasil, Auensteiner Straße 10-12, 74360 Ilsfeld
END:VEVENT
END:VCALENDAR