BEGIN:VCALENDAR
VERSION:2.0
PRODID:http://www.kufer.de/kuferweb / DE
METHOD:PUBLISH
CALSCALE:GREGORIAN
X-WR-TIMEZONE:Europe/Berlin
BEGIN:VTIMEZONE
TZID:Europe/Berlin
X-LIC-LOCATION:Europe/Berlin
BEGIN:DAYLIGHT
TZOFFSETFROM:+0100
TZOFFSETTO:+0200
TZNAME:CEST
DTSTART;TZID=Europe/Berlin:19700329T020000
RRULE:FREQ=YEARLY;INTERVAL=1;BYDAY=-1SU;BYMONTH=3
END:DAYLIGHT
BEGIN:STANDARD
TZOFFSETFROM:+0200
TZOFFSETTO:+0100
TZNAME:CET
DTSTART;TZID=Europe/Berlin:19701025T030000
RRULE:FREQ=YEARLY;INTERVAL=1;BYDAY=-1SU;BYMONTH=10
END:STANDARD
END:VTIMEZONE
BEGIN:VEVENT
DTSTAMP:20260423T144627
DTSTART;TZID=Europe/Berlin:20260226T163000
DTEND;TZID=Europe/Berlin:20260226T173000
UID:261IL20570-20260226T163000@VHSUNTERLAND
SUMMARY:Hip-Hop for Kids von 8 - 12 Jahren (261IL20570) 
LOCATION:il Polizeigebäude, Raum 1, Charlottenstraße 5, 74360 Ilsfeld
END:VEVENT
BEGIN:VEVENT
DTSTAMP:20260423T144627
DTSTART;TZID=Europe/Berlin:20260305T163000
DTEND;TZID=Europe/Berlin:20260305T173000
UID:261IL20570-20260305T163000@VHSUNTERLAND
SUMMARY:Hip-Hop for Kids von 8 - 12 Jahren (261IL20570) 
LOCATION:il Polizeigebäude, Raum 1, Charlottenstraße 5, 74360 Ilsfeld
END:VEVENT
BEGIN:VEVENT
DTSTAMP:20260423T144627
DTSTART;TZID=Europe/Berlin:20260312T163000
DTEND;TZID=Europe/Berlin:20260312T173000
UID:261IL20570-20260312T163000@VHSUNTERLAND
SUMMARY:Hip-Hop for Kids von 8 - 12 Jahren (261IL20570) 
LOCATION:il Polizeigebäude, Raum 1, Charlottenstraße 5, 74360 Ilsfeld
END:VEVENT
BEGIN:VEVENT
DTSTAMP:20260423T144627
DTSTART;TZID=Europe/Berlin:20260319T163000
DTEND;TZID=Europe/Berlin:20260319T173000
UID:261IL20570-20260319T163000@VHSUNTERLAND
SUMMARY:Hip-Hop for Kids von 8 - 12 Jahren (261IL20570) 
LOCATION:il Polizeigebäude, Raum 1, Charlottenstraße 5, 74360 Ilsfeld
END:VEVENT
BEGIN:VEVENT
DTSTAMP:20260423T144627
DTSTART;TZID=Europe/Berlin:20260326T163000
DTEND;TZID=Europe/Berlin:20260326T173000
UID:261IL20570-20260326T163000@VHSUNTERLAND
SUMMARY:Hip-Hop for Kids von 8 - 12 Jahren (261IL20570) 
LOCATION:il Polizeigebäude, Raum 1, Charlottenstraße 5, 74360 Ilsfeld
END:VEVENT
BEGIN:VEVENT
DTSTAMP:20260423T144627
DTSTART;TZID=Europe/Berlin:20260416T163000
DTEND;TZID=Europe/Berlin:20260416T173000
UID:261IL20570-20260416T163000@VHSUNTERLAND
SUMMARY:Hip-Hop for Kids von 8 - 12 Jahren (261IL20570) 
LOCATION:il Polizeigebäude, Raum 1, Charlottenstraße 5, 74360 Ilsfeld
END:VEVENT
BEGIN:VEVENT
DTSTAMP:20260423T144627
DTSTART;TZID=Europe/Berlin:20260423T163000
DTEND;TZID=Europe/Berlin:20260423T173000
UID:261IL20570-20260423T163000@VHSUNTERLAND
SUMMARY:Hip-Hop for Kids von 8 - 12 Jahren (261IL20570) 
LOCATION:il Polizeigebäude, Raum 1, Charlottenstraße 5, 74360 Ilsfeld
END:VEVENT
BEGIN:VEVENT
DTSTAMP:20260423T144627
DTSTART;TZID=Europe/Berlin:20260430T163000
DTEND;TZID=Europe/Berlin:20260430T173000
UID:261IL20570-20260430T163000@VHSUNTERLAND
SUMMARY:Hip-Hop for Kids von 8 - 12 Jahren (261IL20570) 
LOCATION:il Polizeigebäude, Raum 1, Charlottenstraße 5, 74360 Ilsfeld
END:VEVENT
BEGIN:VEVENT
DTSTAMP:20260423T144627
DTSTART;TZID=Europe/Berlin:20260507T163000
DTEND;TZID=Europe/Berlin:20260507T173000
UID:261IL20570-20260507T163000@VHSUNTERLAND
SUMMARY:Hip-Hop for Kids von 8 - 12 Jahren (261IL20570) 
LOCATION:il Polizeigebäude, Raum 1, Charlottenstraße 5, 74360 Ilsfeld
END:VEVENT
BEGIN:VEVENT
DTSTAMP:20260423T144627
DTSTART;TZID=Europe/Berlin:20260521T163000
DTEND;TZID=Europe/Berlin:20260521T173000
UID:261IL20570-20260521T163000@VHSUNTERLAND
SUMMARY:Hip-Hop for Kids von 8 - 12 Jahren (261IL20570) 
LOCATION:il Polizeigebäude, Raum 1, Charlottenstraße 5, 74360 Ilsfeld
END:VEVENT
END:VCALENDAR