BEGIN:VCALENDAR
VERSION:2.0
PRODID:http://www.kufer.de/kuferweb / DE
METHOD:PUBLISH
CALSCALE:GREGORIAN
X-WR-TIMEZONE:Europe/Berlin
BEGIN:VTIMEZONE
TZID:Europe/Berlin
X-LIC-LOCATION:Europe/Berlin
BEGIN:DAYLIGHT
TZOFFSETFROM:+0100
TZOFFSETTO:+0200
TZNAME:CEST
DTSTART;TZID=Europe/Berlin:19700329T020000
RRULE:FREQ=YEARLY;INTERVAL=1;BYDAY=-1SU;BYMONTH=3
END:DAYLIGHT
BEGIN:STANDARD
TZOFFSETFROM:+0200
TZOFFSETTO:+0100
TZNAME:CET
DTSTART;TZID=Europe/Berlin:19701025T030000
RRULE:FREQ=YEARLY;INTERVAL=1;BYDAY=-1SU;BYMONTH=10
END:STANDARD
END:VTIMEZONE
BEGIN:VEVENT
DTSTAMP:20260422T105403
DTSTART;TZID=Europe/Berlin:20260311T195000
DTEND;TZID=Europe/Berlin:20260311T210500
UID:261IL20516-20260311T195000@VHSUNTERLAND
SUMMARY:Line Dance & Co (261IL20516) 
LOCATION:il Gemeindehalle, Brückenstraße 25, 74360 Ilsfeld
END:VEVENT
BEGIN:VEVENT
DTSTAMP:20260422T105403
DTSTART;TZID=Europe/Berlin:20260318T195000
DTEND;TZID=Europe/Berlin:20260318T210500
UID:261IL20516-20260318T195000@VHSUNTERLAND
SUMMARY:Line Dance & Co (261IL20516) 
LOCATION:il Gemeindehalle, Brückenstraße 25, 74360 Ilsfeld
END:VEVENT
BEGIN:VEVENT
DTSTAMP:20260422T105403
DTSTART;TZID=Europe/Berlin:20260325T195000
DTEND;TZID=Europe/Berlin:20260325T210500
UID:261IL20516-20260325T195000@VHSUNTERLAND
SUMMARY:Line Dance & Co (261IL20516) 
LOCATION:il Gemeindehalle, Brückenstraße 25, 74360 Ilsfeld
END:VEVENT
BEGIN:VEVENT
DTSTAMP:20260422T105403
DTSTART;TZID=Europe/Berlin:20260415T195000
DTEND;TZID=Europe/Berlin:20260415T210500
UID:261IL20516-20260415T195000@VHSUNTERLAND
SUMMARY:Line Dance & Co (261IL20516) 
LOCATION:il Gemeindehalle, Brückenstraße 25, 74360 Ilsfeld
END:VEVENT
BEGIN:VEVENT
DTSTAMP:20260422T105403
DTSTART;TZID=Europe/Berlin:20260422T195000
DTEND;TZID=Europe/Berlin:20260422T210500
UID:261IL20516-20260422T195000@VHSUNTERLAND
DESCRIPTION:Ersatz für Ausfall am 10.06.2026
SUMMARY:Line Dance & Co (261IL20516) 
LOCATION:il Gemeindehalle, Brückenstraße 25, 74360 Ilsfeld
END:VEVENT
BEGIN:VEVENT
DTSTAMP:20260422T105403
DTSTART;TZID=Europe/Berlin:20260429T195000
DTEND;TZID=Europe/Berlin:20260429T210500
UID:261IL20516-20260429T195000@VHSUNTERLAND
SUMMARY:Line Dance & Co (261IL20516) 
LOCATION:il Gemeindehalle, Brückenstraße 25, 74360 Ilsfeld
END:VEVENT
BEGIN:VEVENT
DTSTAMP:20260422T105403
DTSTART;TZID=Europe/Berlin:20260513T195000
DTEND;TZID=Europe/Berlin:20260513T210500
UID:261IL20516-20260513T195000@VHSUNTERLAND
SUMMARY:Line Dance & Co (261IL20516) 
LOCATION:il Gemeindehalle, Brückenstraße 25, 74360 Ilsfeld
END:VEVENT
BEGIN:VEVENT
DTSTAMP:20260422T105403
DTSTART;TZID=Europe/Berlin:20260520T195000
DTEND;TZID=Europe/Berlin:20260520T210500
UID:261IL20516-20260520T195000@VHSUNTERLAND
SUMMARY:Line Dance & Co (261IL20516) 
LOCATION:il Gemeindehalle, Brückenstraße 25, 74360 Ilsfeld
END:VEVENT
END:VCALENDAR