BEGIN:VCALENDAR
VERSION:2.0
PRODID:http://www.kufer.de/kuferweb / DE
METHOD:PUBLISH
CALSCALE:GREGORIAN
X-WR-TIMEZONE:Europe/Berlin
BEGIN:VTIMEZONE
TZID:Europe/Berlin
X-LIC-LOCATION:Europe/Berlin
BEGIN:DAYLIGHT
TZOFFSETFROM:+0100
TZOFFSETTO:+0200
TZNAME:CEST
DTSTART;TZID=Europe/Berlin:19700329T020000
RRULE:FREQ=YEARLY;INTERVAL=1;BYDAY=-1SU;BYMONTH=3
END:DAYLIGHT
BEGIN:STANDARD
TZOFFSETFROM:+0200
TZOFFSETTO:+0100
TZNAME:CET
DTSTART;TZID=Europe/Berlin:19701025T030000
RRULE:FREQ=YEARLY;INTERVAL=1;BYDAY=-1SU;BYMONTH=10
END:STANDARD
END:VTIMEZONE
BEGIN:VEVENT
DTSTAMP:20260420T172835
DTSTART;TZID=Europe/Berlin:20260311T184000
DTEND;TZID=Europe/Berlin:20260311T194000
UID:261IL20515-20260311T184000@VHSUNTERLAND
SUMMARY:Line Dance & Co (261IL20515) 
LOCATION:il Gemeindehalle, Brückenstraße 25, 74360 Ilsfeld
END:VEVENT
BEGIN:VEVENT
DTSTAMP:20260420T172835
DTSTART;TZID=Europe/Berlin:20260318T184000
DTEND;TZID=Europe/Berlin:20260318T194000
UID:261IL20515-20260318T184000@VHSUNTERLAND
SUMMARY:Line Dance & Co (261IL20515) 
LOCATION:il Gemeindehalle, Brückenstraße 25, 74360 Ilsfeld
END:VEVENT
BEGIN:VEVENT
DTSTAMP:20260420T172835
DTSTART;TZID=Europe/Berlin:20260325T184000
DTEND;TZID=Europe/Berlin:20260325T194000
UID:261IL20515-20260325T184000@VHSUNTERLAND
SUMMARY:Line Dance & Co (261IL20515) 
LOCATION:il Gemeindehalle, Brückenstraße 25, 74360 Ilsfeld
END:VEVENT
BEGIN:VEVENT
DTSTAMP:20260420T172835
DTSTART;TZID=Europe/Berlin:20260415T184000
DTEND;TZID=Europe/Berlin:20260415T194000
UID:261IL20515-20260415T184000@VHSUNTERLAND
SUMMARY:Line Dance & Co (261IL20515) 
LOCATION:il Gemeindehalle, Brückenstraße 25, 74360 Ilsfeld
END:VEVENT
BEGIN:VEVENT
DTSTAMP:20260420T172835
DTSTART;TZID=Europe/Berlin:20260422T184000
DTEND;TZID=Europe/Berlin:20260422T194000
UID:261IL20515-20260422T184000@VHSUNTERLAND
DESCRIPTION:Ersatz für Ausfall am 10.06.2026
SUMMARY:Line Dance & Co (261IL20515) 
LOCATION:il Gemeindehalle, Brückenstraße 25, 74360 Ilsfeld
END:VEVENT
BEGIN:VEVENT
DTSTAMP:20260420T172835
DTSTART;TZID=Europe/Berlin:20260429T184000
DTEND;TZID=Europe/Berlin:20260429T194000
UID:261IL20515-20260429T184000@VHSUNTERLAND
SUMMARY:Line Dance & Co (261IL20515) 
LOCATION:il Gemeindehalle, Brückenstraße 25, 74360 Ilsfeld
END:VEVENT
BEGIN:VEVENT
DTSTAMP:20260420T172835
DTSTART;TZID=Europe/Berlin:20260513T184000
DTEND;TZID=Europe/Berlin:20260513T194000
UID:261IL20515-20260513T184000@VHSUNTERLAND
SUMMARY:Line Dance & Co (261IL20515) 
LOCATION:il Gemeindehalle, Brückenstraße 25, 74360 Ilsfeld
END:VEVENT
BEGIN:VEVENT
DTSTAMP:20260420T172835
DTSTART;TZID=Europe/Berlin:20260520T184000
DTEND;TZID=Europe/Berlin:20260520T194000
UID:261IL20515-20260520T184000@VHSUNTERLAND
SUMMARY:Line Dance & Co (261IL20515) 
LOCATION:il Gemeindehalle, Brückenstraße 25, 74360 Ilsfeld
END:VEVENT
END:VCALENDAR