BEGIN:VCALENDAR
VERSION:2.0
PRODID:http://www.kufer.de/kuferweb / DE
METHOD:PUBLISH
CALSCALE:GREGORIAN
X-WR-TIMEZONE:Europe/Berlin
BEGIN:VTIMEZONE
TZID:Europe/Berlin
X-LIC-LOCATION:Europe/Berlin
BEGIN:DAYLIGHT
TZOFFSETFROM:+0100
TZOFFSETTO:+0200
TZNAME:CEST
DTSTART;TZID=Europe/Berlin:19700329T020000
RRULE:FREQ=YEARLY;INTERVAL=1;BYDAY=-1SU;BYMONTH=3
END:DAYLIGHT
BEGIN:STANDARD
TZOFFSETFROM:+0200
TZOFFSETTO:+0100
TZNAME:CET
DTSTART;TZID=Europe/Berlin:19701025T030000
RRULE:FREQ=YEARLY;INTERVAL=1;BYDAY=-1SU;BYMONTH=10
END:STANDARD
END:VTIMEZONE
BEGIN:VEVENT
DTSTAMP:20260421T090915
DTSTART;TZID=Europe/Berlin:20260228T100000
DTEND;TZID=Europe/Berlin:20260228T111500
UID:261IL10542-20260228T100000@VHSUNTERLAND
SUMMARY:Das Marburger Konzentrationstraining für Kinder der 3. und 4. Klasse (261IL10542) 
LOCATION:il Grundschule, Forscherinsel, Bollwerkstraße 9, 74360 Ilsfeld
END:VEVENT
BEGIN:VEVENT
DTSTAMP:20260421T090915
DTSTART;TZID=Europe/Berlin:20260307T100000
DTEND;TZID=Europe/Berlin:20260307T111500
UID:261IL10542-20260307T100000@VHSUNTERLAND
SUMMARY:Das Marburger Konzentrationstraining für Kinder der 3. und 4. Klasse (261IL10542) 
LOCATION:il Grundschule, Forscherinsel, Bollwerkstraße 9, 74360 Ilsfeld
END:VEVENT
BEGIN:VEVENT
DTSTAMP:20260421T090915
DTSTART;TZID=Europe/Berlin:20260314T100000
DTEND;TZID=Europe/Berlin:20260314T111500
UID:261IL10542-20260314T100000@VHSUNTERLAND
SUMMARY:Das Marburger Konzentrationstraining für Kinder der 3. und 4. Klasse (261IL10542) 
LOCATION:il Grundschule, Forscherinsel, Bollwerkstraße 9, 74360 Ilsfeld
END:VEVENT
BEGIN:VEVENT
DTSTAMP:20260421T090915
DTSTART;TZID=Europe/Berlin:20260321T100000
DTEND;TZID=Europe/Berlin:20260321T111500
UID:261IL10542-20260321T100000@VHSUNTERLAND
SUMMARY:Das Marburger Konzentrationstraining für Kinder der 3. und 4. Klasse (261IL10542) 
LOCATION:il Grundschule, Forscherinsel, Bollwerkstraße 9, 74360 Ilsfeld
END:VEVENT
BEGIN:VEVENT
DTSTAMP:20260421T090915
DTSTART;TZID=Europe/Berlin:20260418T100000
DTEND;TZID=Europe/Berlin:20260418T111500
UID:261IL10542-20260418T100000@VHSUNTERLAND
SUMMARY:Das Marburger Konzentrationstraining für Kinder der 3. und 4. Klasse (261IL10542) 
LOCATION:il Grundschule, Forscherinsel, Bollwerkstraße 9, 74360 Ilsfeld
END:VEVENT
BEGIN:VEVENT
DTSTAMP:20260421T090915
DTSTART;TZID=Europe/Berlin:20260425T100000
DTEND;TZID=Europe/Berlin:20260425T111500
UID:261IL10542-20260425T100000@VHSUNTERLAND
SUMMARY:Das Marburger Konzentrationstraining für Kinder der 3. und 4. Klasse (261IL10542) 
LOCATION:il Grundschule, Forscherinsel, Bollwerkstraße 9, 74360 Ilsfeld
END:VEVENT
END:VCALENDAR