BEGIN:VCALENDAR
VERSION:2.0
PRODID:http://www.kufer.de/kuferweb / DE
METHOD:PUBLISH
CALSCALE:GREGORIAN
X-WR-TIMEZONE:Europe/Berlin
BEGIN:VTIMEZONE
TZID:Europe/Berlin
X-LIC-LOCATION:Europe/Berlin
BEGIN:DAYLIGHT
TZOFFSETFROM:+0100
TZOFFSETTO:+0200
TZNAME:CEST
DTSTART;TZID=Europe/Berlin:19700329T020000
RRULE:FREQ=YEARLY;INTERVAL=1;BYDAY=-1SU;BYMONTH=3
END:DAYLIGHT
BEGIN:STANDARD
TZOFFSETFROM:+0200
TZOFFSETTO:+0100
TZNAME:CET
DTSTART;TZID=Europe/Berlin:19701025T030000
RRULE:FREQ=YEARLY;INTERVAL=1;BYDAY=-1SU;BYMONTH=10
END:STANDARD
END:VTIMEZONE
BEGIN:VEVENT
DTSTAMP:20260421T135748
DTSTART;TZID=Europe/Berlin:20260608T193000
DTEND;TZID=Europe/Berlin:20260608T210000
UID:261GU20523-20260608T193000@VHSUNTERLAND
SUMMARY:Line Dance am Abend für Fortgeschrittene (261GU20523) 
LOCATION:gu Horneckschule, Gymnastikraum, Panoramastraße 22-24, 74831 Gundelsheim
END:VEVENT
BEGIN:VEVENT
DTSTAMP:20260421T135748
DTSTART;TZID=Europe/Berlin:20260615T193000
DTEND;TZID=Europe/Berlin:20260615T210000
UID:261GU20523-20260615T193000@VHSUNTERLAND
SUMMARY:Line Dance am Abend für Fortgeschrittene (261GU20523) 
LOCATION:gu Horneckschule, Gymnastikraum, Panoramastraße 22-24, 74831 Gundelsheim
END:VEVENT
BEGIN:VEVENT
DTSTAMP:20260421T135748
DTSTART;TZID=Europe/Berlin:20260622T193000
DTEND;TZID=Europe/Berlin:20260622T210000
UID:261GU20523-20260622T193000@VHSUNTERLAND
SUMMARY:Line Dance am Abend für Fortgeschrittene (261GU20523) 
LOCATION:gu Horneckschule, Gymnastikraum, Panoramastraße 22-24, 74831 Gundelsheim
END:VEVENT
BEGIN:VEVENT
DTSTAMP:20260421T135748
DTSTART;TZID=Europe/Berlin:20260629T193000
DTEND;TZID=Europe/Berlin:20260629T210000
UID:261GU20523-20260629T193000@VHSUNTERLAND
SUMMARY:Line Dance am Abend für Fortgeschrittene (261GU20523) 
LOCATION:gu Horneckschule, Gymnastikraum, Panoramastraße 22-24, 74831 Gundelsheim
END:VEVENT
BEGIN:VEVENT
DTSTAMP:20260421T135748
DTSTART;TZID=Europe/Berlin:20260706T193000
DTEND;TZID=Europe/Berlin:20260706T210000
UID:261GU20523-20260706T193000@VHSUNTERLAND
SUMMARY:Line Dance am Abend für Fortgeschrittene (261GU20523) 
LOCATION:gu Horneckschule, Gymnastikraum, Panoramastraße 22-24, 74831 Gundelsheim
END:VEVENT
BEGIN:VEVENT
DTSTAMP:20260421T135748
DTSTART;TZID=Europe/Berlin:20260713T193000
DTEND;TZID=Europe/Berlin:20260713T210000
UID:261GU20523-20260713T193000@VHSUNTERLAND
SUMMARY:Line Dance am Abend für Fortgeschrittene (261GU20523) 
LOCATION:gu Horneckschule, Gymnastikraum, Panoramastraße 22-24, 74831 Gundelsheim
END:VEVENT
END:VCALENDAR