BEGIN:VCALENDAR
VERSION:2.0
PRODID:http://www.kufer.de/kuferweb / DE
METHOD:PUBLISH
CALSCALE:GREGORIAN
X-WR-TIMEZONE:Europe/Berlin
BEGIN:VTIMEZONE
TZID:Europe/Berlin
X-LIC-LOCATION:Europe/Berlin
BEGIN:DAYLIGHT
TZOFFSETFROM:+0100
TZOFFSETTO:+0200
TZNAME:CEST
DTSTART;TZID=Europe/Berlin:19700329T020000
RRULE:FREQ=YEARLY;INTERVAL=1;BYDAY=-1SU;BYMONTH=3
END:DAYLIGHT
BEGIN:STANDARD
TZOFFSETFROM:+0200
TZOFFSETTO:+0100
TZNAME:CET
DTSTART;TZID=Europe/Berlin:19701025T030000
RRULE:FREQ=YEARLY;INTERVAL=1;BYDAY=-1SU;BYMONTH=10
END:STANDARD
END:VTIMEZONE
BEGIN:VEVENT
DTSTAMP:20260422T164630
DTSTART;TZID=Europe/Berlin:20260319T150000
DTEND;TZID=Europe/Berlin:20260319T170000
UID:261GG60710-20260319T150000@VHSUNTERLAND
SUMMARY:Mathematik Power-Kurs Vorbereitung auf die Realschul-Abschlussprüfung (261GG60710) 
LOCATION:gg Realschule, Wilhelm-Arnold-Platz 1, 74363 Güglingen
END:VEVENT
BEGIN:VEVENT
DTSTAMP:20260422T164630
DTSTART;TZID=Europe/Berlin:20260326T150000
DTEND;TZID=Europe/Berlin:20260326T170000
UID:261GG60710-20260326T150000@VHSUNTERLAND
SUMMARY:Mathematik Power-Kurs Vorbereitung auf die Realschul-Abschlussprüfung (261GG60710) 
LOCATION:gg Realschule, Wilhelm-Arnold-Platz 1, 74363 Güglingen
END:VEVENT
BEGIN:VEVENT
DTSTAMP:20260422T164630
DTSTART;TZID=Europe/Berlin:20260416T150000
DTEND;TZID=Europe/Berlin:20260416T170000
UID:261GG60710-20260416T150000@VHSUNTERLAND
SUMMARY:Mathematik Power-Kurs Vorbereitung auf die Realschul-Abschlussprüfung (261GG60710) 
LOCATION:gg Realschule, Wilhelm-Arnold-Platz 1, 74363 Güglingen
END:VEVENT
BEGIN:VEVENT
DTSTAMP:20260422T164630
DTSTART;TZID=Europe/Berlin:20260423T150000
DTEND;TZID=Europe/Berlin:20260423T170000
UID:261GG60710-20260423T150000@VHSUNTERLAND
SUMMARY:Mathematik Power-Kurs Vorbereitung auf die Realschul-Abschlussprüfung (261GG60710) 
LOCATION:gg Realschule, Wilhelm-Arnold-Platz 1, 74363 Güglingen
END:VEVENT
BEGIN:VEVENT
DTSTAMP:20260422T164630
DTSTART;TZID=Europe/Berlin:20260430T150000
DTEND;TZID=Europe/Berlin:20260430T170000
UID:261GG60710-20260430T150000@VHSUNTERLAND
SUMMARY:Mathematik Power-Kurs Vorbereitung auf die Realschul-Abschlussprüfung (261GG60710) 
LOCATION:gg Realschule, Wilhelm-Arnold-Platz 1, 74363 Güglingen
END:VEVENT
END:VCALENDAR