BEGIN:VCALENDAR
VERSION:2.0
PRODID:http://www.kufer.de/kuferweb / DE
METHOD:PUBLISH
CALSCALE:GREGORIAN
X-WR-TIMEZONE:Europe/Berlin
BEGIN:VTIMEZONE
TZID:Europe/Berlin
X-LIC-LOCATION:Europe/Berlin
BEGIN:DAYLIGHT
TZOFFSETFROM:+0100
TZOFFSETTO:+0200
TZNAME:CEST
DTSTART;TZID=Europe/Berlin:19700329T020000
RRULE:FREQ=YEARLY;INTERVAL=1;BYDAY=-1SU;BYMONTH=3
END:DAYLIGHT
BEGIN:STANDARD
TZOFFSETFROM:+0200
TZOFFSETTO:+0100
TZNAME:CET
DTSTART;TZID=Europe/Berlin:19701025T030000
RRULE:FREQ=YEARLY;INTERVAL=1;BYDAY=-1SU;BYMONTH=10
END:STANDARD
END:VTIMEZONE
BEGIN:VEVENT
DTSTAMP:20260422T210208
DTSTART;TZID=Europe/Berlin:20260318T091500
DTEND;TZID=Europe/Berlin:20260318T101500
UID:261GG30221-20260318T091500@VHSUNTERLAND
SUMMARY:Wirbelsäulengymnastik (261GG30221) 
LOCATION:gg Riedfurthalle, Jakobsäckerstraße 3, 74363 Güglingen
END:VEVENT
BEGIN:VEVENT
DTSTAMP:20260422T210208
DTSTART;TZID=Europe/Berlin:20260325T091500
DTEND;TZID=Europe/Berlin:20260325T101500
UID:261GG30221-20260325T091500@VHSUNTERLAND
SUMMARY:Wirbelsäulengymnastik (261GG30221) 
LOCATION:gg Riedfurthalle, Jakobsäckerstraße 3, 74363 Güglingen
END:VEVENT
BEGIN:VEVENT
DTSTAMP:20260422T210208
DTSTART;TZID=Europe/Berlin:20260415T091500
DTEND;TZID=Europe/Berlin:20260415T101500
UID:261GG30221-20260415T091500@VHSUNTERLAND
SUMMARY:Wirbelsäulengymnastik (261GG30221) 
LOCATION:gg Riedfurthalle, Jakobsäckerstraße 3, 74363 Güglingen
END:VEVENT
BEGIN:VEVENT
DTSTAMP:20260422T210208
DTSTART;TZID=Europe/Berlin:20260422T091500
DTEND;TZID=Europe/Berlin:20260422T101500
UID:261GG30221-20260422T091500@VHSUNTERLAND
SUMMARY:Wirbelsäulengymnastik (261GG30221) 
LOCATION:gg Riedfurthalle, Jakobsäckerstraße 3, 74363 Güglingen
END:VEVENT
BEGIN:VEVENT
DTSTAMP:20260422T210208
DTSTART;TZID=Europe/Berlin:20260429T091500
DTEND;TZID=Europe/Berlin:20260429T101500
UID:261GG30221-20260429T091500@VHSUNTERLAND
SUMMARY:Wirbelsäulengymnastik (261GG30221) 
LOCATION:gg Riedfurthalle, Jakobsäckerstraße 3, 74363 Güglingen
END:VEVENT
BEGIN:VEVENT
DTSTAMP:20260422T210208
DTSTART;TZID=Europe/Berlin:20260506T091500
DTEND;TZID=Europe/Berlin:20260506T101500
UID:261GG30221-20260506T091500@VHSUNTERLAND
SUMMARY:Wirbelsäulengymnastik (261GG30221) 
LOCATION:gg Riedfurthalle, Jakobsäckerstraße 3, 74363 Güglingen
END:VEVENT
BEGIN:VEVENT
DTSTAMP:20260422T210208
DTSTART;TZID=Europe/Berlin:20260513T091500
DTEND;TZID=Europe/Berlin:20260513T101500
UID:261GG30221-20260513T091500@VHSUNTERLAND
SUMMARY:Wirbelsäulengymnastik (261GG30221) 
LOCATION:gg Riedfurthalle, Jakobsäckerstraße 3, 74363 Güglingen
END:VEVENT
BEGIN:VEVENT
DTSTAMP:20260422T210208
DTSTART;TZID=Europe/Berlin:20260520T091500
DTEND;TZID=Europe/Berlin:20260520T101500
UID:261GG30221-20260520T091500@VHSUNTERLAND
SUMMARY:Wirbelsäulengymnastik (261GG30221) 
LOCATION:gg Riedfurthalle, Jakobsäckerstraße 3, 74363 Güglingen
END:VEVENT
BEGIN:VEVENT
DTSTAMP:20260422T210208
DTSTART;TZID=Europe/Berlin:20260610T091500
DTEND;TZID=Europe/Berlin:20260610T101500
UID:261GG30221-20260610T091500@VHSUNTERLAND
SUMMARY:Wirbelsäulengymnastik (261GG30221) 
LOCATION:gg Riedfurthalle, Jakobsäckerstraße 3, 74363 Güglingen
END:VEVENT
BEGIN:VEVENT
DTSTAMP:20260422T210208
DTSTART;TZID=Europe/Berlin:20260617T091500
DTEND;TZID=Europe/Berlin:20260617T101500
UID:261GG30221-20260617T091500@VHSUNTERLAND
SUMMARY:Wirbelsäulengymnastik (261GG30221) 
LOCATION:gg Riedfurthalle, Jakobsäckerstraße 3, 74363 Güglingen
END:VEVENT
BEGIN:VEVENT
DTSTAMP:20260422T210208
DTSTART;TZID=Europe/Berlin:20260624T091500
DTEND;TZID=Europe/Berlin:20260624T101500
UID:261GG30221-20260624T091500@VHSUNTERLAND
SUMMARY:Wirbelsäulengymnastik (261GG30221) 
LOCATION:gg Riedfurthalle, Jakobsäckerstraße 3, 74363 Güglingen
END:VEVENT
BEGIN:VEVENT
DTSTAMP:20260422T210208
DTSTART;TZID=Europe/Berlin:20260701T091500
DTEND;TZID=Europe/Berlin:20260701T101500
UID:261GG30221-20260701T091500@VHSUNTERLAND
SUMMARY:Wirbelsäulengymnastik (261GG30221) 
LOCATION:gg Riedfurthalle, Jakobsäckerstraße 3, 74363 Güglingen
END:VEVENT
BEGIN:VEVENT
DTSTAMP:20260422T210208
DTSTART;TZID=Europe/Berlin:20260708T091500
DTEND;TZID=Europe/Berlin:20260708T101500
UID:261GG30221-20260708T091500@VHSUNTERLAND
SUMMARY:Wirbelsäulengymnastik (261GG30221) 
LOCATION:gg Riedfurthalle, Jakobsäckerstraße 3, 74363 Güglingen
END:VEVENT
BEGIN:VEVENT
DTSTAMP:20260422T210208
DTSTART;TZID=Europe/Berlin:20260715T091500
DTEND;TZID=Europe/Berlin:20260715T101500
UID:261GG30221-20260715T091500@VHSUNTERLAND
SUMMARY:Wirbelsäulengymnastik (261GG30221) 
LOCATION:gg Riedfurthalle, Jakobsäckerstraße 3, 74363 Güglingen
END:VEVENT
BEGIN:VEVENT
DTSTAMP:20260422T210208
DTSTART;TZID=Europe/Berlin:20260722T091500
DTEND;TZID=Europe/Berlin:20260722T101500
UID:261GG30221-20260722T091500@VHSUNTERLAND
SUMMARY:Wirbelsäulengymnastik (261GG30221) 
LOCATION:gg Riedfurthalle, Jakobsäckerstraße 3, 74363 Güglingen
END:VEVENT
BEGIN:VEVENT
DTSTAMP:20260422T210208
DTSTART;TZID=Europe/Berlin:20260729T091500
DTEND;TZID=Europe/Berlin:20260729T101500
UID:261GG30221-20260729T091500@VHSUNTERLAND
SUMMARY:Wirbelsäulengymnastik (261GG30221) 
LOCATION:gg Riedfurthalle, Jakobsäckerstraße 3, 74363 Güglingen
END:VEVENT
END:VCALENDAR