BEGIN:VCALENDAR
VERSION:2.0
PRODID:http://www.kufer.de/kuferweb / DE
METHOD:PUBLISH
CALSCALE:GREGORIAN
X-WR-TIMEZONE:Europe/Berlin
BEGIN:VTIMEZONE
TZID:Europe/Berlin
X-LIC-LOCATION:Europe/Berlin
BEGIN:DAYLIGHT
TZOFFSETFROM:+0100
TZOFFSETTO:+0200
TZNAME:CEST
DTSTART;TZID=Europe/Berlin:19700329T020000
RRULE:FREQ=YEARLY;INTERVAL=1;BYDAY=-1SU;BYMONTH=3
END:DAYLIGHT
BEGIN:STANDARD
TZOFFSETFROM:+0200
TZOFFSETTO:+0100
TZNAME:CET
DTSTART;TZID=Europe/Berlin:19701025T030000
RRULE:FREQ=YEARLY;INTERVAL=1;BYDAY=-1SU;BYMONTH=10
END:STANDARD
END:VTIMEZONE
BEGIN:VEVENT
DTSTAMP:20260423T080145
DTSTART;TZID=Europe/Berlin:20260317T091500
DTEND;TZID=Europe/Berlin:20260317T101500
UID:261GG30220-20260317T091500@VHSUNTERLAND
SUMMARY:Wirbelsäulengymnastik (261GG30220) 
LOCATION:gg Riedfurthalle, Jakobsäckerstraße 3, 74363 Güglingen
END:VEVENT
BEGIN:VEVENT
DTSTAMP:20260423T080145
DTSTART;TZID=Europe/Berlin:20260324T091500
DTEND;TZID=Europe/Berlin:20260324T101500
UID:261GG30220-20260324T091500@VHSUNTERLAND
SUMMARY:Wirbelsäulengymnastik (261GG30220) 
LOCATION:gg Riedfurthalle, Jakobsäckerstraße 3, 74363 Güglingen
END:VEVENT
BEGIN:VEVENT
DTSTAMP:20260423T080145
DTSTART;TZID=Europe/Berlin:20260414T091500
DTEND;TZID=Europe/Berlin:20260414T101500
UID:261GG30220-20260414T091500@VHSUNTERLAND
SUMMARY:Wirbelsäulengymnastik (261GG30220) 
LOCATION:gg Riedfurthalle, Jakobsäckerstraße 3, 74363 Güglingen
END:VEVENT
BEGIN:VEVENT
DTSTAMP:20260423T080145
DTSTART;TZID=Europe/Berlin:20260421T091500
DTEND;TZID=Europe/Berlin:20260421T101500
UID:261GG30220-20260421T091500@VHSUNTERLAND
SUMMARY:Wirbelsäulengymnastik (261GG30220) 
LOCATION:gg Riedfurthalle, Jakobsäckerstraße 3, 74363 Güglingen
END:VEVENT
BEGIN:VEVENT
DTSTAMP:20260423T080145
DTSTART;TZID=Europe/Berlin:20260428T091500
DTEND;TZID=Europe/Berlin:20260428T101500
UID:261GG30220-20260428T091500@VHSUNTERLAND
SUMMARY:Wirbelsäulengymnastik (261GG30220) 
LOCATION:gg Riedfurthalle, Jakobsäckerstraße 3, 74363 Güglingen
END:VEVENT
BEGIN:VEVENT
DTSTAMP:20260423T080145
DTSTART;TZID=Europe/Berlin:20260505T091500
DTEND;TZID=Europe/Berlin:20260505T101500
UID:261GG30220-20260505T091500@VHSUNTERLAND
SUMMARY:Wirbelsäulengymnastik (261GG30220) 
LOCATION:gg Riedfurthalle, Jakobsäckerstraße 3, 74363 Güglingen
END:VEVENT
BEGIN:VEVENT
DTSTAMP:20260423T080145
DTSTART;TZID=Europe/Berlin:20260512T091500
DTEND;TZID=Europe/Berlin:20260512T101500
UID:261GG30220-20260512T091500@VHSUNTERLAND
SUMMARY:Wirbelsäulengymnastik (261GG30220) 
LOCATION:gg Riedfurthalle, Jakobsäckerstraße 3, 74363 Güglingen
END:VEVENT
BEGIN:VEVENT
DTSTAMP:20260423T080145
DTSTART;TZID=Europe/Berlin:20260519T091500
DTEND;TZID=Europe/Berlin:20260519T101500
UID:261GG30220-20260519T091500@VHSUNTERLAND
SUMMARY:Wirbelsäulengymnastik (261GG30220) 
LOCATION:gg Riedfurthalle, Jakobsäckerstraße 3, 74363 Güglingen
END:VEVENT
BEGIN:VEVENT
DTSTAMP:20260423T080145
DTSTART;TZID=Europe/Berlin:20260609T091500
DTEND;TZID=Europe/Berlin:20260609T101500
UID:261GG30220-20260609T091500@VHSUNTERLAND
SUMMARY:Wirbelsäulengymnastik (261GG30220) 
LOCATION:gg Riedfurthalle, Jakobsäckerstraße 3, 74363 Güglingen
END:VEVENT
BEGIN:VEVENT
DTSTAMP:20260423T080145
DTSTART;TZID=Europe/Berlin:20260616T091500
DTEND;TZID=Europe/Berlin:20260616T101500
UID:261GG30220-20260616T091500@VHSUNTERLAND
SUMMARY:Wirbelsäulengymnastik (261GG30220) 
LOCATION:gg Riedfurthalle, Jakobsäckerstraße 3, 74363 Güglingen
END:VEVENT
BEGIN:VEVENT
DTSTAMP:20260423T080145
DTSTART;TZID=Europe/Berlin:20260623T091500
DTEND;TZID=Europe/Berlin:20260623T101500
UID:261GG30220-20260623T091500@VHSUNTERLAND
SUMMARY:Wirbelsäulengymnastik (261GG30220) 
LOCATION:gg Riedfurthalle, Jakobsäckerstraße 3, 74363 Güglingen
END:VEVENT
BEGIN:VEVENT
DTSTAMP:20260423T080145
DTSTART;TZID=Europe/Berlin:20260630T091500
DTEND;TZID=Europe/Berlin:20260630T101500
UID:261GG30220-20260630T091500@VHSUNTERLAND
SUMMARY:Wirbelsäulengymnastik (261GG30220) 
LOCATION:gg Riedfurthalle, Jakobsäckerstraße 3, 74363 Güglingen
END:VEVENT
BEGIN:VEVENT
DTSTAMP:20260423T080145
DTSTART;TZID=Europe/Berlin:20260707T091500
DTEND;TZID=Europe/Berlin:20260707T101500
UID:261GG30220-20260707T091500@VHSUNTERLAND
SUMMARY:Wirbelsäulengymnastik (261GG30220) 
LOCATION:gg Riedfurthalle, Jakobsäckerstraße 3, 74363 Güglingen
END:VEVENT
BEGIN:VEVENT
DTSTAMP:20260423T080145
DTSTART;TZID=Europe/Berlin:20260714T091500
DTEND;TZID=Europe/Berlin:20260714T101500
UID:261GG30220-20260714T091500@VHSUNTERLAND
SUMMARY:Wirbelsäulengymnastik (261GG30220) 
LOCATION:gg Riedfurthalle, Jakobsäckerstraße 3, 74363 Güglingen
END:VEVENT
BEGIN:VEVENT
DTSTAMP:20260423T080145
DTSTART;TZID=Europe/Berlin:20260721T091500
DTEND;TZID=Europe/Berlin:20260721T101500
UID:261GG30220-20260721T091500@VHSUNTERLAND
SUMMARY:Wirbelsäulengymnastik (261GG30220) 
LOCATION:gg Riedfurthalle, Jakobsäckerstraße 3, 74363 Güglingen
END:VEVENT
BEGIN:VEVENT
DTSTAMP:20260423T080145
DTSTART;TZID=Europe/Berlin:20260728T091500
DTEND;TZID=Europe/Berlin:20260728T101500
UID:261GG30220-20260728T091500@VHSUNTERLAND
SUMMARY:Wirbelsäulengymnastik (261GG30220) 
LOCATION:gg Riedfurthalle, Jakobsäckerstraße 3, 74363 Güglingen
END:VEVENT
END:VCALENDAR