BEGIN:VCALENDAR
VERSION:2.0
PRODID:http://www.kufer.de/kuferweb / DE
METHOD:PUBLISH
CALSCALE:GREGORIAN
X-WR-TIMEZONE:Europe/Berlin
BEGIN:VTIMEZONE
TZID:Europe/Berlin
X-LIC-LOCATION:Europe/Berlin
BEGIN:DAYLIGHT
TZOFFSETFROM:+0100
TZOFFSETTO:+0200
TZNAME:CEST
DTSTART;TZID=Europe/Berlin:19700329T020000
RRULE:FREQ=YEARLY;INTERVAL=1;BYDAY=-1SU;BYMONTH=3
END:DAYLIGHT
BEGIN:STANDARD
TZOFFSETFROM:+0200
TZOFFSETTO:+0100
TZNAME:CET
DTSTART;TZID=Europe/Berlin:19701025T030000
RRULE:FREQ=YEARLY;INTERVAL=1;BYDAY=-1SU;BYMONTH=10
END:STANDARD
END:VTIMEZONE
BEGIN:VEVENT
DTSTAMP:20260423T110056
DTSTART;TZID=Europe/Berlin:20260223T091500
DTEND;TZID=Europe/Berlin:20260223T103000
UID:261GG30131-20260223T091500@VHSUNTERLAND
SUMMARY:Hatha Yoga (261GG30131) 
LOCATION:gg Mediothek, Veranstaltungsraum, Wilhelm-Arnold-Platz 5, 74363 Güglingen
END:VEVENT
BEGIN:VEVENT
DTSTAMP:20260423T110056
DTSTART;TZID=Europe/Berlin:20260302T091500
DTEND;TZID=Europe/Berlin:20260302T103000
UID:261GG30131-20260302T091500@VHSUNTERLAND
SUMMARY:Hatha Yoga (261GG30131) 
LOCATION:gg Mediothek, Veranstaltungsraum, Wilhelm-Arnold-Platz 5, 74363 Güglingen
END:VEVENT
BEGIN:VEVENT
DTSTAMP:20260423T110056
DTSTART;TZID=Europe/Berlin:20260309T091500
DTEND;TZID=Europe/Berlin:20260309T103000
UID:261GG30131-20260309T091500@VHSUNTERLAND
SUMMARY:Hatha Yoga (261GG30131) 
LOCATION:gg Mediothek, Veranstaltungsraum, Wilhelm-Arnold-Platz 5, 74363 Güglingen
END:VEVENT
BEGIN:VEVENT
DTSTAMP:20260423T110056
DTSTART;TZID=Europe/Berlin:20260316T091500
DTEND;TZID=Europe/Berlin:20260316T103000
UID:261GG30131-20260316T091500@VHSUNTERLAND
SUMMARY:Hatha Yoga (261GG30131) 
LOCATION:gg Mediothek, Veranstaltungsraum, Wilhelm-Arnold-Platz 5, 74363 Güglingen
END:VEVENT
BEGIN:VEVENT
DTSTAMP:20260423T110056
DTSTART;TZID=Europe/Berlin:20260323T091500
DTEND;TZID=Europe/Berlin:20260323T103000
UID:261GG30131-20260323T091500@VHSUNTERLAND
SUMMARY:Hatha Yoga (261GG30131) 
LOCATION:gg Mediothek, Veranstaltungsraum, Wilhelm-Arnold-Platz 5, 74363 Güglingen
END:VEVENT
BEGIN:VEVENT
DTSTAMP:20260423T110056
DTSTART;TZID=Europe/Berlin:20260413T091500
DTEND;TZID=Europe/Berlin:20260413T103000
UID:261GG30131-20260413T091500@VHSUNTERLAND
SUMMARY:Hatha Yoga (261GG30131) 
LOCATION:gg Mediothek, Veranstaltungsraum, Wilhelm-Arnold-Platz 5, 74363 Güglingen
END:VEVENT
BEGIN:VEVENT
DTSTAMP:20260423T110056
DTSTART;TZID=Europe/Berlin:20260420T091500
DTEND;TZID=Europe/Berlin:20260420T103000
UID:261GG30131-20260420T091500@VHSUNTERLAND
SUMMARY:Hatha Yoga (261GG30131) 
LOCATION:gg Mediothek, Veranstaltungsraum, Wilhelm-Arnold-Platz 5, 74363 Güglingen
END:VEVENT
BEGIN:VEVENT
DTSTAMP:20260423T110056
DTSTART;TZID=Europe/Berlin:20260427T091500
DTEND;TZID=Europe/Berlin:20260427T103000
UID:261GG30131-20260427T091500@VHSUNTERLAND
SUMMARY:Hatha Yoga (261GG30131) 
LOCATION:gg Mediothek, Veranstaltungsraum, Wilhelm-Arnold-Platz 5, 74363 Güglingen
END:VEVENT
BEGIN:VEVENT
DTSTAMP:20260423T110056
DTSTART;TZID=Europe/Berlin:20260504T091500
DTEND;TZID=Europe/Berlin:20260504T103000
UID:261GG30131-20260504T091500@VHSUNTERLAND
SUMMARY:Hatha Yoga (261GG30131) 
LOCATION:gg Mediothek, Veranstaltungsraum, Wilhelm-Arnold-Platz 5, 74363 Güglingen
END:VEVENT
BEGIN:VEVENT
DTSTAMP:20260423T110056
DTSTART;TZID=Europe/Berlin:20260511T091500
DTEND;TZID=Europe/Berlin:20260511T103000
UID:261GG30131-20260511T091500@VHSUNTERLAND
SUMMARY:Hatha Yoga (261GG30131) 
LOCATION:gg Mediothek, Veranstaltungsraum, Wilhelm-Arnold-Platz 5, 74363 Güglingen
END:VEVENT
BEGIN:VEVENT
DTSTAMP:20260423T110056
DTSTART;TZID=Europe/Berlin:20260518T091500
DTEND;TZID=Europe/Berlin:20260518T103000
UID:261GG30131-20260518T091500@VHSUNTERLAND
SUMMARY:Hatha Yoga (261GG30131) 
LOCATION:gg Mediothek, Veranstaltungsraum, Wilhelm-Arnold-Platz 5, 74363 Güglingen
END:VEVENT
BEGIN:VEVENT
DTSTAMP:20260423T110056
DTSTART;TZID=Europe/Berlin:20260608T091500
DTEND;TZID=Europe/Berlin:20260608T103000
UID:261GG30131-20260608T091500@VHSUNTERLAND
SUMMARY:Hatha Yoga (261GG30131) 
LOCATION:gg Mediothek, Veranstaltungsraum, Wilhelm-Arnold-Platz 5, 74363 Güglingen
END:VEVENT
BEGIN:VEVENT
DTSTAMP:20260423T110056
DTSTART;TZID=Europe/Berlin:20260615T091500
DTEND;TZID=Europe/Berlin:20260615T103000
UID:261GG30131-20260615T091500@VHSUNTERLAND
SUMMARY:Hatha Yoga (261GG30131) 
LOCATION:gg Mediothek, Veranstaltungsraum, Wilhelm-Arnold-Platz 5, 74363 Güglingen
END:VEVENT
BEGIN:VEVENT
DTSTAMP:20260423T110056
DTSTART;TZID=Europe/Berlin:20260622T091500
DTEND;TZID=Europe/Berlin:20260622T103000
UID:261GG30131-20260622T091500@VHSUNTERLAND
SUMMARY:Hatha Yoga (261GG30131) 
LOCATION:gg Mediothek, Veranstaltungsraum, Wilhelm-Arnold-Platz 5, 74363 Güglingen
END:VEVENT
BEGIN:VEVENT
DTSTAMP:20260423T110056
DTSTART;TZID=Europe/Berlin:20260629T091500
DTEND;TZID=Europe/Berlin:20260629T103000
UID:261GG30131-20260629T091500@VHSUNTERLAND
SUMMARY:Hatha Yoga (261GG30131) 
LOCATION:gg Mediothek, Veranstaltungsraum, Wilhelm-Arnold-Platz 5, 74363 Güglingen
END:VEVENT
END:VCALENDAR