BEGIN:VCALENDAR
VERSION:2.0
PRODID:http://www.kufer.de/kuferweb / DE
METHOD:PUBLISH
CALSCALE:GREGORIAN
X-WR-TIMEZONE:Europe/Berlin
BEGIN:VTIMEZONE
TZID:Europe/Berlin
X-LIC-LOCATION:Europe/Berlin
BEGIN:DAYLIGHT
TZOFFSETFROM:+0100
TZOFFSETTO:+0200
TZNAME:CEST
DTSTART;TZID=Europe/Berlin:19700329T020000
RRULE:FREQ=YEARLY;INTERVAL=1;BYDAY=-1SU;BYMONTH=3
END:DAYLIGHT
BEGIN:STANDARD
TZOFFSETFROM:+0200
TZOFFSETTO:+0100
TZNAME:CET
DTSTART;TZID=Europe/Berlin:19701025T030000
RRULE:FREQ=YEARLY;INTERVAL=1;BYDAY=-1SU;BYMONTH=10
END:STANDARD
END:VTIMEZONE
BEGIN:VEVENT
DTSTAMP:20260422T092706
DTSTART;TZID=Europe/Berlin:20260223T171500
DTEND;TZID=Europe/Berlin:20260223T181500
UID:261GG30110-20260223T171500@VHSUNTERLAND
SUMMARY:Pilates (261GG30110) 
LOCATION:gg Alte Schule Frauenzimmern, Brackenheimer Straße 71, 74363 Güglingen
END:VEVENT
BEGIN:VEVENT
DTSTAMP:20260422T092706
DTSTART;TZID=Europe/Berlin:20260302T171500
DTEND;TZID=Europe/Berlin:20260302T181500
UID:261GG30110-20260302T171500@VHSUNTERLAND
SUMMARY:Pilates (261GG30110) 
LOCATION:gg Alte Schule Frauenzimmern, Brackenheimer Straße 71, 74363 Güglingen
END:VEVENT
BEGIN:VEVENT
DTSTAMP:20260422T092706
DTSTART;TZID=Europe/Berlin:20260309T171500
DTEND;TZID=Europe/Berlin:20260309T181500
UID:261GG30110-20260309T171500@VHSUNTERLAND
SUMMARY:Pilates (261GG30110) 
LOCATION:gg Alte Schule Frauenzimmern, Brackenheimer Straße 71, 74363 Güglingen
END:VEVENT
BEGIN:VEVENT
DTSTAMP:20260422T092706
DTSTART;TZID=Europe/Berlin:20260316T171500
DTEND;TZID=Europe/Berlin:20260316T181500
UID:261GG30110-20260316T171500@VHSUNTERLAND
SUMMARY:Pilates (261GG30110) 
LOCATION:gg Alte Schule Frauenzimmern, Brackenheimer Straße 71, 74363 Güglingen
END:VEVENT
BEGIN:VEVENT
DTSTAMP:20260422T092706
DTSTART;TZID=Europe/Berlin:20260323T171500
DTEND;TZID=Europe/Berlin:20260323T181500
UID:261GG30110-20260323T171500@VHSUNTERLAND
SUMMARY:Pilates (261GG30110) 
LOCATION:gg Alte Schule Frauenzimmern, Brackenheimer Straße 71, 74363 Güglingen
END:VEVENT
BEGIN:VEVENT
DTSTAMP:20260422T092706
DTSTART;TZID=Europe/Berlin:20260413T171500
DTEND;TZID=Europe/Berlin:20260413T181500
UID:261GG30110-20260413T171500@VHSUNTERLAND
SUMMARY:Pilates (261GG30110) 
LOCATION:gg Alte Schule Frauenzimmern, Brackenheimer Straße 71, 74363 Güglingen
END:VEVENT
BEGIN:VEVENT
DTSTAMP:20260422T092706
DTSTART;TZID=Europe/Berlin:20260427T171500
DTEND;TZID=Europe/Berlin:20260427T181500
UID:261GG30110-20260427T171500@VHSUNTERLAND
SUMMARY:Pilates (261GG30110) 
LOCATION:gg Alte Schule Frauenzimmern, Brackenheimer Straße 71, 74363 Güglingen
END:VEVENT
BEGIN:VEVENT
DTSTAMP:20260422T092706
DTSTART;TZID=Europe/Berlin:20260504T171500
DTEND;TZID=Europe/Berlin:20260504T181500
UID:261GG30110-20260504T171500@VHSUNTERLAND
SUMMARY:Pilates (261GG30110) 
LOCATION:gg Alte Schule Frauenzimmern, Brackenheimer Straße 71, 74363 Güglingen
END:VEVENT
BEGIN:VEVENT
DTSTAMP:20260422T092706
DTSTART;TZID=Europe/Berlin:20260511T171500
DTEND;TZID=Europe/Berlin:20260511T181500
UID:261GG30110-20260511T171500@VHSUNTERLAND
SUMMARY:Pilates (261GG30110) 
LOCATION:gg Alte Schule Frauenzimmern, Brackenheimer Straße 71, 74363 Güglingen
END:VEVENT
BEGIN:VEVENT
DTSTAMP:20260422T092706
DTSTART;TZID=Europe/Berlin:20260518T171500
DTEND;TZID=Europe/Berlin:20260518T181500
UID:261GG30110-20260518T171500@VHSUNTERLAND
SUMMARY:Pilates (261GG30110) 
LOCATION:gg Alte Schule Frauenzimmern, Brackenheimer Straße 71, 74363 Güglingen
END:VEVENT
BEGIN:VEVENT
DTSTAMP:20260422T092706
DTSTART;TZID=Europe/Berlin:20260608T171500
DTEND;TZID=Europe/Berlin:20260608T181500
UID:261GG30110-20260608T171500@VHSUNTERLAND
SUMMARY:Pilates (261GG30110) 
LOCATION:gg Alte Schule Frauenzimmern, Brackenheimer Straße 71, 74363 Güglingen
END:VEVENT
BEGIN:VEVENT
DTSTAMP:20260422T092706
DTSTART;TZID=Europe/Berlin:20260615T171500
DTEND;TZID=Europe/Berlin:20260615T181500
UID:261GG30110-20260615T171500@VHSUNTERLAND
SUMMARY:Pilates (261GG30110) 
LOCATION:gg Alte Schule Frauenzimmern, Brackenheimer Straße 71, 74363 Güglingen
END:VEVENT
BEGIN:VEVENT
DTSTAMP:20260422T092706
DTSTART;TZID=Europe/Berlin:20260622T171500
DTEND;TZID=Europe/Berlin:20260622T181500
UID:261GG30110-20260622T171500@VHSUNTERLAND
SUMMARY:Pilates (261GG30110) 
LOCATION:gg Alte Schule Frauenzimmern, Brackenheimer Straße 71, 74363 Güglingen
END:VEVENT
BEGIN:VEVENT
DTSTAMP:20260422T092706
DTSTART;TZID=Europe/Berlin:20260629T171500
DTEND;TZID=Europe/Berlin:20260629T181500
UID:261GG30110-20260629T171500@VHSUNTERLAND
SUMMARY:Pilates (261GG30110) 
LOCATION:gg Alte Schule Frauenzimmern, Brackenheimer Straße 71, 74363 Güglingen
END:VEVENT
END:VCALENDAR