BEGIN:VCALENDAR
VERSION:2.0
PRODID:http://www.kufer.de/kuferweb / DE
METHOD:PUBLISH
CALSCALE:GREGORIAN
X-WR-TIMEZONE:Europe/Berlin
BEGIN:VTIMEZONE
TZID:Europe/Berlin
X-LIC-LOCATION:Europe/Berlin
BEGIN:DAYLIGHT
TZOFFSETFROM:+0100
TZOFFSETTO:+0200
TZNAME:CEST
DTSTART;TZID=Europe/Berlin:19700329T020000
RRULE:FREQ=YEARLY;INTERVAL=1;BYDAY=-1SU;BYMONTH=3
END:DAYLIGHT
BEGIN:STANDARD
TZOFFSETFROM:+0200
TZOFFSETTO:+0100
TZNAME:CET
DTSTART;TZID=Europe/Berlin:19701025T030000
RRULE:FREQ=YEARLY;INTERVAL=1;BYDAY=-1SU;BYMONTH=10
END:STANDARD
END:VTIMEZONE
BEGIN:VEVENT
DTSTAMP:20260423T080235
DTSTART;TZID=Europe/Berlin:20260310T181500
DTEND;TZID=Europe/Berlin:20260310T191500
UID:261EL30260-20260310T181500@VHSUNTERLAND
SUMMARY:Fitnessgymnastik 50+ (261EL30260) 
LOCATION:el Gemeindehalle, großer Saal, Hauptstraße 21, 74248 Ellhofen
END:VEVENT
BEGIN:VEVENT
DTSTAMP:20260423T080235
DTSTART;TZID=Europe/Berlin:20260317T181500
DTEND;TZID=Europe/Berlin:20260317T191500
UID:261EL30260-20260317T181500@VHSUNTERLAND
SUMMARY:Fitnessgymnastik 50+ (261EL30260) 
LOCATION:el Gemeindehalle, großer Saal, Hauptstraße 21, 74248 Ellhofen
END:VEVENT
BEGIN:VEVENT
DTSTAMP:20260423T080235
DTSTART;TZID=Europe/Berlin:20260324T181500
DTEND;TZID=Europe/Berlin:20260324T191500
UID:261EL30260-20260324T181500@VHSUNTERLAND
SUMMARY:Fitnessgymnastik 50+ (261EL30260) 
LOCATION:el Gemeindehalle, großer Saal, Hauptstraße 21, 74248 Ellhofen
END:VEVENT
BEGIN:VEVENT
DTSTAMP:20260423T080235
DTSTART;TZID=Europe/Berlin:20260414T181500
DTEND;TZID=Europe/Berlin:20260414T191500
UID:261EL30260-20260414T181500@VHSUNTERLAND
SUMMARY:Fitnessgymnastik 50+ (261EL30260) 
LOCATION:el Gemeindehalle, großer Saal, Hauptstraße 21, 74248 Ellhofen
END:VEVENT
BEGIN:VEVENT
DTSTAMP:20260423T080235
DTSTART;TZID=Europe/Berlin:20260421T181500
DTEND;TZID=Europe/Berlin:20260421T191500
UID:261EL30260-20260421T181500@VHSUNTERLAND
SUMMARY:Fitnessgymnastik 50+ (261EL30260) 
LOCATION:el Gemeindehalle, großer Saal, Hauptstraße 21, 74248 Ellhofen
END:VEVENT
BEGIN:VEVENT
DTSTAMP:20260423T080235
DTSTART;TZID=Europe/Berlin:20260428T181500
DTEND;TZID=Europe/Berlin:20260428T191500
UID:261EL30260-20260428T181500@VHSUNTERLAND
SUMMARY:Fitnessgymnastik 50+ (261EL30260) 
LOCATION:el Gemeindehalle, großer Saal, Hauptstraße 21, 74248 Ellhofen
END:VEVENT
BEGIN:VEVENT
DTSTAMP:20260423T080235
DTSTART;TZID=Europe/Berlin:20260505T181500
DTEND;TZID=Europe/Berlin:20260505T191500
UID:261EL30260-20260505T181500@VHSUNTERLAND
SUMMARY:Fitnessgymnastik 50+ (261EL30260) 
LOCATION:el Gemeindehalle, großer Saal, Hauptstraße 21, 74248 Ellhofen
END:VEVENT
BEGIN:VEVENT
DTSTAMP:20260423T080235
DTSTART;TZID=Europe/Berlin:20260512T181500
DTEND;TZID=Europe/Berlin:20260512T191500
UID:261EL30260-20260512T181500@VHSUNTERLAND
SUMMARY:Fitnessgymnastik 50+ (261EL30260) 
LOCATION:el Gemeindehalle, großer Saal, Hauptstraße 21, 74248 Ellhofen
END:VEVENT
BEGIN:VEVENT
DTSTAMP:20260423T080235
DTSTART;TZID=Europe/Berlin:20260519T181500
DTEND;TZID=Europe/Berlin:20260519T191500
UID:261EL30260-20260519T181500@VHSUNTERLAND
SUMMARY:Fitnessgymnastik 50+ (261EL30260) 
LOCATION:el Gemeindehalle, großer Saal, Hauptstraße 21, 74248 Ellhofen
END:VEVENT
BEGIN:VEVENT
DTSTAMP:20260423T080235
DTSTART;TZID=Europe/Berlin:20260609T181500
DTEND;TZID=Europe/Berlin:20260609T191500
UID:261EL30260-20260609T181500@VHSUNTERLAND
SUMMARY:Fitnessgymnastik 50+ (261EL30260) 
LOCATION:el Gemeindehalle, großer Saal, Hauptstraße 21, 74248 Ellhofen
END:VEVENT
BEGIN:VEVENT
DTSTAMP:20260423T080235
DTSTART;TZID=Europe/Berlin:20260616T181500
DTEND;TZID=Europe/Berlin:20260616T191500
UID:261EL30260-20260616T181500@VHSUNTERLAND
SUMMARY:Fitnessgymnastik 50+ (261EL30260) 
LOCATION:el Gemeindehalle, großer Saal, Hauptstraße 21, 74248 Ellhofen
END:VEVENT
BEGIN:VEVENT
DTSTAMP:20260423T080235
DTSTART;TZID=Europe/Berlin:20260623T181500
DTEND;TZID=Europe/Berlin:20260623T191500
UID:261EL30260-20260623T181500@VHSUNTERLAND
SUMMARY:Fitnessgymnastik 50+ (261EL30260) 
LOCATION:el Gemeindehalle, großer Saal, Hauptstraße 21, 74248 Ellhofen
END:VEVENT
BEGIN:VEVENT
DTSTAMP:20260423T080235
DTSTART;TZID=Europe/Berlin:20260630T181500
DTEND;TZID=Europe/Berlin:20260630T191500
UID:261EL30260-20260630T181500@VHSUNTERLAND
SUMMARY:Fitnessgymnastik 50+ (261EL30260) 
LOCATION:el Gemeindehalle, großer Saal, Hauptstraße 21, 74248 Ellhofen
END:VEVENT
BEGIN:VEVENT
DTSTAMP:20260423T080235
DTSTART;TZID=Europe/Berlin:20260707T181500
DTEND;TZID=Europe/Berlin:20260707T191500
UID:261EL30260-20260707T181500@VHSUNTERLAND
SUMMARY:Fitnessgymnastik 50+ (261EL30260) 
LOCATION:el Gemeindehalle, großer Saal, Hauptstraße 21, 74248 Ellhofen
END:VEVENT
BEGIN:VEVENT
DTSTAMP:20260423T080235
DTSTART;TZID=Europe/Berlin:20260714T181500
DTEND;TZID=Europe/Berlin:20260714T191500
UID:261EL30260-20260714T181500@VHSUNTERLAND
SUMMARY:Fitnessgymnastik 50+ (261EL30260) 
LOCATION:el Gemeindehalle, großer Saal, Hauptstraße 21, 74248 Ellhofen
END:VEVENT
END:VCALENDAR