BEGIN:VCALENDAR
VERSION:2.0
PRODID:http://www.kufer.de/kuferweb / DE
METHOD:PUBLISH
CALSCALE:GREGORIAN
X-WR-TIMEZONE:Europe/Berlin
BEGIN:VTIMEZONE
TZID:Europe/Berlin
X-LIC-LOCATION:Europe/Berlin
BEGIN:DAYLIGHT
TZOFFSETFROM:+0100
TZOFFSETTO:+0200
TZNAME:CEST
DTSTART;TZID=Europe/Berlin:19700329T020000
RRULE:FREQ=YEARLY;INTERVAL=1;BYDAY=-1SU;BYMONTH=3
END:DAYLIGHT
BEGIN:STANDARD
TZOFFSETFROM:+0200
TZOFFSETTO:+0100
TZNAME:CET
DTSTART;TZID=Europe/Berlin:19701025T030000
RRULE:FREQ=YEARLY;INTERVAL=1;BYDAY=-1SU;BYMONTH=10
END:STANDARD
END:VTIMEZONE
BEGIN:VEVENT
DTSTAMP:20260423T080301
DTSTART;TZID=Europe/Berlin:20260305T163000
DTEND;TZID=Europe/Berlin:20260305T173000
UID:261EL30190-20260305T163000@VHSUNTERLAND
SUMMARY:Yoga  für Kinder von 6 - 12 Jahren (261EL30190) 
LOCATION:el Bürgerhaus, Bürgersaal, Kirchstraße 5, 74248 Ellhofen
END:VEVENT
BEGIN:VEVENT
DTSTAMP:20260423T080301
DTSTART;TZID=Europe/Berlin:20260312T163000
DTEND;TZID=Europe/Berlin:20260312T173000
UID:261EL30190-20260312T163000@VHSUNTERLAND
SUMMARY:Yoga  für Kinder von 6 - 12 Jahren (261EL30190) 
LOCATION:el Bürgerhaus, Bürgersaal, Kirchstraße 5, 74248 Ellhofen
END:VEVENT
BEGIN:VEVENT
DTSTAMP:20260423T080301
DTSTART;TZID=Europe/Berlin:20260319T163000
DTEND;TZID=Europe/Berlin:20260319T173000
UID:261EL30190-20260319T163000@VHSUNTERLAND
SUMMARY:Yoga  für Kinder von 6 - 12 Jahren (261EL30190) 
LOCATION:el Bürgerhaus, Bürgersaal, Kirchstraße 5, 74248 Ellhofen
END:VEVENT
BEGIN:VEVENT
DTSTAMP:20260423T080301
DTSTART;TZID=Europe/Berlin:20260326T163000
DTEND;TZID=Europe/Berlin:20260326T173000
UID:261EL30190-20260326T163000@VHSUNTERLAND
SUMMARY:Yoga  für Kinder von 6 - 12 Jahren (261EL30190) 
LOCATION:el Bürgerhaus, Bürgersaal, Kirchstraße 5, 74248 Ellhofen
END:VEVENT
BEGIN:VEVENT
DTSTAMP:20260423T080301
DTSTART;TZID=Europe/Berlin:20260416T163000
DTEND;TZID=Europe/Berlin:20260416T173000
UID:261EL30190-20260416T163000@VHSUNTERLAND
SUMMARY:Yoga  für Kinder von 6 - 12 Jahren (261EL30190) 
LOCATION:el Bürgerhaus, Bürgersaal, Kirchstraße 5, 74248 Ellhofen
END:VEVENT
END:VCALENDAR