BEGIN:VCALENDAR
VERSION:2.0
PRODID:http://www.kufer.de/kuferweb / DE
METHOD:PUBLISH
CALSCALE:GREGORIAN
X-WR-TIMEZONE:Europe/Berlin
BEGIN:VTIMEZONE
TZID:Europe/Berlin
X-LIC-LOCATION:Europe/Berlin
BEGIN:DAYLIGHT
TZOFFSETFROM:+0100
TZOFFSETTO:+0200
TZNAME:CEST
DTSTART;TZID=Europe/Berlin:19700329T020000
RRULE:FREQ=YEARLY;INTERVAL=1;BYDAY=-1SU;BYMONTH=3
END:DAYLIGHT
BEGIN:STANDARD
TZOFFSETFROM:+0200
TZOFFSETTO:+0100
TZNAME:CET
DTSTART;TZID=Europe/Berlin:19701025T030000
RRULE:FREQ=YEARLY;INTERVAL=1;BYDAY=-1SU;BYMONTH=10
END:STANDARD
END:VTIMEZONE
BEGIN:VEVENT
DTSTAMP:20260420T212833
DTSTART;TZID=Europe/Berlin:20260204T181000
DTEND;TZID=Europe/Berlin:20260204T191000
UID:261EB30222-20260204T181000@VHSUNTERLAND
SUMMARY:Wirbelsäulengymnastik (261EB30222) 
LOCATION:eb Mehrzweckhaus, Saal, Turmstraße 2, 74246 Eberstadt
END:VEVENT
BEGIN:VEVENT
DTSTAMP:20260420T212833
DTSTART;TZID=Europe/Berlin:20260211T181000
DTEND;TZID=Europe/Berlin:20260211T191000
UID:261EB30222-20260211T181000@VHSUNTERLAND
SUMMARY:Wirbelsäulengymnastik (261EB30222) 
LOCATION:eb Mehrzweckhaus, Saal, Turmstraße 2, 74246 Eberstadt
END:VEVENT
BEGIN:VEVENT
DTSTAMP:20260420T212833
DTSTART;TZID=Europe/Berlin:20260225T181000
DTEND;TZID=Europe/Berlin:20260225T191000
UID:261EB30222-20260225T181000@VHSUNTERLAND
SUMMARY:Wirbelsäulengymnastik (261EB30222) 
LOCATION:eb Mehrzweckhaus, Saal, Turmstraße 2, 74246 Eberstadt
END:VEVENT
BEGIN:VEVENT
DTSTAMP:20260420T212833
DTSTART;TZID=Europe/Berlin:20260304T181000
DTEND;TZID=Europe/Berlin:20260304T191000
UID:261EB30222-20260304T181000@VHSUNTERLAND
SUMMARY:Wirbelsäulengymnastik (261EB30222) 
LOCATION:eb Mehrzweckhaus, Saal, Turmstraße 2, 74246 Eberstadt
END:VEVENT
BEGIN:VEVENT
DTSTAMP:20260420T212833
DTSTART;TZID=Europe/Berlin:20260311T181000
DTEND;TZID=Europe/Berlin:20260311T191000
UID:261EB30222-20260311T181000@VHSUNTERLAND
SUMMARY:Wirbelsäulengymnastik (261EB30222) 
LOCATION:eb Mehrzweckhaus, Saal, Turmstraße 2, 74246 Eberstadt
END:VEVENT
BEGIN:VEVENT
DTSTAMP:20260420T212833
DTSTART;TZID=Europe/Berlin:20260318T181000
DTEND;TZID=Europe/Berlin:20260318T191000
UID:261EB30222-20260318T181000@VHSUNTERLAND
SUMMARY:Wirbelsäulengymnastik (261EB30222) 
LOCATION:eb Mehrzweckhaus, Saal, Turmstraße 2, 74246 Eberstadt
END:VEVENT
BEGIN:VEVENT
DTSTAMP:20260420T212833
DTSTART;TZID=Europe/Berlin:20260325T181000
DTEND;TZID=Europe/Berlin:20260325T191000
UID:261EB30222-20260325T181000@VHSUNTERLAND
SUMMARY:Wirbelsäulengymnastik (261EB30222) 
LOCATION:eb Mehrzweckhaus, Saal, Turmstraße 2, 74246 Eberstadt
END:VEVENT
BEGIN:VEVENT
DTSTAMP:20260420T212833
DTSTART;TZID=Europe/Berlin:20260415T181000
DTEND;TZID=Europe/Berlin:20260415T191000
UID:261EB30222-20260415T181000@VHSUNTERLAND
SUMMARY:Wirbelsäulengymnastik (261EB30222) 
LOCATION:eb Mehrzweckhaus, Saal, Turmstraße 2, 74246 Eberstadt
END:VEVENT
BEGIN:VEVENT
DTSTAMP:20260420T212833
DTSTART;TZID=Europe/Berlin:20260422T181000
DTEND;TZID=Europe/Berlin:20260422T191000
UID:261EB30222-20260422T181000@VHSUNTERLAND
SUMMARY:Wirbelsäulengymnastik (261EB30222) 
LOCATION:eb Mehrzweckhaus, Saal, Turmstraße 2, 74246 Eberstadt
END:VEVENT
BEGIN:VEVENT
DTSTAMP:20260420T212833
DTSTART;TZID=Europe/Berlin:20260429T181000
DTEND;TZID=Europe/Berlin:20260429T191000
UID:261EB30222-20260429T181000@VHSUNTERLAND
SUMMARY:Wirbelsäulengymnastik (261EB30222) 
LOCATION:eb Mehrzweckhaus, Saal, Turmstraße 2, 74246 Eberstadt
END:VEVENT
BEGIN:VEVENT
DTSTAMP:20260420T212833
DTSTART;TZID=Europe/Berlin:20260506T181000
DTEND;TZID=Europe/Berlin:20260506T191000
UID:261EB30222-20260506T181000@VHSUNTERLAND
SUMMARY:Wirbelsäulengymnastik (261EB30222) 
LOCATION:eb Mehrzweckhaus, Saal, Turmstraße 2, 74246 Eberstadt
END:VEVENT
BEGIN:VEVENT
DTSTAMP:20260420T212833
DTSTART;TZID=Europe/Berlin:20260513T181000
DTEND;TZID=Europe/Berlin:20260513T191000
UID:261EB30222-20260513T181000@VHSUNTERLAND
SUMMARY:Wirbelsäulengymnastik (261EB30222) 
LOCATION:eb Mehrzweckhaus, Saal, Turmstraße 2, 74246 Eberstadt
END:VEVENT
BEGIN:VEVENT
DTSTAMP:20260420T212833
DTSTART;TZID=Europe/Berlin:20260520T181000
DTEND;TZID=Europe/Berlin:20260520T191000
UID:261EB30222-20260520T181000@VHSUNTERLAND
SUMMARY:Wirbelsäulengymnastik (261EB30222) 
LOCATION:eb Mehrzweckhaus, Saal, Turmstraße 2, 74246 Eberstadt
END:VEVENT
BEGIN:VEVENT
DTSTAMP:20260420T212833
DTSTART;TZID=Europe/Berlin:20260610T181000
DTEND;TZID=Europe/Berlin:20260610T191000
UID:261EB30222-20260610T181000@VHSUNTERLAND
SUMMARY:Wirbelsäulengymnastik (261EB30222) 
LOCATION:eb Mehrzweckhaus, Saal, Turmstraße 2, 74246 Eberstadt
END:VEVENT
BEGIN:VEVENT
DTSTAMP:20260420T212833
DTSTART;TZID=Europe/Berlin:20260617T181000
DTEND;TZID=Europe/Berlin:20260617T191000
UID:261EB30222-20260617T181000@VHSUNTERLAND
SUMMARY:Wirbelsäulengymnastik (261EB30222) 
LOCATION:eb Mehrzweckhaus, Saal, Turmstraße 2, 74246 Eberstadt
END:VEVENT
END:VCALENDAR