BEGIN:VCALENDAR
VERSION:2.0
PRODID:http://www.kufer.de/kuferweb / DE
METHOD:PUBLISH
CALSCALE:GREGORIAN
X-WR-TIMEZONE:Europe/Berlin
BEGIN:VTIMEZONE
TZID:Europe/Berlin
X-LIC-LOCATION:Europe/Berlin
BEGIN:DAYLIGHT
TZOFFSETFROM:+0100
TZOFFSETTO:+0200
TZNAME:CEST
DTSTART;TZID=Europe/Berlin:19700329T020000
RRULE:FREQ=YEARLY;INTERVAL=1;BYDAY=-1SU;BYMONTH=3
END:DAYLIGHT
BEGIN:STANDARD
TZOFFSETFROM:+0200
TZOFFSETTO:+0100
TZNAME:CET
DTSTART;TZID=Europe/Berlin:19701025T030000
RRULE:FREQ=YEARLY;INTERVAL=1;BYDAY=-1SU;BYMONTH=10
END:STANDARD
END:VTIMEZONE
BEGIN:VEVENT
DTSTAMP:20260424T134245
DTSTART;TZID=Europe/Berlin:20260226T180000
DTEND;TZID=Europe/Berlin:20260226T191500
UID:261EB20515-20260226T180000@VHSUNTERLAND
SUMMARY:Line Dance  für Tänzer*innen mit 2,5 Jahren Line Dance-Erfahrung (261EB20515) 
LOCATION:eb Altes Schulhaus, 2. OG, Schulstraße 13, 74246 Eberstadt
END:VEVENT
BEGIN:VEVENT
DTSTAMP:20260424T134245
DTSTART;TZID=Europe/Berlin:20260305T180000
DTEND;TZID=Europe/Berlin:20260305T191500
UID:261EB20515-20260305T180000@VHSUNTERLAND
SUMMARY:Line Dance  für Tänzer*innen mit 2,5 Jahren Line Dance-Erfahrung (261EB20515) 
LOCATION:eb Altes Schulhaus, 2. OG, Schulstraße 13, 74246 Eberstadt
END:VEVENT
BEGIN:VEVENT
DTSTAMP:20260424T134245
DTSTART;TZID=Europe/Berlin:20260312T180000
DTEND;TZID=Europe/Berlin:20260312T191500
UID:261EB20515-20260312T180000@VHSUNTERLAND
SUMMARY:Line Dance  für Tänzer*innen mit 2,5 Jahren Line Dance-Erfahrung (261EB20515) 
LOCATION:eb Mehrzweckhaus, Saal, Turmstraße 2, 74246 Eberstadt
END:VEVENT
BEGIN:VEVENT
DTSTAMP:20260424T134245
DTSTART;TZID=Europe/Berlin:20260319T180000
DTEND;TZID=Europe/Berlin:20260319T191500
UID:261EB20515-20260319T180000@VHSUNTERLAND
SUMMARY:Line Dance  für Tänzer*innen mit 2,5 Jahren Line Dance-Erfahrung (261EB20515) 
LOCATION:eb Altes Schulhaus, 2. OG, Schulstraße 13, 74246 Eberstadt
END:VEVENT
BEGIN:VEVENT
DTSTAMP:20260424T134245
DTSTART;TZID=Europe/Berlin:20260326T180000
DTEND;TZID=Europe/Berlin:20260326T191500
UID:261EB20515-20260326T180000@VHSUNTERLAND
SUMMARY:Line Dance  für Tänzer*innen mit 2,5 Jahren Line Dance-Erfahrung (261EB20515) 
LOCATION:eb Altes Schulhaus, 2. OG, Schulstraße 13, 74246 Eberstadt
END:VEVENT
BEGIN:VEVENT
DTSTAMP:20260424T134245
DTSTART;TZID=Europe/Berlin:20260416T180000
DTEND;TZID=Europe/Berlin:20260416T191500
UID:261EB20515-20260416T180000@VHSUNTERLAND
SUMMARY:Line Dance  für Tänzer*innen mit 2,5 Jahren Line Dance-Erfahrung (261EB20515) 
LOCATION:eb Altes Schulhaus, 2. OG, Schulstraße 13, 74246 Eberstadt
END:VEVENT
BEGIN:VEVENT
DTSTAMP:20260424T134245
DTSTART;TZID=Europe/Berlin:20260423T180000
DTEND;TZID=Europe/Berlin:20260423T191500
UID:261EB20515-20260423T180000@VHSUNTERLAND
SUMMARY:Line Dance  für Tänzer*innen mit 2,5 Jahren Line Dance-Erfahrung (261EB20515) 
LOCATION:eb Altes Schulhaus, 2. OG, Schulstraße 13, 74246 Eberstadt
END:VEVENT
BEGIN:VEVENT
DTSTAMP:20260424T134245
DTSTART;TZID=Europe/Berlin:20260430T180000
DTEND;TZID=Europe/Berlin:20260430T191500
UID:261EB20515-20260430T180000@VHSUNTERLAND
SUMMARY:Line Dance  für Tänzer*innen mit 2,5 Jahren Line Dance-Erfahrung (261EB20515) 
LOCATION:eb Altes Schulhaus, 2. OG, Schulstraße 13, 74246 Eberstadt
END:VEVENT
BEGIN:VEVENT
DTSTAMP:20260424T134245
DTSTART;TZID=Europe/Berlin:20260507T180000
DTEND;TZID=Europe/Berlin:20260507T191500
UID:261EB20515-20260507T180000@VHSUNTERLAND
SUMMARY:Line Dance  für Tänzer*innen mit 2,5 Jahren Line Dance-Erfahrung (261EB20515) 
LOCATION:eb Altes Schulhaus, 2. OG, Schulstraße 13, 74246 Eberstadt
END:VEVENT
BEGIN:VEVENT
DTSTAMP:20260424T134245
DTSTART;TZID=Europe/Berlin:20260521T180000
DTEND;TZID=Europe/Berlin:20260521T191500
UID:261EB20515-20260521T180000@VHSUNTERLAND
SUMMARY:Line Dance  für Tänzer*innen mit 2,5 Jahren Line Dance-Erfahrung (261EB20515) 
LOCATION:eb Altes Schulhaus, 2. OG, Schulstraße 13, 74246 Eberstadt
END:VEVENT
BEGIN:VEVENT
DTSTAMP:20260424T134245
DTSTART;TZID=Europe/Berlin:20260611T180000
DTEND;TZID=Europe/Berlin:20260611T191500
UID:261EB20515-20260611T180000@VHSUNTERLAND
SUMMARY:Line Dance  für Tänzer*innen mit 2,5 Jahren Line Dance-Erfahrung (261EB20515) 
LOCATION:eb Altes Schulhaus, 2. OG, Schulstraße 13, 74246 Eberstadt
END:VEVENT
BEGIN:VEVENT
DTSTAMP:20260424T134245
DTSTART;TZID=Europe/Berlin:20260618T180000
DTEND;TZID=Europe/Berlin:20260618T191500
UID:261EB20515-20260618T180000@VHSUNTERLAND
SUMMARY:Line Dance  für Tänzer*innen mit 2,5 Jahren Line Dance-Erfahrung (261EB20515) 
LOCATION:eb Altes Schulhaus, 2. OG, Schulstraße 13, 74246 Eberstadt
END:VEVENT
BEGIN:VEVENT
DTSTAMP:20260424T134245
DTSTART;TZID=Europe/Berlin:20260625T180000
DTEND;TZID=Europe/Berlin:20260625T191500
UID:261EB20515-20260625T180000@VHSUNTERLAND
SUMMARY:Line Dance  für Tänzer*innen mit 2,5 Jahren Line Dance-Erfahrung (261EB20515) 
LOCATION:eb Altes Schulhaus, 2. OG, Schulstraße 13, 74246 Eberstadt
END:VEVENT
BEGIN:VEVENT
DTSTAMP:20260424T134245
DTSTART;TZID=Europe/Berlin:20260702T180000
DTEND;TZID=Europe/Berlin:20260702T191500
UID:261EB20515-20260702T180000@VHSUNTERLAND
SUMMARY:Line Dance  für Tänzer*innen mit 2,5 Jahren Line Dance-Erfahrung (261EB20515) 
LOCATION:eb Altes Schulhaus, 2. OG, Schulstraße 13, 74246 Eberstadt
END:VEVENT
BEGIN:VEVENT
DTSTAMP:20260424T134245
DTSTART;TZID=Europe/Berlin:20260709T180000
DTEND;TZID=Europe/Berlin:20260709T191500
UID:261EB20515-20260709T180000@VHSUNTERLAND
SUMMARY:Line Dance  für Tänzer*innen mit 2,5 Jahren Line Dance-Erfahrung (261EB20515) 
LOCATION:eb Altes Schulhaus, 2. OG, Schulstraße 13, 74246 Eberstadt
END:VEVENT
BEGIN:VEVENT
DTSTAMP:20260424T134245
DTSTART;TZID=Europe/Berlin:20260716T180000
DTEND;TZID=Europe/Berlin:20260716T191500
UID:261EB20515-20260716T180000@VHSUNTERLAND
SUMMARY:Line Dance  für Tänzer*innen mit 2,5 Jahren Line Dance-Erfahrung (261EB20515) 
LOCATION:eb Altes Schulhaus, 2. OG, Schulstraße 13, 74246 Eberstadt
END:VEVENT
END:VCALENDAR