BEGIN:VCALENDAR
VERSION:2.0
PRODID:http://www.kufer.de/kuferweb / DE
METHOD:PUBLISH
CALSCALE:GREGORIAN
X-WR-TIMEZONE:Europe/Berlin
BEGIN:VTIMEZONE
TZID:Europe/Berlin
X-LIC-LOCATION:Europe/Berlin
BEGIN:DAYLIGHT
TZOFFSETFROM:+0100
TZOFFSETTO:+0200
TZNAME:CEST
DTSTART;TZID=Europe/Berlin:19700329T020000
RRULE:FREQ=YEARLY;INTERVAL=1;BYDAY=-1SU;BYMONTH=3
END:DAYLIGHT
BEGIN:STANDARD
TZOFFSETFROM:+0200
TZOFFSETTO:+0100
TZNAME:CET
DTSTART;TZID=Europe/Berlin:19701025T030000
RRULE:FREQ=YEARLY;INTERVAL=1;BYDAY=-1SU;BYMONTH=10
END:STANDARD
END:VTIMEZONE
BEGIN:VEVENT
DTSTAMP:20260421T215836
DTSTART;TZID=Europe/Berlin:20260414T183000
DTEND;TZID=Europe/Berlin:20260414T193000
UID:261CB41900-20260414T183000@VHSUNTERLAND
SUMMARY:Russisch A1.1  für Anfänger*innen ohne Vorkenntnisse (261CB41900) 
LOCATION:cb Bürgerhaus Alte Schule, 1. OG, Carl-Goerdeler-Raum, Schulstraße 1, 74389 Cleebronn
END:VEVENT
BEGIN:VEVENT
DTSTAMP:20260421T215836
DTSTART;TZID=Europe/Berlin:20260421T183000
DTEND;TZID=Europe/Berlin:20260421T193000
UID:261CB41900-20260421T183000@VHSUNTERLAND
SUMMARY:Russisch A1.1  für Anfänger*innen ohne Vorkenntnisse (261CB41900) 
LOCATION:cb Bürgerhaus Alte Schule, 1. OG, Carl-Goerdeler-Raum, Schulstraße 1, 74389 Cleebronn
END:VEVENT
BEGIN:VEVENT
DTSTAMP:20260421T215836
DTSTART;TZID=Europe/Berlin:20260428T183000
DTEND;TZID=Europe/Berlin:20260428T193000
UID:261CB41900-20260428T183000@VHSUNTERLAND
SUMMARY:Russisch A1.1  für Anfänger*innen ohne Vorkenntnisse (261CB41900) 
LOCATION:cb Bürgerhaus Alte Schule, 1. OG, Carl-Goerdeler-Raum, Schulstraße 1, 74389 Cleebronn
END:VEVENT
BEGIN:VEVENT
DTSTAMP:20260421T215836
DTSTART;TZID=Europe/Berlin:20260505T183000
DTEND;TZID=Europe/Berlin:20260505T193000
UID:261CB41900-20260505T183000@VHSUNTERLAND
SUMMARY:Russisch A1.1  für Anfänger*innen ohne Vorkenntnisse (261CB41900) 
LOCATION:cb Bürgerhaus Alte Schule, 1. OG, Carl-Goerdeler-Raum, Schulstraße 1, 74389 Cleebronn
END:VEVENT
BEGIN:VEVENT
DTSTAMP:20260421T215836
DTSTART;TZID=Europe/Berlin:20260512T183000
DTEND;TZID=Europe/Berlin:20260512T193000
UID:261CB41900-20260512T183000@VHSUNTERLAND
SUMMARY:Russisch A1.1  für Anfänger*innen ohne Vorkenntnisse (261CB41900) 
LOCATION:cb Bürgerhaus Alte Schule, 1. OG, Carl-Goerdeler-Raum, Schulstraße 1, 74389 Cleebronn
END:VEVENT
END:VCALENDAR