BEGIN:VCALENDAR
VERSION:2.0
PRODID:http://www.kufer.de/kuferweb / DE
METHOD:PUBLISH
CALSCALE:GREGORIAN
X-WR-TIMEZONE:Europe/Berlin
BEGIN:VTIMEZONE
TZID:Europe/Berlin
X-LIC-LOCATION:Europe/Berlin
BEGIN:DAYLIGHT
TZOFFSETFROM:+0100
TZOFFSETTO:+0200
TZNAME:CEST
DTSTART;TZID=Europe/Berlin:19700329T020000
RRULE:FREQ=YEARLY;INTERVAL=1;BYDAY=-1SU;BYMONTH=3
END:DAYLIGHT
BEGIN:STANDARD
TZOFFSETFROM:+0200
TZOFFSETTO:+0100
TZNAME:CET
DTSTART;TZID=Europe/Berlin:19701025T030000
RRULE:FREQ=YEARLY;INTERVAL=1;BYDAY=-1SU;BYMONTH=10
END:STANDARD
END:VTIMEZONE
BEGIN:VEVENT
DTSTAMP:20260423T181909
DTSTART;TZID=Europe/Berlin:20260610T160000
DTEND;TZID=Europe/Berlin:20260610T173000
UID:261CB40608-20260610T160000@VHSUNTERLAND
SUMMARY:Englisch A1.1 Aufbaukurs (261CB40608) 
LOCATION:cb Bürgerhaus Alte Schule, 1. OG, Carl-Goerdeler-Raum, Schulstraße 1, 74389 Cleebronn
END:VEVENT
BEGIN:VEVENT
DTSTAMP:20260423T181909
DTSTART;TZID=Europe/Berlin:20260617T160000
DTEND;TZID=Europe/Berlin:20260617T173000
UID:261CB40608-20260617T160000@VHSUNTERLAND
SUMMARY:Englisch A1.1 Aufbaukurs (261CB40608) 
LOCATION:cb Bürgerhaus Alte Schule, 1. OG, Carl-Goerdeler-Raum, Schulstraße 1, 74389 Cleebronn
END:VEVENT
BEGIN:VEVENT
DTSTAMP:20260423T181909
DTSTART;TZID=Europe/Berlin:20260624T160000
DTEND;TZID=Europe/Berlin:20260624T173000
UID:261CB40608-20260624T160000@VHSUNTERLAND
SUMMARY:Englisch A1.1 Aufbaukurs (261CB40608) 
LOCATION:cb Bürgerhaus Alte Schule, 1. OG, Carl-Goerdeler-Raum, Schulstraße 1, 74389 Cleebronn
END:VEVENT
BEGIN:VEVENT
DTSTAMP:20260423T181909
DTSTART;TZID=Europe/Berlin:20260701T160000
DTEND;TZID=Europe/Berlin:20260701T173000
UID:261CB40608-20260701T160000@VHSUNTERLAND
SUMMARY:Englisch A1.1 Aufbaukurs (261CB40608) 
LOCATION:cb Bürgerhaus Alte Schule, 1. OG, Carl-Goerdeler-Raum, Schulstraße 1, 74389 Cleebronn
END:VEVENT
BEGIN:VEVENT
DTSTAMP:20260423T181909
DTSTART;TZID=Europe/Berlin:20260708T160000
DTEND;TZID=Europe/Berlin:20260708T173000
UID:261CB40608-20260708T160000@VHSUNTERLAND
SUMMARY:Englisch A1.1 Aufbaukurs (261CB40608) 
LOCATION:cb Bürgerhaus Alte Schule, 1. OG, Carl-Goerdeler-Raum, Schulstraße 1, 74389 Cleebronn
END:VEVENT
BEGIN:VEVENT
DTSTAMP:20260423T181909
DTSTART;TZID=Europe/Berlin:20260715T160000
DTEND;TZID=Europe/Berlin:20260715T173000
UID:261CB40608-20260715T160000@VHSUNTERLAND
SUMMARY:Englisch A1.1 Aufbaukurs (261CB40608) 
LOCATION:cb Bürgerhaus Alte Schule, 1. OG, Carl-Goerdeler-Raum, Schulstraße 1, 74389 Cleebronn
END:VEVENT
BEGIN:VEVENT
DTSTAMP:20260423T181909
DTSTART;TZID=Europe/Berlin:20260722T160000
DTEND;TZID=Europe/Berlin:20260722T173000
UID:261CB40608-20260722T160000@VHSUNTERLAND
SUMMARY:Englisch A1.1 Aufbaukurs (261CB40608) 
LOCATION:cb Bürgerhaus Alte Schule, 1. OG, Carl-Goerdeler-Raum, Schulstraße 1, 74389 Cleebronn
END:VEVENT
BEGIN:VEVENT
DTSTAMP:20260423T181909
DTSTART;TZID=Europe/Berlin:20260729T160000
DTEND;TZID=Europe/Berlin:20260729T173000
UID:261CB40608-20260729T160000@VHSUNTERLAND
SUMMARY:Englisch A1.1 Aufbaukurs (261CB40608) 
LOCATION:cb Bürgerhaus Alte Schule, 1. OG, Carl-Goerdeler-Raum, Schulstraße 1, 74389 Cleebronn
END:VEVENT
BEGIN:VEVENT
DTSTAMP:20260423T181909
DTSTART;TZID=Europe/Berlin:20260916T160000
DTEND;TZID=Europe/Berlin:20260916T173000
UID:261CB40608-20260916T160000@VHSUNTERLAND
SUMMARY:Englisch A1.1 Aufbaukurs (261CB40608) 
LOCATION:cb Bürgerhaus Alte Schule, 1. OG, Carl-Goerdeler-Raum, Schulstraße 1, 74389 Cleebronn
END:VEVENT
END:VCALENDAR