BEGIN:VCALENDAR
VERSION:2.0
PRODID:http://www.kufer.de/kuferweb / DE
METHOD:PUBLISH
CALSCALE:GREGORIAN
X-WR-TIMEZONE:Europe/Berlin
BEGIN:VTIMEZONE
TZID:Europe/Berlin
X-LIC-LOCATION:Europe/Berlin
BEGIN:DAYLIGHT
TZOFFSETFROM:+0100
TZOFFSETTO:+0200
TZNAME:CEST
DTSTART;TZID=Europe/Berlin:19700329T020000
RRULE:FREQ=YEARLY;INTERVAL=1;BYDAY=-1SU;BYMONTH=3
END:DAYLIGHT
BEGIN:STANDARD
TZOFFSETFROM:+0200
TZOFFSETTO:+0100
TZNAME:CET
DTSTART;TZID=Europe/Berlin:19701025T030000
RRULE:FREQ=YEARLY;INTERVAL=1;BYDAY=-1SU;BYMONTH=10
END:STANDARD
END:VTIMEZONE
BEGIN:VEVENT
DTSTAMP:20260421T145617
DTSTART;TZID=Europe/Berlin:20260227T180000
DTEND;TZID=Europe/Berlin:20260227T190000
UID:261CB30262-20260227T180000@VHSUNTERLAND
SUMMARY:Fitness Mix (261CB30262) 
LOCATION:cb Bürgerhaus, EG, Schulstraße 1, 74389 Cleebronn
END:VEVENT
BEGIN:VEVENT
DTSTAMP:20260421T145617
DTSTART;TZID=Europe/Berlin:20260306T180000
DTEND;TZID=Europe/Berlin:20260306T190000
UID:261CB30262-20260306T180000@VHSUNTERLAND
SUMMARY:Fitness Mix (261CB30262) 
LOCATION:cb Bürgerhaus, EG, Schulstraße 1, 74389 Cleebronn
END:VEVENT
BEGIN:VEVENT
DTSTAMP:20260421T145617
DTSTART;TZID=Europe/Berlin:20260313T180000
DTEND;TZID=Europe/Berlin:20260313T190000
UID:261CB30262-20260313T180000@VHSUNTERLAND
SUMMARY:Fitness Mix (261CB30262) 
LOCATION:cb Bürgerhaus, EG, Schulstraße 1, 74389 Cleebronn
END:VEVENT
BEGIN:VEVENT
DTSTAMP:20260421T145617
DTSTART;TZID=Europe/Berlin:20260320T180000
DTEND;TZID=Europe/Berlin:20260320T190000
UID:261CB30262-20260320T180000@VHSUNTERLAND
SUMMARY:Fitness Mix (261CB30262) 
LOCATION:cb Bürgerhaus, EG, Schulstraße 1, 74389 Cleebronn
END:VEVENT
BEGIN:VEVENT
DTSTAMP:20260421T145617
DTSTART;TZID=Europe/Berlin:20260327T180000
DTEND;TZID=Europe/Berlin:20260327T190000
UID:261CB30262-20260327T180000@VHSUNTERLAND
SUMMARY:Fitness Mix (261CB30262) 
LOCATION:cb Bürgerhaus, EG, Schulstraße 1, 74389 Cleebronn
END:VEVENT
BEGIN:VEVENT
DTSTAMP:20260421T145617
DTSTART;TZID=Europe/Berlin:20260424T180000
DTEND;TZID=Europe/Berlin:20260424T190000
UID:261CB30262-20260424T180000@VHSUNTERLAND
SUMMARY:Fitness Mix (261CB30262) 
LOCATION:cb Bürgerhaus, EG, Schulstraße 1, 74389 Cleebronn
END:VEVENT
BEGIN:VEVENT
DTSTAMP:20260421T145617
DTSTART;TZID=Europe/Berlin:20260508T180000
DTEND;TZID=Europe/Berlin:20260508T190000
UID:261CB30262-20260508T180000@VHSUNTERLAND
SUMMARY:Fitness Mix (261CB30262) 
LOCATION:cb Bürgerhaus, EG, Schulstraße 1, 74389 Cleebronn
END:VEVENT
BEGIN:VEVENT
DTSTAMP:20260421T145617
DTSTART;TZID=Europe/Berlin:20260515T180000
DTEND;TZID=Europe/Berlin:20260515T190000
UID:261CB30262-20260515T180000@VHSUNTERLAND
SUMMARY:Fitness Mix (261CB30262) 
LOCATION:cb Bürgerhaus, EG, Schulstraße 1, 74389 Cleebronn
END:VEVENT
BEGIN:VEVENT
DTSTAMP:20260421T145617
DTSTART;TZID=Europe/Berlin:20260522T180000
DTEND;TZID=Europe/Berlin:20260522T190000
UID:261CB30262-20260522T180000@VHSUNTERLAND
SUMMARY:Fitness Mix (261CB30262) 
LOCATION:cb Bürgerhaus, EG, Schulstraße 1, 74389 Cleebronn
END:VEVENT
BEGIN:VEVENT
DTSTAMP:20260421T145617
DTSTART;TZID=Europe/Berlin:20260612T180000
DTEND;TZID=Europe/Berlin:20260612T190000
UID:261CB30262-20260612T180000@VHSUNTERLAND
SUMMARY:Fitness Mix (261CB30262) 
LOCATION:cb Bürgerhaus, EG, Schulstraße 1, 74389 Cleebronn
END:VEVENT
BEGIN:VEVENT
DTSTAMP:20260421T145617
DTSTART;TZID=Europe/Berlin:20260619T180000
DTEND;TZID=Europe/Berlin:20260619T190000
UID:261CB30262-20260619T180000@VHSUNTERLAND
SUMMARY:Fitness Mix (261CB30262) 
LOCATION:cb Bürgerhaus, EG, Schulstraße 1, 74389 Cleebronn
END:VEVENT
BEGIN:VEVENT
DTSTAMP:20260421T145617
DTSTART;TZID=Europe/Berlin:20260626T180000
DTEND;TZID=Europe/Berlin:20260626T190000
UID:261CB30262-20260626T180000@VHSUNTERLAND
SUMMARY:Fitness Mix (261CB30262) 
LOCATION:cb Bürgerhaus, EG, Schulstraße 1, 74389 Cleebronn
END:VEVENT
BEGIN:VEVENT
DTSTAMP:20260421T145617
DTSTART;TZID=Europe/Berlin:20260703T180000
DTEND;TZID=Europe/Berlin:20260703T190000
UID:261CB30262-20260703T180000@VHSUNTERLAND
SUMMARY:Fitness Mix (261CB30262) 
LOCATION:cb Bürgerhaus, EG, Schulstraße 1, 74389 Cleebronn
END:VEVENT
END:VCALENDAR