BEGIN:VCALENDAR
VERSION:2.0
PRODID:http://www.kufer.de/kuferweb / DE
METHOD:PUBLISH
CALSCALE:GREGORIAN
X-WR-TIMEZONE:Europe/Berlin
BEGIN:VTIMEZONE
TZID:Europe/Berlin
X-LIC-LOCATION:Europe/Berlin
BEGIN:DAYLIGHT
TZOFFSETFROM:+0100
TZOFFSETTO:+0200
TZNAME:CEST
DTSTART;TZID=Europe/Berlin:19700329T020000
RRULE:FREQ=YEARLY;INTERVAL=1;BYDAY=-1SU;BYMONTH=3
END:DAYLIGHT
BEGIN:STANDARD
TZOFFSETFROM:+0200
TZOFFSETTO:+0100
TZNAME:CET
DTSTART;TZID=Europe/Berlin:19701025T030000
RRULE:FREQ=YEARLY;INTERVAL=1;BYDAY=-1SU;BYMONTH=10
END:STANDARD
END:VTIMEZONE
BEGIN:VEVENT
DTSTAMP:20260422T120030
DTSTART;TZID=Europe/Berlin:20260521T180000
DTEND;TZID=Europe/Berlin:20260521T191500
UID:261CB30133-20260521T180000@VHSUNTERLAND
SUMMARY:Hatha Yoga - Harmonie von Körper, Geist und Seele (261CB30133) 
LOCATION:cb Bürgerhaus, EG, Schulstraße 1, 74389 Cleebronn
END:VEVENT
BEGIN:VEVENT
DTSTAMP:20260422T120030
DTSTART;TZID=Europe/Berlin:20260611T180000
DTEND;TZID=Europe/Berlin:20260611T191500
UID:261CB30133-20260611T180000@VHSUNTERLAND
SUMMARY:Hatha Yoga - Harmonie von Körper, Geist und Seele (261CB30133) 
LOCATION:cb Bürgerhaus, EG, Schulstraße 1, 74389 Cleebronn
END:VEVENT
BEGIN:VEVENT
DTSTAMP:20260422T120030
DTSTART;TZID=Europe/Berlin:20260618T180000
DTEND;TZID=Europe/Berlin:20260618T191500
UID:261CB30133-20260618T180000@VHSUNTERLAND
SUMMARY:Hatha Yoga - Harmonie von Körper, Geist und Seele (261CB30133) 
LOCATION:cb Bürgerhaus, EG, Schulstraße 1, 74389 Cleebronn
END:VEVENT
BEGIN:VEVENT
DTSTAMP:20260422T120030
DTSTART;TZID=Europe/Berlin:20260625T180000
DTEND;TZID=Europe/Berlin:20260625T191500
UID:261CB30133-20260625T180000@VHSUNTERLAND
SUMMARY:Hatha Yoga - Harmonie von Körper, Geist und Seele (261CB30133) 
LOCATION:cb Bürgerhaus, EG, Schulstraße 1, 74389 Cleebronn
END:VEVENT
BEGIN:VEVENT
DTSTAMP:20260422T120030
DTSTART;TZID=Europe/Berlin:20260702T180000
DTEND;TZID=Europe/Berlin:20260702T191500
UID:261CB30133-20260702T180000@VHSUNTERLAND
SUMMARY:Hatha Yoga - Harmonie von Körper, Geist und Seele (261CB30133) 
LOCATION:cb Bürgerhaus, EG, Schulstraße 1, 74389 Cleebronn
END:VEVENT
BEGIN:VEVENT
DTSTAMP:20260422T120030
DTSTART;TZID=Europe/Berlin:20260716T180000
DTEND;TZID=Europe/Berlin:20260716T191500
UID:261CB30133-20260716T180000@VHSUNTERLAND
SUMMARY:Hatha Yoga - Harmonie von Körper, Geist und Seele (261CB30133) 
LOCATION:cb Bürgerhaus, EG, Schulstraße 1, 74389 Cleebronn
END:VEVENT
END:VCALENDAR