BEGIN:VCALENDAR
VERSION:2.0
PRODID:http://www.kufer.de/kuferweb / DE
METHOD:PUBLISH
CALSCALE:GREGORIAN
X-WR-TIMEZONE:Europe/Berlin
BEGIN:VTIMEZONE
TZID:Europe/Berlin
X-LIC-LOCATION:Europe/Berlin
BEGIN:DAYLIGHT
TZOFFSETFROM:+0100
TZOFFSETTO:+0200
TZNAME:CEST
DTSTART;TZID=Europe/Berlin:19700329T020000
RRULE:FREQ=YEARLY;INTERVAL=1;BYDAY=-1SU;BYMONTH=3
END:DAYLIGHT
BEGIN:STANDARD
TZOFFSETFROM:+0200
TZOFFSETTO:+0100
TZNAME:CET
DTSTART;TZID=Europe/Berlin:19701025T030000
RRULE:FREQ=YEARLY;INTERVAL=1;BYDAY=-1SU;BYMONTH=10
END:STANDARD
END:VTIMEZONE
BEGIN:VEVENT
DTSTAMP:20260422T140148
DTSTART;TZID=Europe/Berlin:20260810T093000
DTEND;TZID=Europe/Berlin:20260810T113000
UID:261BW50188-20260810T093000@VHSUNTERLAND
SUMMARY:3D-Objekte mit SketchUp  für Kinder und Jugendliche ab 9 Jahren (261BW50188) 
LOCATION:bw Konventhaus, Medien Raum, Langgasse 2, 74206 Bad Wimpfen
END:VEVENT
BEGIN:VEVENT
DTSTAMP:20260422T140148
DTSTART;TZID=Europe/Berlin:20260811T093000
DTEND;TZID=Europe/Berlin:20260811T113000
UID:261BW50188-20260811T093000@VHSUNTERLAND
SUMMARY:3D-Objekte mit SketchUp  für Kinder und Jugendliche ab 9 Jahren (261BW50188) 
LOCATION:bw Konventhaus, Medien Raum, Langgasse 2, 74206 Bad Wimpfen
END:VEVENT
BEGIN:VEVENT
DTSTAMP:20260422T140148
DTSTART;TZID=Europe/Berlin:20260812T093000
DTEND;TZID=Europe/Berlin:20260812T113000
UID:261BW50188-20260812T093000@VHSUNTERLAND
SUMMARY:3D-Objekte mit SketchUp  für Kinder und Jugendliche ab 9 Jahren (261BW50188) 
LOCATION:bw Konventhaus, Medien Raum, Langgasse 2, 74206 Bad Wimpfen
END:VEVENT
END:VCALENDAR