BEGIN:VCALENDAR
VERSION:2.0
PRODID:http://www.kufer.de/kuferweb / DE
METHOD:PUBLISH
CALSCALE:GREGORIAN
X-WR-TIMEZONE:Europe/Berlin
BEGIN:VTIMEZONE
TZID:Europe/Berlin
X-LIC-LOCATION:Europe/Berlin
BEGIN:DAYLIGHT
TZOFFSETFROM:+0100
TZOFFSETTO:+0200
TZNAME:CEST
DTSTART;TZID=Europe/Berlin:19700329T020000
RRULE:FREQ=YEARLY;INTERVAL=1;BYDAY=-1SU;BYMONTH=3
END:DAYLIGHT
BEGIN:STANDARD
TZOFFSETFROM:+0200
TZOFFSETTO:+0100
TZNAME:CET
DTSTART;TZID=Europe/Berlin:19701025T030000
RRULE:FREQ=YEARLY;INTERVAL=1;BYDAY=-1SU;BYMONTH=10
END:STANDARD
END:VTIMEZONE
BEGIN:VEVENT
DTSTAMP:20260422T153615
DTSTART;TZID=Europe/Berlin:20260511T183000
DTEND;TZID=Europe/Berlin:20260511T204500
UID:261BW50156-20260511T183000@VHSUNTERLAND
SUMMARY:Entdecken Sie die Zukunft der KI mit Microsoft Copilot Einführung, Funktionen, praktische Anwendungen (261BW50156) 
LOCATION:bw Konventhaus, Medien Raum, Langgasse 2, 74206 Bad Wimpfen
END:VEVENT
BEGIN:VEVENT
DTSTAMP:20260422T153615
DTSTART;TZID=Europe/Berlin:20260518T183000
DTEND;TZID=Europe/Berlin:20260518T204500
UID:261BW50156-20260518T183000@VHSUNTERLAND
SUMMARY:Entdecken Sie die Zukunft der KI mit Microsoft Copilot Einführung, Funktionen, praktische Anwendungen (261BW50156) 
LOCATION:bw Konventhaus, Medien Raum, Langgasse 2, 74206 Bad Wimpfen
END:VEVENT
END:VCALENDAR