BEGIN:VCALENDAR
VERSION:2.0
PRODID:http://www.kufer.de/kuferweb / DE
METHOD:PUBLISH
CALSCALE:GREGORIAN
X-WR-TIMEZONE:Europe/Berlin
BEGIN:VTIMEZONE
TZID:Europe/Berlin
X-LIC-LOCATION:Europe/Berlin
BEGIN:DAYLIGHT
TZOFFSETFROM:+0100
TZOFFSETTO:+0200
TZNAME:CEST
DTSTART;TZID=Europe/Berlin:19700329T020000
RRULE:FREQ=YEARLY;INTERVAL=1;BYDAY=-1SU;BYMONTH=3
END:DAYLIGHT
BEGIN:STANDARD
TZOFFSETFROM:+0200
TZOFFSETTO:+0100
TZNAME:CET
DTSTART;TZID=Europe/Berlin:19701025T030000
RRULE:FREQ=YEARLY;INTERVAL=1;BYDAY=-1SU;BYMONTH=10
END:STANDARD
END:VTIMEZONE
BEGIN:VEVENT
DTSTAMP:20260424T123830
DTSTART;TZID=Europe/Berlin:20260303T174500
DTEND;TZID=Europe/Berlin:20260303T191500
UID:261BW41810-20260303T174500@VHSUNTERLAND
SUMMARY:Portugiesisch A1.2 für Anfänger*innen mit  Vorkenntnissen (261BW41810) 
LOCATION:bw Konventhaus, Raum 1, Langgasse 2, 74206 Bad Wimpfen
END:VEVENT
BEGIN:VEVENT
DTSTAMP:20260424T123830
DTSTART;TZID=Europe/Berlin:20260310T174500
DTEND;TZID=Europe/Berlin:20260310T191500
UID:261BW41810-20260310T174500@VHSUNTERLAND
SUMMARY:Portugiesisch A1.2 für Anfänger*innen mit  Vorkenntnissen (261BW41810) 
LOCATION:bw Konventhaus, Raum 1, Langgasse 2, 74206 Bad Wimpfen
END:VEVENT
BEGIN:VEVENT
DTSTAMP:20260424T123830
DTSTART;TZID=Europe/Berlin:20260317T174500
DTEND;TZID=Europe/Berlin:20260317T191500
UID:261BW41810-20260317T174500@VHSUNTERLAND
SUMMARY:Portugiesisch A1.2 für Anfänger*innen mit  Vorkenntnissen (261BW41810) 
LOCATION:bw Konventhaus, Raum 1, Langgasse 2, 74206 Bad Wimpfen
END:VEVENT
BEGIN:VEVENT
DTSTAMP:20260424T123830
DTSTART;TZID=Europe/Berlin:20260324T174500
DTEND;TZID=Europe/Berlin:20260324T191500
UID:261BW41810-20260324T174500@VHSUNTERLAND
SUMMARY:Portugiesisch A1.2 für Anfänger*innen mit  Vorkenntnissen (261BW41810) 
LOCATION:bw Konventhaus, Raum 1, Langgasse 2, 74206 Bad Wimpfen
END:VEVENT
BEGIN:VEVENT
DTSTAMP:20260424T123830
DTSTART;TZID=Europe/Berlin:20260414T174500
DTEND;TZID=Europe/Berlin:20260414T191500
UID:261BW41810-20260414T174500@VHSUNTERLAND
SUMMARY:Portugiesisch A1.2 für Anfänger*innen mit  Vorkenntnissen (261BW41810) 
LOCATION:bw Konventhaus, Raum 1, Langgasse 2, 74206 Bad Wimpfen
END:VEVENT
BEGIN:VEVENT
DTSTAMP:20260424T123830
DTSTART;TZID=Europe/Berlin:20260421T174500
DTEND;TZID=Europe/Berlin:20260421T191500
UID:261BW41810-20260421T174500@VHSUNTERLAND
SUMMARY:Portugiesisch A1.2 für Anfänger*innen mit  Vorkenntnissen (261BW41810) 
LOCATION:bw Konventhaus, Raum 1, Langgasse 2, 74206 Bad Wimpfen
END:VEVENT
BEGIN:VEVENT
DTSTAMP:20260424T123830
DTSTART;TZID=Europe/Berlin:20260428T174500
DTEND;TZID=Europe/Berlin:20260428T191500
UID:261BW41810-20260428T174500@VHSUNTERLAND
SUMMARY:Portugiesisch A1.2 für Anfänger*innen mit  Vorkenntnissen (261BW41810) 
LOCATION:bw Konventhaus, Raum 1, Langgasse 2, 74206 Bad Wimpfen
END:VEVENT
BEGIN:VEVENT
DTSTAMP:20260424T123830
DTSTART;TZID=Europe/Berlin:20260505T174500
DTEND;TZID=Europe/Berlin:20260505T191500
UID:261BW41810-20260505T174500@VHSUNTERLAND
SUMMARY:Portugiesisch A1.2 für Anfänger*innen mit  Vorkenntnissen (261BW41810) 
LOCATION:bw Konventhaus, Raum 1, Langgasse 2, 74206 Bad Wimpfen
END:VEVENT
BEGIN:VEVENT
DTSTAMP:20260424T123830
DTSTART;TZID=Europe/Berlin:20260512T174500
DTEND;TZID=Europe/Berlin:20260512T191500
UID:261BW41810-20260512T174500@VHSUNTERLAND
SUMMARY:Portugiesisch A1.2 für Anfänger*innen mit  Vorkenntnissen (261BW41810) 
LOCATION:bw Konventhaus, Raum 1, Langgasse 2, 74206 Bad Wimpfen
END:VEVENT
BEGIN:VEVENT
DTSTAMP:20260424T123830
DTSTART;TZID=Europe/Berlin:20260519T174500
DTEND;TZID=Europe/Berlin:20260519T191500
UID:261BW41810-20260519T174500@VHSUNTERLAND
SUMMARY:Portugiesisch A1.2 für Anfänger*innen mit  Vorkenntnissen (261BW41810) 
LOCATION:bw Konventhaus, Raum 1, Langgasse 2, 74206 Bad Wimpfen
END:VEVENT
END:VCALENDAR