BEGIN:VCALENDAR
VERSION:2.0
PRODID:http://www.kufer.de/kuferweb / DE
METHOD:PUBLISH
CALSCALE:GREGORIAN
X-WR-TIMEZONE:Europe/Berlin
BEGIN:VTIMEZONE
TZID:Europe/Berlin
X-LIC-LOCATION:Europe/Berlin
BEGIN:DAYLIGHT
TZOFFSETFROM:+0100
TZOFFSETTO:+0200
TZNAME:CEST
DTSTART;TZID=Europe/Berlin:19700329T020000
RRULE:FREQ=YEARLY;INTERVAL=1;BYDAY=-1SU;BYMONTH=3
END:DAYLIGHT
BEGIN:STANDARD
TZOFFSETFROM:+0200
TZOFFSETTO:+0100
TZNAME:CET
DTSTART;TZID=Europe/Berlin:19701025T030000
RRULE:FREQ=YEARLY;INTERVAL=1;BYDAY=-1SU;BYMONTH=10
END:STANDARD
END:VTIMEZONE
BEGIN:VEVENT
DTSTAMP:20260424T135441
DTSTART;TZID=Europe/Berlin:20260725T160000
DTEND;TZID=Europe/Berlin:20260725T180000
UID:261BW30287-20260725T160000@VHSUNTERLAND
SUMMARY:Stand Up Paddling auf dem Neckar für Anfänger*innen von 10 - 99 Jahren (261BW30287) 
LOCATION:bw Ruderverein Bad Wimpfen, Bootshaus, Alte Steige 8, 74206 Bad Wimpfen
END:VEVENT
END:VCALENDAR