BEGIN:VCALENDAR
VERSION:2.0
PRODID:http://www.kufer.de/kuferweb / DE
METHOD:PUBLISH
CALSCALE:GREGORIAN
X-WR-TIMEZONE:Europe/Berlin
BEGIN:VTIMEZONE
TZID:Europe/Berlin
X-LIC-LOCATION:Europe/Berlin
BEGIN:DAYLIGHT
TZOFFSETFROM:+0100
TZOFFSETTO:+0200
TZNAME:CEST
DTSTART;TZID=Europe/Berlin:19700329T020000
RRULE:FREQ=YEARLY;INTERVAL=1;BYDAY=-1SU;BYMONTH=3
END:DAYLIGHT
BEGIN:STANDARD
TZOFFSETFROM:+0200
TZOFFSETTO:+0100
TZNAME:CET
DTSTART;TZID=Europe/Berlin:19701025T030000
RRULE:FREQ=YEARLY;INTERVAL=1;BYDAY=-1SU;BYMONTH=10
END:STANDARD
END:VTIMEZONE
BEGIN:VEVENT
DTSTAMP:20260423T104129
DTSTART;TZID=Europe/Berlin:20260227T083000
DTEND;TZID=Europe/Berlin:20260227T093000
UID:261BW30255-20260227T083000@VHSUNTERLAND
SUMMARY:Rundum bewegt und fit im Rücken (261BW30255) 
LOCATION:bw Tanzsaal beim Kursaal, Osterbergstraße 16, 74206 Bad Wimpfen
END:VEVENT
BEGIN:VEVENT
DTSTAMP:20260423T104129
DTSTART;TZID=Europe/Berlin:20260306T083000
DTEND;TZID=Europe/Berlin:20260306T093000
UID:261BW30255-20260306T083000@VHSUNTERLAND
SUMMARY:Rundum bewegt und fit im Rücken (261BW30255) 
LOCATION:bw Tanzsaal beim Kursaal, Osterbergstraße 16, 74206 Bad Wimpfen
END:VEVENT
BEGIN:VEVENT
DTSTAMP:20260423T104129
DTSTART;TZID=Europe/Berlin:20260313T083000
DTEND;TZID=Europe/Berlin:20260313T093000
UID:261BW30255-20260313T083000@VHSUNTERLAND
SUMMARY:Rundum bewegt und fit im Rücken (261BW30255) 
LOCATION:bw Tanzsaal beim Kursaal, Osterbergstraße 16, 74206 Bad Wimpfen
END:VEVENT
BEGIN:VEVENT
DTSTAMP:20260423T104129
DTSTART;TZID=Europe/Berlin:20260320T083000
DTEND;TZID=Europe/Berlin:20260320T093000
UID:261BW30255-20260320T083000@VHSUNTERLAND
SUMMARY:Rundum bewegt und fit im Rücken (261BW30255) 
LOCATION:bw Tanzsaal beim Kursaal, Osterbergstraße 16, 74206 Bad Wimpfen
END:VEVENT
BEGIN:VEVENT
DTSTAMP:20260423T104129
DTSTART;TZID=Europe/Berlin:20260327T083000
DTEND;TZID=Europe/Berlin:20260327T093000
UID:261BW30255-20260327T083000@VHSUNTERLAND
SUMMARY:Rundum bewegt und fit im Rücken (261BW30255) 
LOCATION:bw Tanzsaal beim Kursaal, Osterbergstraße 16, 74206 Bad Wimpfen
END:VEVENT
BEGIN:VEVENT
DTSTAMP:20260423T104129
DTSTART;TZID=Europe/Berlin:20260417T083000
DTEND;TZID=Europe/Berlin:20260417T093000
UID:261BW30255-20260417T083000@VHSUNTERLAND
SUMMARY:Rundum bewegt und fit im Rücken (261BW30255) 
LOCATION:bw Tanzsaal beim Kursaal, Osterbergstraße 16, 74206 Bad Wimpfen
END:VEVENT
BEGIN:VEVENT
DTSTAMP:20260423T104129
DTSTART;TZID=Europe/Berlin:20260424T083000
DTEND;TZID=Europe/Berlin:20260424T093000
UID:261BW30255-20260424T083000@VHSUNTERLAND
SUMMARY:Rundum bewegt und fit im Rücken (261BW30255) 
LOCATION:bw Tanzsaal beim Kursaal, Osterbergstraße 16, 74206 Bad Wimpfen
END:VEVENT
BEGIN:VEVENT
DTSTAMP:20260423T104129
DTSTART;TZID=Europe/Berlin:20260508T083000
DTEND;TZID=Europe/Berlin:20260508T093000
UID:261BW30255-20260508T083000@VHSUNTERLAND
SUMMARY:Rundum bewegt und fit im Rücken (261BW30255) 
LOCATION:bw Tanzsaal beim Kursaal, Osterbergstraße 16, 74206 Bad Wimpfen
END:VEVENT
BEGIN:VEVENT
DTSTAMP:20260423T104129
DTSTART;TZID=Europe/Berlin:20260522T083000
DTEND;TZID=Europe/Berlin:20260522T093000
UID:261BW30255-20260522T083000@VHSUNTERLAND
SUMMARY:Rundum bewegt und fit im Rücken (261BW30255) 
LOCATION:bw Tanzsaal beim Kursaal, Osterbergstraße 16, 74206 Bad Wimpfen
END:VEVENT
BEGIN:VEVENT
DTSTAMP:20260423T104129
DTSTART;TZID=Europe/Berlin:20260612T083000
DTEND;TZID=Europe/Berlin:20260612T093000
UID:261BW30255-20260612T083000@VHSUNTERLAND
SUMMARY:Rundum bewegt und fit im Rücken (261BW30255) 
LOCATION:bw Tanzsaal beim Kursaal, Osterbergstraße 16, 74206 Bad Wimpfen
END:VEVENT
BEGIN:VEVENT
DTSTAMP:20260423T104129
DTSTART;TZID=Europe/Berlin:20260619T083000
DTEND;TZID=Europe/Berlin:20260619T093000
UID:261BW30255-20260619T083000@VHSUNTERLAND
SUMMARY:Rundum bewegt und fit im Rücken (261BW30255) 
LOCATION:bw Tanzsaal beim Kursaal, Osterbergstraße 16, 74206 Bad Wimpfen
END:VEVENT
BEGIN:VEVENT
DTSTAMP:20260423T104129
DTSTART;TZID=Europe/Berlin:20260626T083000
DTEND;TZID=Europe/Berlin:20260626T093000
UID:261BW30255-20260626T083000@VHSUNTERLAND
SUMMARY:Rundum bewegt und fit im Rücken (261BW30255) 
LOCATION:bw Tanzsaal beim Kursaal, Osterbergstraße 16, 74206 Bad Wimpfen
END:VEVENT
BEGIN:VEVENT
DTSTAMP:20260423T104129
DTSTART;TZID=Europe/Berlin:20260703T083000
DTEND;TZID=Europe/Berlin:20260703T093000
UID:261BW30255-20260703T083000@VHSUNTERLAND
SUMMARY:Rundum bewegt und fit im Rücken (261BW30255) 
LOCATION:bw Tanzsaal beim Kursaal, Osterbergstraße 16, 74206 Bad Wimpfen
END:VEVENT
BEGIN:VEVENT
DTSTAMP:20260423T104129
DTSTART;TZID=Europe/Berlin:20260710T083000
DTEND;TZID=Europe/Berlin:20260710T093000
UID:261BW30255-20260710T083000@VHSUNTERLAND
DESCRIPTION:Ersatz für Ausfall am 15.05.2026
SUMMARY:Rundum bewegt und fit im Rücken (261BW30255) 
LOCATION:bw Tanzsaal beim Kursaal, Osterbergstraße 16, 74206 Bad Wimpfen
END:VEVENT
END:VCALENDAR