BEGIN:VCALENDAR
VERSION:2.0
PRODID:http://www.kufer.de/kuferweb / DE
METHOD:PUBLISH
CALSCALE:GREGORIAN
X-WR-TIMEZONE:Europe/Berlin
BEGIN:VTIMEZONE
TZID:Europe/Berlin
X-LIC-LOCATION:Europe/Berlin
BEGIN:DAYLIGHT
TZOFFSETFROM:+0100
TZOFFSETTO:+0200
TZNAME:CEST
DTSTART;TZID=Europe/Berlin:19700329T020000
RRULE:FREQ=YEARLY;INTERVAL=1;BYDAY=-1SU;BYMONTH=3
END:DAYLIGHT
BEGIN:STANDARD
TZOFFSETFROM:+0200
TZOFFSETTO:+0100
TZNAME:CET
DTSTART;TZID=Europe/Berlin:19701025T030000
RRULE:FREQ=YEARLY;INTERVAL=1;BYDAY=-1SU;BYMONTH=10
END:STANDARD
END:VTIMEZONE
BEGIN:VEVENT
DTSTAMP:20260422T210347
DTSTART;TZID=Europe/Berlin:20260227T110000
DTEND;TZID=Europe/Berlin:20260227T120000
UID:261BW30250-20260227T110000@VHSUNTERLAND
SUMMARY:Power Flow: Bodyworkout & Pilates (261BW30250) 
LOCATION:bw Tanzsaal beim Kursaal, Osterbergstraße 16, 74206 Bad Wimpfen
END:VEVENT
BEGIN:VEVENT
DTSTAMP:20260422T210347
DTSTART;TZID=Europe/Berlin:20260306T110000
DTEND;TZID=Europe/Berlin:20260306T120000
UID:261BW30250-20260306T110000@VHSUNTERLAND
SUMMARY:Power Flow: Bodyworkout & Pilates (261BW30250) 
LOCATION:bw Tanzsaal beim Kursaal, Osterbergstraße 16, 74206 Bad Wimpfen
END:VEVENT
BEGIN:VEVENT
DTSTAMP:20260422T210347
DTSTART;TZID=Europe/Berlin:20260313T110000
DTEND;TZID=Europe/Berlin:20260313T120000
UID:261BW30250-20260313T110000@VHSUNTERLAND
SUMMARY:Power Flow: Bodyworkout & Pilates (261BW30250) 
LOCATION:bw Tanzsaal beim Kursaal, Osterbergstraße 16, 74206 Bad Wimpfen
END:VEVENT
BEGIN:VEVENT
DTSTAMP:20260422T210347
DTSTART;TZID=Europe/Berlin:20260320T110000
DTEND;TZID=Europe/Berlin:20260320T120000
UID:261BW30250-20260320T110000@VHSUNTERLAND
SUMMARY:Power Flow: Bodyworkout & Pilates (261BW30250) 
LOCATION:bw Tanzsaal beim Kursaal, Osterbergstraße 16, 74206 Bad Wimpfen
END:VEVENT
BEGIN:VEVENT
DTSTAMP:20260422T210347
DTSTART;TZID=Europe/Berlin:20260327T110000
DTEND;TZID=Europe/Berlin:20260327T120000
UID:261BW30250-20260327T110000@VHSUNTERLAND
SUMMARY:Power Flow: Bodyworkout & Pilates (261BW30250) 
LOCATION:bw Tanzsaal beim Kursaal, Osterbergstraße 16, 74206 Bad Wimpfen
END:VEVENT
BEGIN:VEVENT
DTSTAMP:20260422T210347
DTSTART;TZID=Europe/Berlin:20260417T110000
DTEND;TZID=Europe/Berlin:20260417T120000
UID:261BW30250-20260417T110000@VHSUNTERLAND
SUMMARY:Power Flow: Bodyworkout & Pilates (261BW30250) 
LOCATION:bw Tanzsaal beim Kursaal, Osterbergstraße 16, 74206 Bad Wimpfen
END:VEVENT
END:VCALENDAR