BEGIN:VCALENDAR
VERSION:2.0
PRODID:http://www.kufer.de/kuferweb / DE
METHOD:PUBLISH
CALSCALE:GREGORIAN
X-WR-TIMEZONE:Europe/Berlin
BEGIN:VTIMEZONE
TZID:Europe/Berlin
X-LIC-LOCATION:Europe/Berlin
BEGIN:DAYLIGHT
TZOFFSETFROM:+0100
TZOFFSETTO:+0200
TZNAME:CEST
DTSTART;TZID=Europe/Berlin:19700329T020000
RRULE:FREQ=YEARLY;INTERVAL=1;BYDAY=-1SU;BYMONTH=3
END:DAYLIGHT
BEGIN:STANDARD
TZOFFSETFROM:+0200
TZOFFSETTO:+0100
TZNAME:CET
DTSTART;TZID=Europe/Berlin:19701025T030000
RRULE:FREQ=YEARLY;INTERVAL=1;BYDAY=-1SU;BYMONTH=10
END:STANDARD
END:VTIMEZONE
BEGIN:VEVENT
DTSTAMP:20260422T201053
DTSTART;TZID=Europe/Berlin:20260313T110000
DTEND;TZID=Europe/Berlin:20260313T114500
UID:261BW30247-20260313T110000@VHSUNTERLAND
SUMMARY:Aqua-Fitness im Solebad (261BW30247) 
LOCATION:bw Solebad, Osterbergstraße 16, 74206 Bad Wimpfen
END:VEVENT
BEGIN:VEVENT
DTSTAMP:20260422T201053
DTSTART;TZID=Europe/Berlin:20260320T110000
DTEND;TZID=Europe/Berlin:20260320T114500
UID:261BW30247-20260320T110000@VHSUNTERLAND
SUMMARY:Aqua-Fitness im Solebad (261BW30247) 
LOCATION:bw Solebad, Osterbergstraße 16, 74206 Bad Wimpfen
END:VEVENT
BEGIN:VEVENT
DTSTAMP:20260422T201053
DTSTART;TZID=Europe/Berlin:20260327T110000
DTEND;TZID=Europe/Berlin:20260327T114500
UID:261BW30247-20260327T110000@VHSUNTERLAND
SUMMARY:Aqua-Fitness im Solebad (261BW30247) 
LOCATION:bw Solebad, Osterbergstraße 16, 74206 Bad Wimpfen
END:VEVENT
BEGIN:VEVENT
DTSTAMP:20260422T201053
DTSTART;TZID=Europe/Berlin:20260410T110000
DTEND;TZID=Europe/Berlin:20260410T114500
UID:261BW30247-20260410T110000@VHSUNTERLAND
SUMMARY:Aqua-Fitness im Solebad (261BW30247) 
LOCATION:bw Solebad, Osterbergstraße 16, 74206 Bad Wimpfen
END:VEVENT
BEGIN:VEVENT
DTSTAMP:20260422T201053
DTSTART;TZID=Europe/Berlin:20260417T110000
DTEND;TZID=Europe/Berlin:20260417T114500
UID:261BW30247-20260417T110000@VHSUNTERLAND
SUMMARY:Aqua-Fitness im Solebad (261BW30247) 
LOCATION:bw Solebad, Osterbergstraße 16, 74206 Bad Wimpfen
END:VEVENT
BEGIN:VEVENT
DTSTAMP:20260422T201053
DTSTART;TZID=Europe/Berlin:20260424T110000
DTEND;TZID=Europe/Berlin:20260424T114500
UID:261BW30247-20260424T110000@VHSUNTERLAND
SUMMARY:Aqua-Fitness im Solebad (261BW30247) 
LOCATION:bw Solebad, Osterbergstraße 16, 74206 Bad Wimpfen
END:VEVENT
BEGIN:VEVENT
DTSTAMP:20260422T201053
DTSTART;TZID=Europe/Berlin:20260508T110000
DTEND;TZID=Europe/Berlin:20260508T114500
UID:261BW30247-20260508T110000@VHSUNTERLAND
SUMMARY:Aqua-Fitness im Solebad (261BW30247) 
LOCATION:bw Solebad, Osterbergstraße 16, 74206 Bad Wimpfen
END:VEVENT
BEGIN:VEVENT
DTSTAMP:20260422T201053
DTSTART;TZID=Europe/Berlin:20260522T110000
DTEND;TZID=Europe/Berlin:20260522T114500
UID:261BW30247-20260522T110000@VHSUNTERLAND
SUMMARY:Aqua-Fitness im Solebad (261BW30247) 
LOCATION:bw Solebad, Osterbergstraße 16, 74206 Bad Wimpfen
END:VEVENT
BEGIN:VEVENT
DTSTAMP:20260422T201053
DTSTART;TZID=Europe/Berlin:20260529T110000
DTEND;TZID=Europe/Berlin:20260529T114500
UID:261BW30247-20260529T110000@VHSUNTERLAND
SUMMARY:Aqua-Fitness im Solebad (261BW30247) 
LOCATION:bw Solebad, Osterbergstraße 16, 74206 Bad Wimpfen
END:VEVENT
BEGIN:VEVENT
DTSTAMP:20260422T201053
DTSTART;TZID=Europe/Berlin:20260612T110000
DTEND;TZID=Europe/Berlin:20260612T114500
UID:261BW30247-20260612T110000@VHSUNTERLAND
SUMMARY:Aqua-Fitness im Solebad (261BW30247) 
LOCATION:bw Solebad, Osterbergstraße 16, 74206 Bad Wimpfen
END:VEVENT
BEGIN:VEVENT
DTSTAMP:20260422T201053
DTSTART;TZID=Europe/Berlin:20260619T110000
DTEND;TZID=Europe/Berlin:20260619T114500
UID:261BW30247-20260619T110000@VHSUNTERLAND
SUMMARY:Aqua-Fitness im Solebad (261BW30247) 
LOCATION:bw Solebad, Osterbergstraße 16, 74206 Bad Wimpfen
END:VEVENT
BEGIN:VEVENT
DTSTAMP:20260422T201053
DTSTART;TZID=Europe/Berlin:20260626T110000
DTEND;TZID=Europe/Berlin:20260626T114500
UID:261BW30247-20260626T110000@VHSUNTERLAND
SUMMARY:Aqua-Fitness im Solebad (261BW30247) 
LOCATION:bw Solebad, Osterbergstraße 16, 74206 Bad Wimpfen
END:VEVENT
END:VCALENDAR