BEGIN:VCALENDAR
VERSION:2.0
PRODID:http://www.kufer.de/kuferweb / DE
METHOD:PUBLISH
CALSCALE:GREGORIAN
X-WR-TIMEZONE:Europe/Berlin
BEGIN:VTIMEZONE
TZID:Europe/Berlin
X-LIC-LOCATION:Europe/Berlin
BEGIN:DAYLIGHT
TZOFFSETFROM:+0100
TZOFFSETTO:+0200
TZNAME:CEST
DTSTART;TZID=Europe/Berlin:19700329T020000
RRULE:FREQ=YEARLY;INTERVAL=1;BYDAY=-1SU;BYMONTH=3
END:DAYLIGHT
BEGIN:STANDARD
TZOFFSETFROM:+0200
TZOFFSETTO:+0100
TZNAME:CET
DTSTART;TZID=Europe/Berlin:19701025T030000
RRULE:FREQ=YEARLY;INTERVAL=1;BYDAY=-1SU;BYMONTH=10
END:STANDARD
END:VTIMEZONE
BEGIN:VEVENT
DTSTAMP:20260420T213035
DTSTART;TZID=Europe/Berlin:20260313T100000
DTEND;TZID=Europe/Berlin:20260313T104500
UID:261BW30246-20260313T100000@VHSUNTERLAND
SUMMARY:Aqua-Fitness im Solebad (261BW30246) 
LOCATION:bw Solebad, Osterbergstraße 16, 74206 Bad Wimpfen
END:VEVENT
BEGIN:VEVENT
DTSTAMP:20260420T213035
DTSTART;TZID=Europe/Berlin:20260320T100000
DTEND;TZID=Europe/Berlin:20260320T104500
UID:261BW30246-20260320T100000@VHSUNTERLAND
SUMMARY:Aqua-Fitness im Solebad (261BW30246) 
LOCATION:bw Solebad, Osterbergstraße 16, 74206 Bad Wimpfen
END:VEVENT
BEGIN:VEVENT
DTSTAMP:20260420T213035
DTSTART;TZID=Europe/Berlin:20260327T100000
DTEND;TZID=Europe/Berlin:20260327T104500
UID:261BW30246-20260327T100000@VHSUNTERLAND
SUMMARY:Aqua-Fitness im Solebad (261BW30246) 
LOCATION:bw Solebad, Osterbergstraße 16, 74206 Bad Wimpfen
END:VEVENT
BEGIN:VEVENT
DTSTAMP:20260420T213035
DTSTART;TZID=Europe/Berlin:20260410T100000
DTEND;TZID=Europe/Berlin:20260410T104500
UID:261BW30246-20260410T100000@VHSUNTERLAND
SUMMARY:Aqua-Fitness im Solebad (261BW30246) 
LOCATION:bw Solebad, Osterbergstraße 16, 74206 Bad Wimpfen
END:VEVENT
BEGIN:VEVENT
DTSTAMP:20260420T213035
DTSTART;TZID=Europe/Berlin:20260417T100000
DTEND;TZID=Europe/Berlin:20260417T104500
UID:261BW30246-20260417T100000@VHSUNTERLAND
SUMMARY:Aqua-Fitness im Solebad (261BW30246) 
LOCATION:bw Solebad, Osterbergstraße 16, 74206 Bad Wimpfen
END:VEVENT
BEGIN:VEVENT
DTSTAMP:20260420T213035
DTSTART;TZID=Europe/Berlin:20260424T100000
DTEND;TZID=Europe/Berlin:20260424T104500
UID:261BW30246-20260424T100000@VHSUNTERLAND
SUMMARY:Aqua-Fitness im Solebad (261BW30246) 
LOCATION:bw Solebad, Osterbergstraße 16, 74206 Bad Wimpfen
END:VEVENT
BEGIN:VEVENT
DTSTAMP:20260420T213035
DTSTART;TZID=Europe/Berlin:20260508T100000
DTEND;TZID=Europe/Berlin:20260508T104500
UID:261BW30246-20260508T100000@VHSUNTERLAND
SUMMARY:Aqua-Fitness im Solebad (261BW30246) 
LOCATION:bw Solebad, Osterbergstraße 16, 74206 Bad Wimpfen
END:VEVENT
BEGIN:VEVENT
DTSTAMP:20260420T213035
DTSTART;TZID=Europe/Berlin:20260522T100000
DTEND;TZID=Europe/Berlin:20260522T104500
UID:261BW30246-20260522T100000@VHSUNTERLAND
SUMMARY:Aqua-Fitness im Solebad (261BW30246) 
LOCATION:bw Solebad, Osterbergstraße 16, 74206 Bad Wimpfen
END:VEVENT
BEGIN:VEVENT
DTSTAMP:20260420T213035
DTSTART;TZID=Europe/Berlin:20260529T100000
DTEND;TZID=Europe/Berlin:20260529T104500
UID:261BW30246-20260529T100000@VHSUNTERLAND
SUMMARY:Aqua-Fitness im Solebad (261BW30246) 
LOCATION:bw Solebad, Osterbergstraße 16, 74206 Bad Wimpfen
END:VEVENT
BEGIN:VEVENT
DTSTAMP:20260420T213035
DTSTART;TZID=Europe/Berlin:20260612T100000
DTEND;TZID=Europe/Berlin:20260612T104500
UID:261BW30246-20260612T100000@VHSUNTERLAND
SUMMARY:Aqua-Fitness im Solebad (261BW30246) 
LOCATION:bw Solebad, Osterbergstraße 16, 74206 Bad Wimpfen
END:VEVENT
BEGIN:VEVENT
DTSTAMP:20260420T213035
DTSTART;TZID=Europe/Berlin:20260619T100000
DTEND;TZID=Europe/Berlin:20260619T104500
UID:261BW30246-20260619T100000@VHSUNTERLAND
SUMMARY:Aqua-Fitness im Solebad (261BW30246) 
LOCATION:bw Solebad, Osterbergstraße 16, 74206 Bad Wimpfen
END:VEVENT
BEGIN:VEVENT
DTSTAMP:20260420T213035
DTSTART;TZID=Europe/Berlin:20260626T100000
DTEND;TZID=Europe/Berlin:20260626T104500
UID:261BW30246-20260626T100000@VHSUNTERLAND
SUMMARY:Aqua-Fitness im Solebad (261BW30246) 
LOCATION:bw Solebad, Osterbergstraße 16, 74206 Bad Wimpfen
END:VEVENT
END:VCALENDAR