BEGIN:VCALENDAR
VERSION:2.0
PRODID:http://www.kufer.de/kuferweb / DE
METHOD:PUBLISH
CALSCALE:GREGORIAN
X-WR-TIMEZONE:Europe/Berlin
BEGIN:VTIMEZONE
TZID:Europe/Berlin
X-LIC-LOCATION:Europe/Berlin
BEGIN:DAYLIGHT
TZOFFSETFROM:+0100
TZOFFSETTO:+0200
TZNAME:CEST
DTSTART;TZID=Europe/Berlin:19700329T020000
RRULE:FREQ=YEARLY;INTERVAL=1;BYDAY=-1SU;BYMONTH=3
END:DAYLIGHT
BEGIN:STANDARD
TZOFFSETFROM:+0200
TZOFFSETTO:+0100
TZNAME:CET
DTSTART;TZID=Europe/Berlin:19701025T030000
RRULE:FREQ=YEARLY;INTERVAL=1;BYDAY=-1SU;BYMONTH=10
END:STANDARD
END:VTIMEZONE
BEGIN:VEVENT
DTSTAMP:20260423T110204
DTSTART;TZID=Europe/Berlin:20260226T181500
DTEND;TZID=Europe/Berlin:20260226T194500
UID:261BW30140-20260226T181500@VHSUNTERLAND
SUMMARY:Kundalini Yoga für Fortgeschrittene (261BW30140) 
LOCATION:bw Zehntscheune, 1. Stock, Mathildenbadstraße 4, 74206 Bad Wimpfen
END:VEVENT
BEGIN:VEVENT
DTSTAMP:20260423T110204
DTSTART;TZID=Europe/Berlin:20260305T181500
DTEND;TZID=Europe/Berlin:20260305T194500
UID:261BW30140-20260305T181500@VHSUNTERLAND
SUMMARY:Kundalini Yoga für Fortgeschrittene (261BW30140) 
LOCATION:bw Zehntscheune, 1. Stock, Mathildenbadstraße 4, 74206 Bad Wimpfen
END:VEVENT
BEGIN:VEVENT
DTSTAMP:20260423T110204
DTSTART;TZID=Europe/Berlin:20260312T181500
DTEND;TZID=Europe/Berlin:20260312T194500
UID:261BW30140-20260312T181500@VHSUNTERLAND
SUMMARY:Kundalini Yoga für Fortgeschrittene (261BW30140) 
LOCATION:bw Zehntscheune, 1. Stock, Mathildenbadstraße 4, 74206 Bad Wimpfen
END:VEVENT
BEGIN:VEVENT
DTSTAMP:20260423T110204
DTSTART;TZID=Europe/Berlin:20260319T181500
DTEND;TZID=Europe/Berlin:20260319T194500
UID:261BW30140-20260319T181500@VHSUNTERLAND
SUMMARY:Kundalini Yoga für Fortgeschrittene (261BW30140) 
LOCATION:bw Zehntscheune, 1. Stock, Mathildenbadstraße 4, 74206 Bad Wimpfen
END:VEVENT
BEGIN:VEVENT
DTSTAMP:20260423T110204
DTSTART;TZID=Europe/Berlin:20260326T181500
DTEND;TZID=Europe/Berlin:20260326T194500
UID:261BW30140-20260326T181500@VHSUNTERLAND
SUMMARY:Kundalini Yoga für Fortgeschrittene (261BW30140) 
LOCATION:bw Zehntscheune, 1. Stock, Mathildenbadstraße 4, 74206 Bad Wimpfen
END:VEVENT
BEGIN:VEVENT
DTSTAMP:20260423T110204
DTSTART;TZID=Europe/Berlin:20260416T181500
DTEND;TZID=Europe/Berlin:20260416T194500
UID:261BW30140-20260416T181500@VHSUNTERLAND
SUMMARY:Kundalini Yoga für Fortgeschrittene (261BW30140) 
LOCATION:bw Zehntscheune, 1. Stock, Mathildenbadstraße 4, 74206 Bad Wimpfen
END:VEVENT
BEGIN:VEVENT
DTSTAMP:20260423T110204
DTSTART;TZID=Europe/Berlin:20260423T181500
DTEND;TZID=Europe/Berlin:20260423T194500
UID:261BW30140-20260423T181500@VHSUNTERLAND
SUMMARY:Kundalini Yoga für Fortgeschrittene (261BW30140) 
LOCATION:bw Zehntscheune, 1. Stock, Mathildenbadstraße 4, 74206 Bad Wimpfen
END:VEVENT
BEGIN:VEVENT
DTSTAMP:20260423T110204
DTSTART;TZID=Europe/Berlin:20260430T181500
DTEND;TZID=Europe/Berlin:20260430T194500
UID:261BW30140-20260430T181500@VHSUNTERLAND
SUMMARY:Kundalini Yoga für Fortgeschrittene (261BW30140) 
LOCATION:bw Zehntscheune, 1. Stock, Mathildenbadstraße 4, 74206 Bad Wimpfen
END:VEVENT
BEGIN:VEVENT
DTSTAMP:20260423T110204
DTSTART;TZID=Europe/Berlin:20260507T181500
DTEND;TZID=Europe/Berlin:20260507T194500
UID:261BW30140-20260507T181500@VHSUNTERLAND
SUMMARY:Kundalini Yoga für Fortgeschrittene (261BW30140) 
LOCATION:bw Zehntscheune, 1. Stock, Mathildenbadstraße 4, 74206 Bad Wimpfen
END:VEVENT
BEGIN:VEVENT
DTSTAMP:20260423T110204
DTSTART;TZID=Europe/Berlin:20260521T181500
DTEND;TZID=Europe/Berlin:20260521T194500
UID:261BW30140-20260521T181500@VHSUNTERLAND
SUMMARY:Kundalini Yoga für Fortgeschrittene (261BW30140) 
LOCATION:bw Zehntscheune, 1. Stock, Mathildenbadstraße 4, 74206 Bad Wimpfen
END:VEVENT
END:VCALENDAR