BEGIN:VCALENDAR
VERSION:2.0
PRODID:http://www.kufer.de/kuferweb / DE
METHOD:PUBLISH
CALSCALE:GREGORIAN
X-WR-TIMEZONE:Europe/Berlin
BEGIN:VTIMEZONE
TZID:Europe/Berlin
X-LIC-LOCATION:Europe/Berlin
BEGIN:DAYLIGHT
TZOFFSETFROM:+0100
TZOFFSETTO:+0200
TZNAME:CEST
DTSTART;TZID=Europe/Berlin:19700329T020000
RRULE:FREQ=YEARLY;INTERVAL=1;BYDAY=-1SU;BYMONTH=3
END:DAYLIGHT
BEGIN:STANDARD
TZOFFSETFROM:+0200
TZOFFSETTO:+0100
TZNAME:CET
DTSTART;TZID=Europe/Berlin:19701025T030000
RRULE:FREQ=YEARLY;INTERVAL=1;BYDAY=-1SU;BYMONTH=10
END:STANDARD
END:VTIMEZONE
BEGIN:VEVENT
DTSTAMP:20260422T074411
DTSTART;TZID=Europe/Berlin:20260223T193500
DTEND;TZID=Europe/Berlin:20260223T204500
UID:261BW30110-20260223T193500@VHSUNTERLAND
SUMMARY:Bodylates (261BW30110) 
LOCATION:bw Alte Turnhalle, Schulstraße 29, 74206 Bad Wimpfen
END:VEVENT
BEGIN:VEVENT
DTSTAMP:20260422T074411
DTSTART;TZID=Europe/Berlin:20260302T193500
DTEND;TZID=Europe/Berlin:20260302T204500
UID:261BW30110-20260302T193500@VHSUNTERLAND
SUMMARY:Bodylates (261BW30110) 
LOCATION:bw Alte Turnhalle, Schulstraße 29, 74206 Bad Wimpfen
END:VEVENT
BEGIN:VEVENT
DTSTAMP:20260422T074411
DTSTART;TZID=Europe/Berlin:20260309T193500
DTEND;TZID=Europe/Berlin:20260309T204500
UID:261BW30110-20260309T193500@VHSUNTERLAND
SUMMARY:Bodylates (261BW30110) 
LOCATION:bw Alte Turnhalle, Schulstraße 29, 74206 Bad Wimpfen
END:VEVENT
BEGIN:VEVENT
DTSTAMP:20260422T074411
DTSTART;TZID=Europe/Berlin:20260316T193500
DTEND;TZID=Europe/Berlin:20260316T204500
UID:261BW30110-20260316T193500@VHSUNTERLAND
SUMMARY:Bodylates (261BW30110) 
LOCATION:bw Alte Turnhalle, Schulstraße 29, 74206 Bad Wimpfen
END:VEVENT
BEGIN:VEVENT
DTSTAMP:20260422T074411
DTSTART;TZID=Europe/Berlin:20260323T193500
DTEND;TZID=Europe/Berlin:20260323T204500
UID:261BW30110-20260323T193500@VHSUNTERLAND
SUMMARY:Bodylates (261BW30110) 
LOCATION:bw Alte Turnhalle, Schulstraße 29, 74206 Bad Wimpfen
END:VEVENT
BEGIN:VEVENT
DTSTAMP:20260422T074411
DTSTART;TZID=Europe/Berlin:20260413T193500
DTEND;TZID=Europe/Berlin:20260413T204500
UID:261BW30110-20260413T193500@VHSUNTERLAND
SUMMARY:Bodylates (261BW30110) 
LOCATION:bw Alte Turnhalle, Schulstraße 29, 74206 Bad Wimpfen
END:VEVENT
BEGIN:VEVENT
DTSTAMP:20260422T074411
DTSTART;TZID=Europe/Berlin:20260511T193500
DTEND;TZID=Europe/Berlin:20260511T204500
UID:261BW30110-20260511T193500@VHSUNTERLAND
SUMMARY:Bodylates (261BW30110) 
LOCATION:bw Alte Turnhalle, Schulstraße 29, 74206 Bad Wimpfen
END:VEVENT
BEGIN:VEVENT
DTSTAMP:20260422T074411
DTSTART;TZID=Europe/Berlin:20260518T193500
DTEND;TZID=Europe/Berlin:20260518T204500
UID:261BW30110-20260518T193500@VHSUNTERLAND
SUMMARY:Bodylates (261BW30110) 
LOCATION:bw Alte Turnhalle, Schulstraße 29, 74206 Bad Wimpfen
END:VEVENT
BEGIN:VEVENT
DTSTAMP:20260422T074411
DTSTART;TZID=Europe/Berlin:20260608T193500
DTEND;TZID=Europe/Berlin:20260608T204500
UID:261BW30110-20260608T193500@VHSUNTERLAND
SUMMARY:Bodylates (261BW30110) 
LOCATION:bw Alte Turnhalle, Schulstraße 29, 74206 Bad Wimpfen
END:VEVENT
BEGIN:VEVENT
DTSTAMP:20260422T074411
DTSTART;TZID=Europe/Berlin:20260615T193500
DTEND;TZID=Europe/Berlin:20260615T204500
UID:261BW30110-20260615T193500@VHSUNTERLAND
SUMMARY:Bodylates (261BW30110) 
LOCATION:bw Alte Turnhalle, Schulstraße 29, 74206 Bad Wimpfen
END:VEVENT
BEGIN:VEVENT
DTSTAMP:20260422T074411
DTSTART;TZID=Europe/Berlin:20260622T193500
DTEND;TZID=Europe/Berlin:20260622T204500
UID:261BW30110-20260622T193500@VHSUNTERLAND
SUMMARY:Bodylates (261BW30110) 
LOCATION:bw Alte Turnhalle, Schulstraße 29, 74206 Bad Wimpfen
END:VEVENT
BEGIN:VEVENT
DTSTAMP:20260422T074411
DTSTART;TZID=Europe/Berlin:20260629T193500
DTEND;TZID=Europe/Berlin:20260629T204500
UID:261BW30110-20260629T193500@VHSUNTERLAND
SUMMARY:Bodylates (261BW30110) 
LOCATION:bw Alte Turnhalle, Schulstraße 29, 74206 Bad Wimpfen
END:VEVENT
BEGIN:VEVENT
DTSTAMP:20260422T074411
DTSTART;TZID=Europe/Berlin:20260706T193500
DTEND;TZID=Europe/Berlin:20260706T204500
UID:261BW30110-20260706T193500@VHSUNTERLAND
DESCRIPTION:Ersatz für Ausfall am 20.04.2026
SUMMARY:Bodylates (261BW30110) 
LOCATION:bw Alte Turnhalle, Schulstraße 29, 74206 Bad Wimpfen
END:VEVENT
BEGIN:VEVENT
DTSTAMP:20260422T074411
DTSTART;TZID=Europe/Berlin:20260713T193500
DTEND;TZID=Europe/Berlin:20260713T204500
UID:261BW30110-20260713T193500@VHSUNTERLAND
DESCRIPTION:Ersatz für Ausfall am 27.04.2026
SUMMARY:Bodylates (261BW30110) 
LOCATION:bw Alte Turnhalle, Schulstraße 29, 74206 Bad Wimpfen
END:VEVENT
BEGIN:VEVENT
DTSTAMP:20260422T074411
DTSTART;TZID=Europe/Berlin:20260720T193500
DTEND;TZID=Europe/Berlin:20260720T204500
UID:261BW30110-20260720T193500@VHSUNTERLAND
DESCRIPTION:Ersatz für Ausfall am 04.05.2026
SUMMARY:Bodylates (261BW30110) 
LOCATION:bw Alte Turnhalle, Schulstraße 29, 74206 Bad Wimpfen
END:VEVENT
END:VCALENDAR