BEGIN:VCALENDAR
VERSION:2.0
PRODID:http://www.kufer.de/kuferweb / DE
METHOD:PUBLISH
CALSCALE:GREGORIAN
X-WR-TIMEZONE:Europe/Berlin
BEGIN:VTIMEZONE
TZID:Europe/Berlin
X-LIC-LOCATION:Europe/Berlin
BEGIN:DAYLIGHT
TZOFFSETFROM:+0100
TZOFFSETTO:+0200
TZNAME:CEST
DTSTART;TZID=Europe/Berlin:19700329T020000
RRULE:FREQ=YEARLY;INTERVAL=1;BYDAY=-1SU;BYMONTH=3
END:DAYLIGHT
BEGIN:STANDARD
TZOFFSETFROM:+0200
TZOFFSETTO:+0100
TZNAME:CET
DTSTART;TZID=Europe/Berlin:19701025T030000
RRULE:FREQ=YEARLY;INTERVAL=1;BYDAY=-1SU;BYMONTH=10
END:STANDARD
END:VTIMEZONE
BEGIN:VEVENT
DTSTAMP:20260421T133632
DTSTART;TZID=Europe/Berlin:20260305T170000
DTEND;TZID=Europe/Berlin:20260305T174500
UID:261BW21314-20260305T170000@VHSUNTERLAND
SUMMARY:Gitarre: Aufbaukurs  für Erwachsene und Jugendliche (261BW21314) 
LOCATION:bw Hohenstaufen-Gymnasium, Neubau, Raum 710, Schulstraße 23, 74206 Bad Wimpfen
END:VEVENT
BEGIN:VEVENT
DTSTAMP:20260421T133632
DTSTART;TZID=Europe/Berlin:20260312T170000
DTEND;TZID=Europe/Berlin:20260312T174500
UID:261BW21314-20260312T170000@VHSUNTERLAND
SUMMARY:Gitarre: Aufbaukurs  für Erwachsene und Jugendliche (261BW21314) 
LOCATION:bw Hohenstaufen-Gymnasium, Neubau, Raum 710, Schulstraße 23, 74206 Bad Wimpfen
END:VEVENT
BEGIN:VEVENT
DTSTAMP:20260421T133632
DTSTART;TZID=Europe/Berlin:20260319T170000
DTEND;TZID=Europe/Berlin:20260319T174500
UID:261BW21314-20260319T170000@VHSUNTERLAND
SUMMARY:Gitarre: Aufbaukurs  für Erwachsene und Jugendliche (261BW21314) 
LOCATION:bw Hohenstaufen-Gymnasium, Neubau, Raum 710, Schulstraße 23, 74206 Bad Wimpfen
END:VEVENT
BEGIN:VEVENT
DTSTAMP:20260421T133632
DTSTART;TZID=Europe/Berlin:20260326T170000
DTEND;TZID=Europe/Berlin:20260326T174500
UID:261BW21314-20260326T170000@VHSUNTERLAND
SUMMARY:Gitarre: Aufbaukurs  für Erwachsene und Jugendliche (261BW21314) 
LOCATION:bw Hohenstaufen-Gymnasium, Neubau, Raum 710, Schulstraße 23, 74206 Bad Wimpfen
END:VEVENT
BEGIN:VEVENT
DTSTAMP:20260421T133632
DTSTART;TZID=Europe/Berlin:20260416T170000
DTEND;TZID=Europe/Berlin:20260416T174500
UID:261BW21314-20260416T170000@VHSUNTERLAND
SUMMARY:Gitarre: Aufbaukurs  für Erwachsene und Jugendliche (261BW21314) 
LOCATION:bw Hohenstaufen-Gymnasium, Neubau, Raum 710, Schulstraße 23, 74206 Bad Wimpfen
END:VEVENT
BEGIN:VEVENT
DTSTAMP:20260421T133632
DTSTART;TZID=Europe/Berlin:20260423T170000
DTEND;TZID=Europe/Berlin:20260423T174500
UID:261BW21314-20260423T170000@VHSUNTERLAND
SUMMARY:Gitarre: Aufbaukurs  für Erwachsene und Jugendliche (261BW21314) 
LOCATION:bw Hohenstaufen-Gymnasium, Neubau, Raum 710, Schulstraße 23, 74206 Bad Wimpfen
END:VEVENT
BEGIN:VEVENT
DTSTAMP:20260421T133632
DTSTART;TZID=Europe/Berlin:20260430T170000
DTEND;TZID=Europe/Berlin:20260430T174500
UID:261BW21314-20260430T170000@VHSUNTERLAND
SUMMARY:Gitarre: Aufbaukurs  für Erwachsene und Jugendliche (261BW21314) 
LOCATION:bw Hohenstaufen-Gymnasium, Neubau, Raum 710, Schulstraße 23, 74206 Bad Wimpfen
END:VEVENT
BEGIN:VEVENT
DTSTAMP:20260421T133632
DTSTART;TZID=Europe/Berlin:20260507T170000
DTEND;TZID=Europe/Berlin:20260507T174500
UID:261BW21314-20260507T170000@VHSUNTERLAND
SUMMARY:Gitarre: Aufbaukurs  für Erwachsene und Jugendliche (261BW21314) 
LOCATION:bw Hohenstaufen-Gymnasium, Neubau, Raum 710, Schulstraße 23, 74206 Bad Wimpfen
END:VEVENT
BEGIN:VEVENT
DTSTAMP:20260421T133632
DTSTART;TZID=Europe/Berlin:20260521T170000
DTEND;TZID=Europe/Berlin:20260521T174500
UID:261BW21314-20260521T170000@VHSUNTERLAND
SUMMARY:Gitarre: Aufbaukurs  für Erwachsene und Jugendliche (261BW21314) 
LOCATION:bw Hohenstaufen-Gymnasium, Neubau, Raum 710, Schulstraße 23, 74206 Bad Wimpfen
END:VEVENT
BEGIN:VEVENT
DTSTAMP:20260421T133632
DTSTART;TZID=Europe/Berlin:20260611T170000
DTEND;TZID=Europe/Berlin:20260611T174500
UID:261BW21314-20260611T170000@VHSUNTERLAND
SUMMARY:Gitarre: Aufbaukurs  für Erwachsene und Jugendliche (261BW21314) 
LOCATION:bw Hohenstaufen-Gymnasium, Neubau, Raum 710, Schulstraße 23, 74206 Bad Wimpfen
END:VEVENT
END:VCALENDAR