BEGIN:VCALENDAR
VERSION:2.0
PRODID:http://www.kufer.de/kuferweb / DE
METHOD:PUBLISH
CALSCALE:GREGORIAN
X-WR-TIMEZONE:Europe/Berlin
BEGIN:VTIMEZONE
TZID:Europe/Berlin
X-LIC-LOCATION:Europe/Berlin
BEGIN:DAYLIGHT
TZOFFSETFROM:+0100
TZOFFSETTO:+0200
TZNAME:CEST
DTSTART;TZID=Europe/Berlin:19700329T020000
RRULE:FREQ=YEARLY;INTERVAL=1;BYDAY=-1SU;BYMONTH=3
END:DAYLIGHT
BEGIN:STANDARD
TZOFFSETFROM:+0200
TZOFFSETTO:+0100
TZNAME:CET
DTSTART;TZID=Europe/Berlin:19701025T030000
RRULE:FREQ=YEARLY;INTERVAL=1;BYDAY=-1SU;BYMONTH=10
END:STANDARD
END:VTIMEZONE
BEGIN:VEVENT
DTSTAMP:20260422T094427
DTSTART;TZID=Europe/Berlin:20260226T160000
DTEND;TZID=Europe/Berlin:20260226T173000
UID:261BW20200-20260226T160000@VHSUNTERLAND
SUMMARY:„Ohne Schreiben kein Leben“: Hanns-Joseph Ortheil   Literaturkreis (261BW20200) 
LOCATION:bw Pension Anno & Dato (Privatraum), Marktrain 14, 74206 Bad Wimpfen
END:VEVENT
BEGIN:VEVENT
DTSTAMP:20260422T094427
DTSTART;TZID=Europe/Berlin:20260326T160000
DTEND;TZID=Europe/Berlin:20260326T173000
UID:261BW20200-20260326T160000@VHSUNTERLAND
SUMMARY:„Ohne Schreiben kein Leben“: Hanns-Joseph Ortheil   Literaturkreis (261BW20200) 
LOCATION:bw Pension Anno & Dato (Privatraum), Marktrain 14, 74206 Bad Wimpfen
END:VEVENT
BEGIN:VEVENT
DTSTAMP:20260422T094427
DTSTART;TZID=Europe/Berlin:20260423T160000
DTEND;TZID=Europe/Berlin:20260423T173000
UID:261BW20200-20260423T160000@VHSUNTERLAND
SUMMARY:„Ohne Schreiben kein Leben“: Hanns-Joseph Ortheil   Literaturkreis (261BW20200) 
LOCATION:bw Pension Anno & Dato (Privatraum), Marktrain 14, 74206 Bad Wimpfen
END:VEVENT
BEGIN:VEVENT
DTSTAMP:20260422T094427
DTSTART;TZID=Europe/Berlin:20260521T160000
DTEND;TZID=Europe/Berlin:20260521T173000
UID:261BW20200-20260521T160000@VHSUNTERLAND
SUMMARY:„Ohne Schreiben kein Leben“: Hanns-Joseph Ortheil   Literaturkreis (261BW20200) 
LOCATION:bw Pension Anno & Dato (Privatraum), Marktrain 14, 74206 Bad Wimpfen
END:VEVENT
BEGIN:VEVENT
DTSTAMP:20260422T094427
DTSTART;TZID=Europe/Berlin:20260618T160000
DTEND;TZID=Europe/Berlin:20260618T173000
UID:261BW20200-20260618T160000@VHSUNTERLAND
SUMMARY:„Ohne Schreiben kein Leben“: Hanns-Joseph Ortheil   Literaturkreis (261BW20200) 
LOCATION:bw Pension Anno & Dato (Privatraum), Marktrain 14, 74206 Bad Wimpfen
END:VEVENT
BEGIN:VEVENT
DTSTAMP:20260422T094427
DTSTART;TZID=Europe/Berlin:20260716T160000
DTEND;TZID=Europe/Berlin:20260716T173000
UID:261BW20200-20260716T160000@VHSUNTERLAND
SUMMARY:„Ohne Schreiben kein Leben“: Hanns-Joseph Ortheil   Literaturkreis (261BW20200) 
LOCATION:bw Pension Anno & Dato (Privatraum), Marktrain 14, 74206 Bad Wimpfen
END:VEVENT
END:VCALENDAR