BEGIN:VCALENDAR
VERSION:2.0
PRODID:http://www.kufer.de/kuferweb / DE
METHOD:PUBLISH
CALSCALE:GREGORIAN
X-WR-TIMEZONE:Europe/Berlin
BEGIN:VTIMEZONE
TZID:Europe/Berlin
X-LIC-LOCATION:Europe/Berlin
BEGIN:DAYLIGHT
TZOFFSETFROM:+0100
TZOFFSETTO:+0200
TZNAME:CEST
DTSTART;TZID=Europe/Berlin:19700329T020000
RRULE:FREQ=YEARLY;INTERVAL=1;BYDAY=-1SU;BYMONTH=3
END:DAYLIGHT
BEGIN:STANDARD
TZOFFSETFROM:+0200
TZOFFSETTO:+0100
TZNAME:CET
DTSTART;TZID=Europe/Berlin:19701025T030000
RRULE:FREQ=YEARLY;INTERVAL=1;BYDAY=-1SU;BYMONTH=10
END:STANDARD
END:VTIMEZONE
BEGIN:VEVENT
DTSTAMP:20260421T212311
DTSTART;TZID=Europe/Berlin:20260224T084500
DTEND;TZID=Europe/Berlin:20260224T100000
UID:261BS40965-20260224T084500@VHSUNTERLAND
SUMMARY:Italienisch – Conversazioni B1 (261BS40965) 
LOCATION:bs Alte Kelter, Kelterstraße 5, 71717 Beilstein
END:VEVENT
BEGIN:VEVENT
DTSTAMP:20260421T212311
DTSTART;TZID=Europe/Berlin:20260303T084500
DTEND;TZID=Europe/Berlin:20260303T100000
UID:261BS40965-20260303T084500@VHSUNTERLAND
SUMMARY:Italienisch – Conversazioni B1 (261BS40965) 
LOCATION:bs Alte Kelter, Kelterstraße 5, 71717 Beilstein
END:VEVENT
BEGIN:VEVENT
DTSTAMP:20260421T212311
DTSTART;TZID=Europe/Berlin:20260310T084500
DTEND;TZID=Europe/Berlin:20260310T100000
UID:261BS40965-20260310T084500@VHSUNTERLAND
SUMMARY:Italienisch – Conversazioni B1 (261BS40965) 
LOCATION:bs Alte Kelter, Kelterstraße 5, 71717 Beilstein
END:VEVENT
BEGIN:VEVENT
DTSTAMP:20260421T212311
DTSTART;TZID=Europe/Berlin:20260317T084500
DTEND;TZID=Europe/Berlin:20260317T100000
UID:261BS40965-20260317T084500@VHSUNTERLAND
SUMMARY:Italienisch – Conversazioni B1 (261BS40965) 
LOCATION:bs Alte Kelter, Kelterstraße 5, 71717 Beilstein
END:VEVENT
BEGIN:VEVENT
DTSTAMP:20260421T212311
DTSTART;TZID=Europe/Berlin:20260324T084500
DTEND;TZID=Europe/Berlin:20260324T100000
UID:261BS40965-20260324T084500@VHSUNTERLAND
SUMMARY:Italienisch – Conversazioni B1 (261BS40965) 
LOCATION:bs Alte Kelter, Kelterstraße 5, 71717 Beilstein
END:VEVENT
BEGIN:VEVENT
DTSTAMP:20260421T212311
DTSTART;TZID=Europe/Berlin:20260414T084500
DTEND;TZID=Europe/Berlin:20260414T100000
UID:261BS40965-20260414T084500@VHSUNTERLAND
SUMMARY:Italienisch – Conversazioni B1 (261BS40965) 
LOCATION:bs Alte Kelter, Kelterstraße 5, 71717 Beilstein
END:VEVENT
BEGIN:VEVENT
DTSTAMP:20260421T212311
DTSTART;TZID=Europe/Berlin:20260421T084500
DTEND;TZID=Europe/Berlin:20260421T100000
UID:261BS40965-20260421T084500@VHSUNTERLAND
SUMMARY:Italienisch – Conversazioni B1 (261BS40965) 
LOCATION:bs Alte Kelter, Kelterstraße 5, 71717 Beilstein
END:VEVENT
BEGIN:VEVENT
DTSTAMP:20260421T212311
DTSTART;TZID=Europe/Berlin:20260428T084500
DTEND;TZID=Europe/Berlin:20260428T100000
UID:261BS40965-20260428T084500@VHSUNTERLAND
SUMMARY:Italienisch – Conversazioni B1 (261BS40965) 
LOCATION:bs Alte Kelter, Kelterstraße 5, 71717 Beilstein
END:VEVENT
BEGIN:VEVENT
DTSTAMP:20260421T212311
DTSTART;TZID=Europe/Berlin:20260505T084500
DTEND;TZID=Europe/Berlin:20260505T100000
UID:261BS40965-20260505T084500@VHSUNTERLAND
SUMMARY:Italienisch – Conversazioni B1 (261BS40965) 
LOCATION:bs Alte Kelter, Kelterstraße 5, 71717 Beilstein
END:VEVENT
BEGIN:VEVENT
DTSTAMP:20260421T212311
DTSTART;TZID=Europe/Berlin:20260512T084500
DTEND;TZID=Europe/Berlin:20260512T100000
UID:261BS40965-20260512T084500@VHSUNTERLAND
SUMMARY:Italienisch – Conversazioni B1 (261BS40965) 
LOCATION:bs Alte Kelter, Kelterstraße 5, 71717 Beilstein
END:VEVENT
END:VCALENDAR