BEGIN:VCALENDAR
VERSION:2.0
PRODID:http://www.kufer.de/kuferweb / DE
METHOD:PUBLISH
CALSCALE:GREGORIAN
X-WR-TIMEZONE:Europe/Berlin
BEGIN:VTIMEZONE
TZID:Europe/Berlin
X-LIC-LOCATION:Europe/Berlin
BEGIN:DAYLIGHT
TZOFFSETFROM:+0100
TZOFFSETTO:+0200
TZNAME:CEST
DTSTART;TZID=Europe/Berlin:19700329T020000
RRULE:FREQ=YEARLY;INTERVAL=1;BYDAY=-1SU;BYMONTH=3
END:DAYLIGHT
BEGIN:STANDARD
TZOFFSETFROM:+0200
TZOFFSETTO:+0100
TZNAME:CET
DTSTART;TZID=Europe/Berlin:19701025T030000
RRULE:FREQ=YEARLY;INTERVAL=1;BYDAY=-1SU;BYMONTH=10
END:STANDARD
END:VTIMEZONE
BEGIN:VEVENT
DTSTAMP:20260422T214230
DTSTART;TZID=Europe/Berlin:20260225T191500
DTEND;TZID=Europe/Berlin:20260225T203000
UID:261BS40911-20260225T191500@VHSUNTERLAND
SUMMARY:Italienisch A1.2 (261BS40911) 
LOCATION:bs Alte Kelter, Kelterstraße 5, 71717 Beilstein
END:VEVENT
BEGIN:VEVENT
DTSTAMP:20260422T214230
DTSTART;TZID=Europe/Berlin:20260304T191500
DTEND;TZID=Europe/Berlin:20260304T203000
UID:261BS40911-20260304T191500@VHSUNTERLAND
SUMMARY:Italienisch A1.2 (261BS40911) 
LOCATION:bs Alte Kelter, Kelterstraße 5, 71717 Beilstein
END:VEVENT
BEGIN:VEVENT
DTSTAMP:20260422T214230
DTSTART;TZID=Europe/Berlin:20260311T191500
DTEND;TZID=Europe/Berlin:20260311T203000
UID:261BS40911-20260311T191500@VHSUNTERLAND
SUMMARY:Italienisch A1.2 (261BS40911) 
LOCATION:bs Alte Kelter, Kelterstraße 5, 71717 Beilstein
END:VEVENT
BEGIN:VEVENT
DTSTAMP:20260422T214230
DTSTART;TZID=Europe/Berlin:20260318T191500
DTEND;TZID=Europe/Berlin:20260318T203000
UID:261BS40911-20260318T191500@VHSUNTERLAND
SUMMARY:Italienisch A1.2 (261BS40911) 
LOCATION:bs Alte Kelter, Kelterstraße 5, 71717 Beilstein
END:VEVENT
BEGIN:VEVENT
DTSTAMP:20260422T214230
DTSTART;TZID=Europe/Berlin:20260325T191500
DTEND;TZID=Europe/Berlin:20260325T203000
UID:261BS40911-20260325T191500@VHSUNTERLAND
SUMMARY:Italienisch A1.2 (261BS40911) 
LOCATION:bs Alte Kelter, Kelterstraße 5, 71717 Beilstein
END:VEVENT
BEGIN:VEVENT
DTSTAMP:20260422T214230
DTSTART;TZID=Europe/Berlin:20260415T191500
DTEND;TZID=Europe/Berlin:20260415T203000
UID:261BS40911-20260415T191500@VHSUNTERLAND
SUMMARY:Italienisch A1.2 (261BS40911) 
LOCATION:bs Alte Kelter, Kelterstraße 5, 71717 Beilstein
END:VEVENT
BEGIN:VEVENT
DTSTAMP:20260422T214230
DTSTART;TZID=Europe/Berlin:20260422T191500
DTEND;TZID=Europe/Berlin:20260422T203000
UID:261BS40911-20260422T191500@VHSUNTERLAND
SUMMARY:Italienisch A1.2 (261BS40911) 
LOCATION:bs Alte Kelter, Kelterstraße 5, 71717 Beilstein
END:VEVENT
BEGIN:VEVENT
DTSTAMP:20260422T214230
DTSTART;TZID=Europe/Berlin:20260429T191500
DTEND;TZID=Europe/Berlin:20260429T203000
UID:261BS40911-20260429T191500@VHSUNTERLAND
SUMMARY:Italienisch A1.2 (261BS40911) 
LOCATION:bs Alte Kelter, Kelterstraße 5, 71717 Beilstein
END:VEVENT
BEGIN:VEVENT
DTSTAMP:20260422T214230
DTSTART;TZID=Europe/Berlin:20260506T191500
DTEND;TZID=Europe/Berlin:20260506T203000
UID:261BS40911-20260506T191500@VHSUNTERLAND
SUMMARY:Italienisch A1.2 (261BS40911) 
LOCATION:bs Alte Kelter, Kelterstraße 5, 71717 Beilstein
END:VEVENT
BEGIN:VEVENT
DTSTAMP:20260422T214230
DTSTART;TZID=Europe/Berlin:20260513T191500
DTEND;TZID=Europe/Berlin:20260513T203000
UID:261BS40911-20260513T191500@VHSUNTERLAND
SUMMARY:Italienisch A1.2 (261BS40911) 
LOCATION:bs Alte Kelter, Kelterstraße 5, 71717 Beilstein
END:VEVENT
END:VCALENDAR