BEGIN:VCALENDAR
VERSION:2.0
PRODID:http://www.kufer.de/kuferweb / DE
METHOD:PUBLISH
CALSCALE:GREGORIAN
X-WR-TIMEZONE:Europe/Berlin
BEGIN:VTIMEZONE
TZID:Europe/Berlin
X-LIC-LOCATION:Europe/Berlin
BEGIN:DAYLIGHT
TZOFFSETFROM:+0100
TZOFFSETTO:+0200
TZNAME:CEST
DTSTART;TZID=Europe/Berlin:19700329T020000
RRULE:FREQ=YEARLY;INTERVAL=1;BYDAY=-1SU;BYMONTH=3
END:DAYLIGHT
BEGIN:STANDARD
TZOFFSETFROM:+0200
TZOFFSETTO:+0100
TZNAME:CET
DTSTART;TZID=Europe/Berlin:19701025T030000
RRULE:FREQ=YEARLY;INTERVAL=1;BYDAY=-1SU;BYMONTH=10
END:STANDARD
END:VTIMEZONE
BEGIN:VEVENT
DTSTAMP:20260423T153453
DTSTART;TZID=Europe/Berlin:20260306T100000
DTEND;TZID=Europe/Berlin:20260306T140000
UID:261BS40453-20260306T100000@VHSUNTERLAND
SUMMARY:Sprachcafé Deutsch Ein Einstieg ist jederzeit möglich (261BS40453) 
LOCATION:bs Alte Kelter, Kelterstraße 5, 71717 Beilstein
END:VEVENT
BEGIN:VEVENT
DTSTAMP:20260423T153453
DTSTART;TZID=Europe/Berlin:20260313T100000
DTEND;TZID=Europe/Berlin:20260313T140000
UID:261BS40453-20260313T100000@VHSUNTERLAND
SUMMARY:Sprachcafé Deutsch Ein Einstieg ist jederzeit möglich (261BS40453) 
LOCATION:bs Alte Kelter, Kelterstraße 5, 71717 Beilstein
END:VEVENT
BEGIN:VEVENT
DTSTAMP:20260423T153453
DTSTART;TZID=Europe/Berlin:20260320T100000
DTEND;TZID=Europe/Berlin:20260320T140000
UID:261BS40453-20260320T100000@VHSUNTERLAND
SUMMARY:Sprachcafé Deutsch Ein Einstieg ist jederzeit möglich (261BS40453) 
LOCATION:bs Alte Kelter, Kelterstraße 5, 71717 Beilstein
END:VEVENT
BEGIN:VEVENT
DTSTAMP:20260423T153453
DTSTART;TZID=Europe/Berlin:20260327T100000
DTEND;TZID=Europe/Berlin:20260327T140000
UID:261BS40453-20260327T100000@VHSUNTERLAND
SUMMARY:Sprachcafé Deutsch Ein Einstieg ist jederzeit möglich (261BS40453) 
LOCATION:bs Alte Kelter, Kelterstraße 5, 71717 Beilstein
END:VEVENT
BEGIN:VEVENT
DTSTAMP:20260423T153453
DTSTART;TZID=Europe/Berlin:20260417T100000
DTEND;TZID=Europe/Berlin:20260417T140000
UID:261BS40453-20260417T100000@VHSUNTERLAND
SUMMARY:Sprachcafé Deutsch Ein Einstieg ist jederzeit möglich (261BS40453) 
LOCATION:bs Alte Kelter, Kelterstraße 5, 71717 Beilstein
END:VEVENT
BEGIN:VEVENT
DTSTAMP:20260423T153453
DTSTART;TZID=Europe/Berlin:20260424T100000
DTEND;TZID=Europe/Berlin:20260424T140000
UID:261BS40453-20260424T100000@VHSUNTERLAND
SUMMARY:Sprachcafé Deutsch Ein Einstieg ist jederzeit möglich (261BS40453) 
LOCATION:bs Alte Kelter, Kelterstraße 5, 71717 Beilstein
END:VEVENT
BEGIN:VEVENT
DTSTAMP:20260423T153453
DTSTART;TZID=Europe/Berlin:20260508T100000
DTEND;TZID=Europe/Berlin:20260508T140000
UID:261BS40453-20260508T100000@VHSUNTERLAND
SUMMARY:Sprachcafé Deutsch Ein Einstieg ist jederzeit möglich (261BS40453) 
LOCATION:bs Alte Kelter, Kelterstraße 5, 71717 Beilstein
END:VEVENT
BEGIN:VEVENT
DTSTAMP:20260423T153453
DTSTART;TZID=Europe/Berlin:20260515T100000
DTEND;TZID=Europe/Berlin:20260515T140000
UID:261BS40453-20260515T100000@VHSUNTERLAND
SUMMARY:Sprachcafé Deutsch Ein Einstieg ist jederzeit möglich (261BS40453) 
LOCATION:bs Alte Kelter, Kelterstraße 5, 71717 Beilstein
END:VEVENT
BEGIN:VEVENT
DTSTAMP:20260423T153453
DTSTART;TZID=Europe/Berlin:20260522T100000
DTEND;TZID=Europe/Berlin:20260522T140000
UID:261BS40453-20260522T100000@VHSUNTERLAND
SUMMARY:Sprachcafé Deutsch Ein Einstieg ist jederzeit möglich (261BS40453) 
LOCATION:bs Alte Kelter, Kelterstraße 5, 71717 Beilstein
END:VEVENT
BEGIN:VEVENT
DTSTAMP:20260423T153453
DTSTART;TZID=Europe/Berlin:20260612T100000
DTEND;TZID=Europe/Berlin:20260612T140000
UID:261BS40453-20260612T100000@VHSUNTERLAND
SUMMARY:Sprachcafé Deutsch Ein Einstieg ist jederzeit möglich (261BS40453) 
LOCATION:bs Alte Kelter, Kelterstraße 5, 71717 Beilstein
END:VEVENT
BEGIN:VEVENT
DTSTAMP:20260423T153453
DTSTART;TZID=Europe/Berlin:20260619T100000
DTEND;TZID=Europe/Berlin:20260619T140000
UID:261BS40453-20260619T100000@VHSUNTERLAND
SUMMARY:Sprachcafé Deutsch Ein Einstieg ist jederzeit möglich (261BS40453) 
LOCATION:bs Alte Kelter, Kelterstraße 5, 71717 Beilstein
END:VEVENT
BEGIN:VEVENT
DTSTAMP:20260423T153453
DTSTART;TZID=Europe/Berlin:20260626T100000
DTEND;TZID=Europe/Berlin:20260626T140000
UID:261BS40453-20260626T100000@VHSUNTERLAND
SUMMARY:Sprachcafé Deutsch Ein Einstieg ist jederzeit möglich (261BS40453) 
LOCATION:bs Alte Kelter, Kelterstraße 5, 71717 Beilstein
END:VEVENT
BEGIN:VEVENT
DTSTAMP:20260423T153453
DTSTART;TZID=Europe/Berlin:20260703T100000
DTEND;TZID=Europe/Berlin:20260703T140000
UID:261BS40453-20260703T100000@VHSUNTERLAND
SUMMARY:Sprachcafé Deutsch Ein Einstieg ist jederzeit möglich (261BS40453) 
LOCATION:bs Alte Kelter, Kelterstraße 5, 71717 Beilstein
END:VEVENT
BEGIN:VEVENT
DTSTAMP:20260423T153453
DTSTART;TZID=Europe/Berlin:20260710T100000
DTEND;TZID=Europe/Berlin:20260710T140000
UID:261BS40453-20260710T100000@VHSUNTERLAND
SUMMARY:Sprachcafé Deutsch Ein Einstieg ist jederzeit möglich (261BS40453) 
LOCATION:bs Alte Kelter, Kelterstraße 5, 71717 Beilstein
END:VEVENT
BEGIN:VEVENT
DTSTAMP:20260423T153453
DTSTART;TZID=Europe/Berlin:20260717T100000
DTEND;TZID=Europe/Berlin:20260717T140000
UID:261BS40453-20260717T100000@VHSUNTERLAND
SUMMARY:Sprachcafé Deutsch Ein Einstieg ist jederzeit möglich (261BS40453) 
LOCATION:bs Alte Kelter, Kelterstraße 5, 71717 Beilstein
END:VEVENT
BEGIN:VEVENT
DTSTAMP:20260423T153453
DTSTART;TZID=Europe/Berlin:20260724T100000
DTEND;TZID=Europe/Berlin:20260724T140000
UID:261BS40453-20260724T100000@VHSUNTERLAND
SUMMARY:Sprachcafé Deutsch Ein Einstieg ist jederzeit möglich (261BS40453) 
LOCATION:bs Alte Kelter, Kelterstraße 5, 71717 Beilstein
END:VEVENT
BEGIN:VEVENT
DTSTAMP:20260423T153453
DTSTART;TZID=Europe/Berlin:20260731T100000
DTEND;TZID=Europe/Berlin:20260731T140000
UID:261BS40453-20260731T100000@VHSUNTERLAND
SUMMARY:Sprachcafé Deutsch Ein Einstieg ist jederzeit möglich (261BS40453) 
LOCATION:bs Alte Kelter, Kelterstraße 5, 71717 Beilstein
END:VEVENT
BEGIN:VEVENT
DTSTAMP:20260423T153453
DTSTART;TZID=Europe/Berlin:20260807T100000
DTEND;TZID=Europe/Berlin:20260807T140000
UID:261BS40453-20260807T100000@VHSUNTERLAND
SUMMARY:Sprachcafé Deutsch Ein Einstieg ist jederzeit möglich (261BS40453) 
LOCATION:bs Alte Kelter, Kelterstraße 5, 71717 Beilstein
END:VEVENT
BEGIN:VEVENT
DTSTAMP:20260423T153453
DTSTART;TZID=Europe/Berlin:20260814T100000
DTEND;TZID=Europe/Berlin:20260814T140000
UID:261BS40453-20260814T100000@VHSUNTERLAND
SUMMARY:Sprachcafé Deutsch Ein Einstieg ist jederzeit möglich (261BS40453) 
LOCATION:bs Alte Kelter, Kelterstraße 5, 71717 Beilstein
END:VEVENT
BEGIN:VEVENT
DTSTAMP:20260423T153453
DTSTART;TZID=Europe/Berlin:20260821T100000
DTEND;TZID=Europe/Berlin:20260821T140000
UID:261BS40453-20260821T100000@VHSUNTERLAND
SUMMARY:Sprachcafé Deutsch Ein Einstieg ist jederzeit möglich (261BS40453) 
LOCATION:bs Alte Kelter, Kelterstraße 5, 71717 Beilstein
END:VEVENT
END:VCALENDAR