BEGIN:VCALENDAR
VERSION:2.0
PRODID:http://www.kufer.de/kuferweb / DE
METHOD:PUBLISH
CALSCALE:GREGORIAN
X-WR-TIMEZONE:Europe/Berlin
BEGIN:VTIMEZONE
TZID:Europe/Berlin
X-LIC-LOCATION:Europe/Berlin
BEGIN:DAYLIGHT
TZOFFSETFROM:+0100
TZOFFSETTO:+0200
TZNAME:CEST
DTSTART;TZID=Europe/Berlin:19700329T020000
RRULE:FREQ=YEARLY;INTERVAL=1;BYDAY=-1SU;BYMONTH=3
END:DAYLIGHT
BEGIN:STANDARD
TZOFFSETFROM:+0200
TZOFFSETTO:+0100
TZNAME:CET
DTSTART;TZID=Europe/Berlin:19701025T030000
RRULE:FREQ=YEARLY;INTERVAL=1;BYDAY=-1SU;BYMONTH=10
END:STANDARD
END:VTIMEZONE
BEGIN:VEVENT
DTSTAMP:20260421T042401
DTSTART;TZID=Europe/Berlin:20260309T194500
DTEND;TZID=Europe/Berlin:20260309T211500
UID:261BS30134-20260309T194500@VHSUNTERLAND
SUMMARY:Hatha Yoga am Abend (261BS30134) 
LOCATION:bs Kinderhaus Birkenweg Mehrzweckraum, Birkenweg 9, 71717 Beilstein
END:VEVENT
BEGIN:VEVENT
DTSTAMP:20260421T042401
DTSTART;TZID=Europe/Berlin:20260316T194500
DTEND;TZID=Europe/Berlin:20260316T211500
UID:261BS30134-20260316T194500@VHSUNTERLAND
SUMMARY:Hatha Yoga am Abend (261BS30134) 
LOCATION:bs Kinderhaus Birkenweg Mehrzweckraum, Birkenweg 9, 71717 Beilstein
END:VEVENT
BEGIN:VEVENT
DTSTAMP:20260421T042401
DTSTART;TZID=Europe/Berlin:20260323T194500
DTEND;TZID=Europe/Berlin:20260323T211500
UID:261BS30134-20260323T194500@VHSUNTERLAND
SUMMARY:Hatha Yoga am Abend (261BS30134) 
LOCATION:bs Kinderhaus Birkenweg Mehrzweckraum, Birkenweg 9, 71717 Beilstein
END:VEVENT
BEGIN:VEVENT
DTSTAMP:20260421T042401
DTSTART;TZID=Europe/Berlin:20260413T194500
DTEND;TZID=Europe/Berlin:20260413T211500
UID:261BS30134-20260413T194500@VHSUNTERLAND
SUMMARY:Hatha Yoga am Abend (261BS30134) 
LOCATION:bs Kinderhaus Birkenweg Mehrzweckraum, Birkenweg 9, 71717 Beilstein
END:VEVENT
BEGIN:VEVENT
DTSTAMP:20260421T042401
DTSTART;TZID=Europe/Berlin:20260420T194500
DTEND;TZID=Europe/Berlin:20260420T211500
UID:261BS30134-20260420T194500@VHSUNTERLAND
SUMMARY:Hatha Yoga am Abend (261BS30134) 
LOCATION:bs Kinderhaus Birkenweg Mehrzweckraum, Birkenweg 9, 71717 Beilstein
END:VEVENT
BEGIN:VEVENT
DTSTAMP:20260421T042401
DTSTART;TZID=Europe/Berlin:20260427T194500
DTEND;TZID=Europe/Berlin:20260427T211500
UID:261BS30134-20260427T194500@VHSUNTERLAND
SUMMARY:Hatha Yoga am Abend (261BS30134) 
LOCATION:bs Kinderhaus Birkenweg Mehrzweckraum, Birkenweg 9, 71717 Beilstein
END:VEVENT
BEGIN:VEVENT
DTSTAMP:20260421T042401
DTSTART;TZID=Europe/Berlin:20260504T194500
DTEND;TZID=Europe/Berlin:20260504T211500
UID:261BS30134-20260504T194500@VHSUNTERLAND
SUMMARY:Hatha Yoga am Abend (261BS30134) 
LOCATION:bs Kinderhaus Birkenweg Mehrzweckraum, Birkenweg 9, 71717 Beilstein
END:VEVENT
BEGIN:VEVENT
DTSTAMP:20260421T042401
DTSTART;TZID=Europe/Berlin:20260511T194500
DTEND;TZID=Europe/Berlin:20260511T211500
UID:261BS30134-20260511T194500@VHSUNTERLAND
SUMMARY:Hatha Yoga am Abend (261BS30134) 
LOCATION:bs Kinderhaus Birkenweg Mehrzweckraum, Birkenweg 9, 71717 Beilstein
END:VEVENT
BEGIN:VEVENT
DTSTAMP:20260421T042401
DTSTART;TZID=Europe/Berlin:20260518T194500
DTEND;TZID=Europe/Berlin:20260518T211500
UID:261BS30134-20260518T194500@VHSUNTERLAND
SUMMARY:Hatha Yoga am Abend (261BS30134) 
LOCATION:bs Kinderhaus Birkenweg Mehrzweckraum, Birkenweg 9, 71717 Beilstein
END:VEVENT
BEGIN:VEVENT
DTSTAMP:20260421T042401
DTSTART;TZID=Europe/Berlin:20260608T194500
DTEND;TZID=Europe/Berlin:20260608T211500
UID:261BS30134-20260608T194500@VHSUNTERLAND
SUMMARY:Hatha Yoga am Abend (261BS30134) 
LOCATION:bs Kinderhaus Birkenweg Mehrzweckraum, Birkenweg 9, 71717 Beilstein
END:VEVENT
BEGIN:VEVENT
DTSTAMP:20260421T042401
DTSTART;TZID=Europe/Berlin:20260615T194500
DTEND;TZID=Europe/Berlin:20260615T211500
UID:261BS30134-20260615T194500@VHSUNTERLAND
SUMMARY:Hatha Yoga am Abend (261BS30134) 
LOCATION:bs Kinderhaus Birkenweg Mehrzweckraum, Birkenweg 9, 71717 Beilstein
END:VEVENT
BEGIN:VEVENT
DTSTAMP:20260421T042401
DTSTART;TZID=Europe/Berlin:20260622T194500
DTEND;TZID=Europe/Berlin:20260622T211500
UID:261BS30134-20260622T194500@VHSUNTERLAND
SUMMARY:Hatha Yoga am Abend (261BS30134) 
LOCATION:bs Kinderhaus Birkenweg Mehrzweckraum, Birkenweg 9, 71717 Beilstein
END:VEVENT
END:VCALENDAR