BEGIN:VCALENDAR
VERSION:2.0
PRODID:http://www.kufer.de/kuferweb / DE
METHOD:PUBLISH
CALSCALE:GREGORIAN
X-WR-TIMEZONE:Europe/Berlin
BEGIN:VTIMEZONE
TZID:Europe/Berlin
X-LIC-LOCATION:Europe/Berlin
BEGIN:DAYLIGHT
TZOFFSETFROM:+0100
TZOFFSETTO:+0200
TZNAME:CEST
DTSTART;TZID=Europe/Berlin:19700329T020000
RRULE:FREQ=YEARLY;INTERVAL=1;BYDAY=-1SU;BYMONTH=3
END:DAYLIGHT
BEGIN:STANDARD
TZOFFSETFROM:+0200
TZOFFSETTO:+0100
TZNAME:CET
DTSTART;TZID=Europe/Berlin:19701025T030000
RRULE:FREQ=YEARLY;INTERVAL=1;BYDAY=-1SU;BYMONTH=10
END:STANDARD
END:VTIMEZONE
BEGIN:VEVENT
DTSTAMP:20260421T000955
DTSTART;TZID=Europe/Berlin:20260619T100000
DTEND;TZID=Europe/Berlin:20260619T104500
UID:261BS20593-20260619T100000@VHSUNTERLAND
SUMMARY:Tanzmäuse: Spielerisches Tanzen für die Kleinsten Für Kinder von 20 Monaten bis 3 Jahren mit einer Bezugsperson (261BS20593) 
LOCATION:bs Tanzstudio Tanzboden, Hoftalstr. 24, 71720 Oberstenfeld
END:VEVENT
BEGIN:VEVENT
DTSTAMP:20260421T000955
DTSTART;TZID=Europe/Berlin:20260626T100000
DTEND;TZID=Europe/Berlin:20260626T104500
UID:261BS20593-20260626T100000@VHSUNTERLAND
SUMMARY:Tanzmäuse: Spielerisches Tanzen für die Kleinsten Für Kinder von 20 Monaten bis 3 Jahren mit einer Bezugsperson (261BS20593) 
LOCATION:bs Tanzstudio Tanzboden, Hoftalstr. 24, 71720 Oberstenfeld
END:VEVENT
BEGIN:VEVENT
DTSTAMP:20260421T000955
DTSTART;TZID=Europe/Berlin:20260703T100000
DTEND;TZID=Europe/Berlin:20260703T104500
UID:261BS20593-20260703T100000@VHSUNTERLAND
SUMMARY:Tanzmäuse: Spielerisches Tanzen für die Kleinsten Für Kinder von 20 Monaten bis 3 Jahren mit einer Bezugsperson (261BS20593) 
LOCATION:bs Tanzstudio Tanzboden, Hoftalstr. 24, 71720 Oberstenfeld
END:VEVENT
BEGIN:VEVENT
DTSTAMP:20260421T000955
DTSTART;TZID=Europe/Berlin:20260710T100000
DTEND;TZID=Europe/Berlin:20260710T104500
UID:261BS20593-20260710T100000@VHSUNTERLAND
SUMMARY:Tanzmäuse: Spielerisches Tanzen für die Kleinsten Für Kinder von 20 Monaten bis 3 Jahren mit einer Bezugsperson (261BS20593) 
LOCATION:bs Tanzstudio Tanzboden, Hoftalstr. 24, 71720 Oberstenfeld
END:VEVENT
BEGIN:VEVENT
DTSTAMP:20260421T000955
DTSTART;TZID=Europe/Berlin:20260717T100000
DTEND;TZID=Europe/Berlin:20260717T104500
UID:261BS20593-20260717T100000@VHSUNTERLAND
SUMMARY:Tanzmäuse: Spielerisches Tanzen für die Kleinsten Für Kinder von 20 Monaten bis 3 Jahren mit einer Bezugsperson (261BS20593) 
LOCATION:bs Tanzstudio Tanzboden, Hoftalstr. 24, 71720 Oberstenfeld
END:VEVENT
END:VCALENDAR