BEGIN:VCALENDAR
VERSION:2.0
PRODID:http://www.kufer.de/kuferweb / DE
METHOD:PUBLISH
CALSCALE:GREGORIAN
X-WR-TIMEZONE:Europe/Berlin
BEGIN:VTIMEZONE
TZID:Europe/Berlin
X-LIC-LOCATION:Europe/Berlin
BEGIN:DAYLIGHT
TZOFFSETFROM:+0100
TZOFFSETTO:+0200
TZNAME:CEST
DTSTART;TZID=Europe/Berlin:19700329T020000
RRULE:FREQ=YEARLY;INTERVAL=1;BYDAY=-1SU;BYMONTH=3
END:DAYLIGHT
BEGIN:STANDARD
TZOFFSETFROM:+0200
TZOFFSETTO:+0100
TZNAME:CET
DTSTART;TZID=Europe/Berlin:19701025T030000
RRULE:FREQ=YEARLY;INTERVAL=1;BYDAY=-1SU;BYMONTH=10
END:STANDARD
END:VTIMEZONE
BEGIN:VEVENT
DTSTAMP:20260421T183500
DTSTART;TZID=Europe/Berlin:20260227T153000
DTEND;TZID=Europe/Berlin:20260227T163000
UID:261BS20587-20260227T153000@VHSUNTERLAND
SUMMARY:Kindertanz im klassischen Stil kreativ von 4 - 6 Jahren (261BS20587) 
LOCATION:bs Tanzstudio Tanzboden, Hoftalstr. 24, 71720 Oberstenfeld
END:VEVENT
BEGIN:VEVENT
DTSTAMP:20260421T183500
DTSTART;TZID=Europe/Berlin:20260306T153000
DTEND;TZID=Europe/Berlin:20260306T163000
UID:261BS20587-20260306T153000@VHSUNTERLAND
SUMMARY:Kindertanz im klassischen Stil kreativ von 4 - 6 Jahren (261BS20587) 
LOCATION:bs Tanzstudio Tanzboden, Hoftalstr. 24, 71720 Oberstenfeld
END:VEVENT
BEGIN:VEVENT
DTSTAMP:20260421T183500
DTSTART;TZID=Europe/Berlin:20260313T153000
DTEND;TZID=Europe/Berlin:20260313T163000
UID:261BS20587-20260313T153000@VHSUNTERLAND
SUMMARY:Kindertanz im klassischen Stil kreativ von 4 - 6 Jahren (261BS20587) 
LOCATION:bs Tanzstudio Tanzboden, Hoftalstr. 24, 71720 Oberstenfeld
END:VEVENT
BEGIN:VEVENT
DTSTAMP:20260421T183500
DTSTART;TZID=Europe/Berlin:20260320T153000
DTEND;TZID=Europe/Berlin:20260320T163000
UID:261BS20587-20260320T153000@VHSUNTERLAND
SUMMARY:Kindertanz im klassischen Stil kreativ von 4 - 6 Jahren (261BS20587) 
LOCATION:bs Tanzstudio Tanzboden, Hoftalstr. 24, 71720 Oberstenfeld
END:VEVENT
BEGIN:VEVENT
DTSTAMP:20260421T183500
DTSTART;TZID=Europe/Berlin:20260327T153000
DTEND;TZID=Europe/Berlin:20260327T163000
UID:261BS20587-20260327T153000@VHSUNTERLAND
SUMMARY:Kindertanz im klassischen Stil kreativ von 4 - 6 Jahren (261BS20587) 
LOCATION:bs Tanzstudio Tanzboden, Hoftalstr. 24, 71720 Oberstenfeld
END:VEVENT
BEGIN:VEVENT
DTSTAMP:20260421T183500
DTSTART;TZID=Europe/Berlin:20260417T153000
DTEND;TZID=Europe/Berlin:20260417T163000
UID:261BS20587-20260417T153000@VHSUNTERLAND
SUMMARY:Kindertanz im klassischen Stil kreativ von 4 - 6 Jahren (261BS20587) 
LOCATION:bs Tanzstudio Tanzboden, Hoftalstr. 24, 71720 Oberstenfeld
END:VEVENT
BEGIN:VEVENT
DTSTAMP:20260421T183500
DTSTART;TZID=Europe/Berlin:20260424T153000
DTEND;TZID=Europe/Berlin:20260424T163000
UID:261BS20587-20260424T153000@VHSUNTERLAND
SUMMARY:Kindertanz im klassischen Stil kreativ von 4 - 6 Jahren (261BS20587) 
LOCATION:bs Tanzstudio Tanzboden, Hoftalstr. 24, 71720 Oberstenfeld
END:VEVENT
BEGIN:VEVENT
DTSTAMP:20260421T183500
DTSTART;TZID=Europe/Berlin:20260508T153000
DTEND;TZID=Europe/Berlin:20260508T163000
UID:261BS20587-20260508T153000@VHSUNTERLAND
SUMMARY:Kindertanz im klassischen Stil kreativ von 4 - 6 Jahren (261BS20587) 
LOCATION:bs Tanzstudio Tanzboden, Hoftalstr. 24, 71720 Oberstenfeld
END:VEVENT
BEGIN:VEVENT
DTSTAMP:20260421T183500
DTSTART;TZID=Europe/Berlin:20260515T153000
DTEND;TZID=Europe/Berlin:20260515T163000
UID:261BS20587-20260515T153000@VHSUNTERLAND
SUMMARY:Kindertanz im klassischen Stil kreativ von 4 - 6 Jahren (261BS20587) 
LOCATION:bs Tanzstudio Tanzboden, Hoftalstr. 24, 71720 Oberstenfeld
END:VEVENT
BEGIN:VEVENT
DTSTAMP:20260421T183500
DTSTART;TZID=Europe/Berlin:20260522T153000
DTEND;TZID=Europe/Berlin:20260522T163000
UID:261BS20587-20260522T153000@VHSUNTERLAND
SUMMARY:Kindertanz im klassischen Stil kreativ von 4 - 6 Jahren (261BS20587) 
LOCATION:bs Tanzstudio Tanzboden, Hoftalstr. 24, 71720 Oberstenfeld
END:VEVENT
BEGIN:VEVENT
DTSTAMP:20260421T183500
DTSTART;TZID=Europe/Berlin:20260612T153000
DTEND;TZID=Europe/Berlin:20260612T163000
UID:261BS20587-20260612T153000@VHSUNTERLAND
SUMMARY:Kindertanz im klassischen Stil kreativ von 4 - 6 Jahren (261BS20587) 
LOCATION:bs Tanzstudio Tanzboden, Hoftalstr. 24, 71720 Oberstenfeld
END:VEVENT
BEGIN:VEVENT
DTSTAMP:20260421T183500
DTSTART;TZID=Europe/Berlin:20260619T153000
DTEND;TZID=Europe/Berlin:20260619T163000
UID:261BS20587-20260619T153000@VHSUNTERLAND
SUMMARY:Kindertanz im klassischen Stil kreativ von 4 - 6 Jahren (261BS20587) 
LOCATION:bs Tanzstudio Tanzboden, Hoftalstr. 24, 71720 Oberstenfeld
END:VEVENT
BEGIN:VEVENT
DTSTAMP:20260421T183500
DTSTART;TZID=Europe/Berlin:20260626T153000
DTEND;TZID=Europe/Berlin:20260626T163000
UID:261BS20587-20260626T153000@VHSUNTERLAND
SUMMARY:Kindertanz im klassischen Stil kreativ von 4 - 6 Jahren (261BS20587) 
LOCATION:bs Tanzstudio Tanzboden, Hoftalstr. 24, 71720 Oberstenfeld
END:VEVENT
BEGIN:VEVENT
DTSTAMP:20260421T183500
DTSTART;TZID=Europe/Berlin:20260703T153000
DTEND;TZID=Europe/Berlin:20260703T163000
UID:261BS20587-20260703T153000@VHSUNTERLAND
SUMMARY:Kindertanz im klassischen Stil kreativ von 4 - 6 Jahren (261BS20587) 
LOCATION:bs Tanzstudio Tanzboden, Hoftalstr. 24, 71720 Oberstenfeld
END:VEVENT
BEGIN:VEVENT
DTSTAMP:20260421T183500
DTSTART;TZID=Europe/Berlin:20260710T153000
DTEND;TZID=Europe/Berlin:20260710T163000
UID:261BS20587-20260710T153000@VHSUNTERLAND
SUMMARY:Kindertanz im klassischen Stil kreativ von 4 - 6 Jahren (261BS20587) 
LOCATION:bs Tanzstudio Tanzboden, Hoftalstr. 24, 71720 Oberstenfeld
END:VEVENT
BEGIN:VEVENT
DTSTAMP:20260421T183500
DTSTART;TZID=Europe/Berlin:20260711T153000
DTEND;TZID=Europe/Berlin:20260711T163000
UID:261BS20587-20260711T153000@VHSUNTERLAND
SUMMARY:Kindertanz im klassischen Stil kreativ von 4 - 6 Jahren (261BS20587) 
LOCATION:bs Tanzstudio Tanzboden, Hoftalstr. 24, 71720 Oberstenfeld
END:VEVENT
BEGIN:VEVENT
DTSTAMP:20260421T183500
DTSTART;TZID=Europe/Berlin:20260717T153000
DTEND;TZID=Europe/Berlin:20260717T163000
UID:261BS20587-20260717T153000@VHSUNTERLAND
SUMMARY:Kindertanz im klassischen Stil kreativ von 4 - 6 Jahren (261BS20587) 
LOCATION:bs Tanzstudio Tanzboden, Hoftalstr. 24, 71720 Oberstenfeld
END:VEVENT
END:VCALENDAR