BEGIN:VCALENDAR
VERSION:2.0
PRODID:http://www.kufer.de/kuferweb / DE
METHOD:PUBLISH
CALSCALE:GREGORIAN
X-WR-TIMEZONE:Europe/Berlin
BEGIN:VTIMEZONE
TZID:Europe/Berlin
X-LIC-LOCATION:Europe/Berlin
BEGIN:DAYLIGHT
TZOFFSETFROM:+0100
TZOFFSETTO:+0200
TZNAME:CEST
DTSTART;TZID=Europe/Berlin:19700329T020000
RRULE:FREQ=YEARLY;INTERVAL=1;BYDAY=-1SU;BYMONTH=3
END:DAYLIGHT
BEGIN:STANDARD
TZOFFSETFROM:+0200
TZOFFSETTO:+0100
TZNAME:CET
DTSTART;TZID=Europe/Berlin:19701025T030000
RRULE:FREQ=YEARLY;INTERVAL=1;BYDAY=-1SU;BYMONTH=10
END:STANDARD
END:VTIMEZONE
BEGIN:VEVENT
DTSTAMP:20260423T123119
DTSTART;TZID=Europe/Berlin:20260223T153000
DTEND;TZID=Europe/Berlin:20260223T163000
UID:261BS20585-20260223T153000@VHSUNTERLAND
SUMMARY:Kindertanz im klassischen Stil  von 6 - 8 Jahren (261BS20585) 
LOCATION:bs Tanzstudio Tanzboden, Hoftalstr. 24, 71720 Oberstenfeld
END:VEVENT
BEGIN:VEVENT
DTSTAMP:20260423T123119
DTSTART;TZID=Europe/Berlin:20260302T153000
DTEND;TZID=Europe/Berlin:20260302T163000
UID:261BS20585-20260302T153000@VHSUNTERLAND
SUMMARY:Kindertanz im klassischen Stil  von 6 - 8 Jahren (261BS20585) 
LOCATION:bs Tanzstudio Tanzboden, Hoftalstr. 24, 71720 Oberstenfeld
END:VEVENT
BEGIN:VEVENT
DTSTAMP:20260423T123119
DTSTART;TZID=Europe/Berlin:20260309T153000
DTEND;TZID=Europe/Berlin:20260309T163000
UID:261BS20585-20260309T153000@VHSUNTERLAND
SUMMARY:Kindertanz im klassischen Stil  von 6 - 8 Jahren (261BS20585) 
LOCATION:bs Tanzstudio Tanzboden, Hoftalstr. 24, 71720 Oberstenfeld
END:VEVENT
BEGIN:VEVENT
DTSTAMP:20260423T123119
DTSTART;TZID=Europe/Berlin:20260316T153000
DTEND;TZID=Europe/Berlin:20260316T163000
UID:261BS20585-20260316T153000@VHSUNTERLAND
SUMMARY:Kindertanz im klassischen Stil  von 6 - 8 Jahren (261BS20585) 
LOCATION:bs Tanzstudio Tanzboden, Hoftalstr. 24, 71720 Oberstenfeld
END:VEVENT
BEGIN:VEVENT
DTSTAMP:20260423T123119
DTSTART;TZID=Europe/Berlin:20260323T153000
DTEND;TZID=Europe/Berlin:20260323T163000
UID:261BS20585-20260323T153000@VHSUNTERLAND
SUMMARY:Kindertanz im klassischen Stil  von 6 - 8 Jahren (261BS20585) 
LOCATION:bs Tanzstudio Tanzboden, Hoftalstr. 24, 71720 Oberstenfeld
END:VEVENT
BEGIN:VEVENT
DTSTAMP:20260423T123119
DTSTART;TZID=Europe/Berlin:20260413T153000
DTEND;TZID=Europe/Berlin:20260413T163000
UID:261BS20585-20260413T153000@VHSUNTERLAND
SUMMARY:Kindertanz im klassischen Stil  von 6 - 8 Jahren (261BS20585) 
LOCATION:bs Tanzstudio Tanzboden, Hoftalstr. 24, 71720 Oberstenfeld
END:VEVENT
BEGIN:VEVENT
DTSTAMP:20260423T123119
DTSTART;TZID=Europe/Berlin:20260420T153000
DTEND;TZID=Europe/Berlin:20260420T163000
UID:261BS20585-20260420T153000@VHSUNTERLAND
SUMMARY:Kindertanz im klassischen Stil  von 6 - 8 Jahren (261BS20585) 
LOCATION:bs Tanzstudio Tanzboden, Hoftalstr. 24, 71720 Oberstenfeld
END:VEVENT
BEGIN:VEVENT
DTSTAMP:20260423T123119
DTSTART;TZID=Europe/Berlin:20260427T153000
DTEND;TZID=Europe/Berlin:20260427T163000
UID:261BS20585-20260427T153000@VHSUNTERLAND
SUMMARY:Kindertanz im klassischen Stil  von 6 - 8 Jahren (261BS20585) 
LOCATION:bs Tanzstudio Tanzboden, Hoftalstr. 24, 71720 Oberstenfeld
END:VEVENT
BEGIN:VEVENT
DTSTAMP:20260423T123119
DTSTART;TZID=Europe/Berlin:20260504T153000
DTEND;TZID=Europe/Berlin:20260504T163000
UID:261BS20585-20260504T153000@VHSUNTERLAND
SUMMARY:Kindertanz im klassischen Stil  von 6 - 8 Jahren (261BS20585) 
LOCATION:bs Tanzstudio Tanzboden, Hoftalstr. 24, 71720 Oberstenfeld
END:VEVENT
BEGIN:VEVENT
DTSTAMP:20260423T123119
DTSTART;TZID=Europe/Berlin:20260511T153000
DTEND;TZID=Europe/Berlin:20260511T163000
UID:261BS20585-20260511T153000@VHSUNTERLAND
SUMMARY:Kindertanz im klassischen Stil  von 6 - 8 Jahren (261BS20585) 
LOCATION:bs Tanzstudio Tanzboden, Hoftalstr. 24, 71720 Oberstenfeld
END:VEVENT
BEGIN:VEVENT
DTSTAMP:20260423T123119
DTSTART;TZID=Europe/Berlin:20260518T153000
DTEND;TZID=Europe/Berlin:20260518T163000
UID:261BS20585-20260518T153000@VHSUNTERLAND
SUMMARY:Kindertanz im klassischen Stil  von 6 - 8 Jahren (261BS20585) 
LOCATION:bs Tanzstudio Tanzboden, Hoftalstr. 24, 71720 Oberstenfeld
END:VEVENT
BEGIN:VEVENT
DTSTAMP:20260423T123119
DTSTART;TZID=Europe/Berlin:20260608T153000
DTEND;TZID=Europe/Berlin:20260608T163000
UID:261BS20585-20260608T153000@VHSUNTERLAND
SUMMARY:Kindertanz im klassischen Stil  von 6 - 8 Jahren (261BS20585) 
LOCATION:bs Tanzstudio Tanzboden, Hoftalstr. 24, 71720 Oberstenfeld
END:VEVENT
BEGIN:VEVENT
DTSTAMP:20260423T123119
DTSTART;TZID=Europe/Berlin:20260615T153000
DTEND;TZID=Europe/Berlin:20260615T163000
UID:261BS20585-20260615T153000@VHSUNTERLAND
SUMMARY:Kindertanz im klassischen Stil  von 6 - 8 Jahren (261BS20585) 
LOCATION:bs Tanzstudio Tanzboden, Hoftalstr. 24, 71720 Oberstenfeld
END:VEVENT
BEGIN:VEVENT
DTSTAMP:20260423T123119
DTSTART;TZID=Europe/Berlin:20260622T153000
DTEND;TZID=Europe/Berlin:20260622T163000
UID:261BS20585-20260622T153000@VHSUNTERLAND
SUMMARY:Kindertanz im klassischen Stil  von 6 - 8 Jahren (261BS20585) 
LOCATION:bs Tanzstudio Tanzboden, Hoftalstr. 24, 71720 Oberstenfeld
END:VEVENT
BEGIN:VEVENT
DTSTAMP:20260423T123119
DTSTART;TZID=Europe/Berlin:20260629T153000
DTEND;TZID=Europe/Berlin:20260629T163000
UID:261BS20585-20260629T153000@VHSUNTERLAND
SUMMARY:Kindertanz im klassischen Stil  von 6 - 8 Jahren (261BS20585) 
LOCATION:bs Tanzstudio Tanzboden, Hoftalstr. 24, 71720 Oberstenfeld
END:VEVENT
BEGIN:VEVENT
DTSTAMP:20260423T123119
DTSTART;TZID=Europe/Berlin:20260706T153000
DTEND;TZID=Europe/Berlin:20260706T163000
UID:261BS20585-20260706T153000@VHSUNTERLAND
SUMMARY:Kindertanz im klassischen Stil  von 6 - 8 Jahren (261BS20585) 
LOCATION:bs Tanzstudio Tanzboden, Hoftalstr. 24, 71720 Oberstenfeld
END:VEVENT
BEGIN:VEVENT
DTSTAMP:20260423T123119
DTSTART;TZID=Europe/Berlin:20260711T153000
DTEND;TZID=Europe/Berlin:20260711T163000
UID:261BS20585-20260711T153000@VHSUNTERLAND
SUMMARY:Kindertanz im klassischen Stil  von 6 - 8 Jahren (261BS20585) 
LOCATION:bs Tanzstudio Tanzboden, Hoftalstr. 24, 71720 Oberstenfeld
END:VEVENT
BEGIN:VEVENT
DTSTAMP:20260423T123119
DTSTART;TZID=Europe/Berlin:20260713T153000
DTEND;TZID=Europe/Berlin:20260713T163000
UID:261BS20585-20260713T153000@VHSUNTERLAND
SUMMARY:Kindertanz im klassischen Stil  von 6 - 8 Jahren (261BS20585) 
LOCATION:bs Tanzstudio Tanzboden, Hoftalstr. 24, 71720 Oberstenfeld
END:VEVENT
END:VCALENDAR