BEGIN:VCALENDAR
VERSION:2.0
PRODID:http://www.kufer.de/kuferweb / DE
METHOD:PUBLISH
CALSCALE:GREGORIAN
X-WR-TIMEZONE:Europe/Berlin
BEGIN:VTIMEZONE
TZID:Europe/Berlin
X-LIC-LOCATION:Europe/Berlin
BEGIN:DAYLIGHT
TZOFFSETFROM:+0100
TZOFFSETTO:+0200
TZNAME:CEST
DTSTART;TZID=Europe/Berlin:19700329T020000
RRULE:FREQ=YEARLY;INTERVAL=1;BYDAY=-1SU;BYMONTH=3
END:DAYLIGHT
BEGIN:STANDARD
TZOFFSETFROM:+0200
TZOFFSETTO:+0100
TZNAME:CET
DTSTART;TZID=Europe/Berlin:19701025T030000
RRULE:FREQ=YEARLY;INTERVAL=1;BYDAY=-1SU;BYMONTH=10
END:STANDARD
END:VTIMEZONE
BEGIN:VEVENT
DTSTAMP:20260422T164615
DTSTART;TZID=Europe/Berlin:20260223T144500
DTEND;TZID=Europe/Berlin:20260223T153000
UID:261BS20580-20260223T144500@VHSUNTERLAND
SUMMARY:Kreativer Kindertanz Minis von 3 - 5 Jahren (261BS20580) 
LOCATION:bs Tanzstudio Tanzboden, Hoftalstr. 24, 71720 Oberstenfeld
END:VEVENT
BEGIN:VEVENT
DTSTAMP:20260422T164615
DTSTART;TZID=Europe/Berlin:20260302T144500
DTEND;TZID=Europe/Berlin:20260302T153000
UID:261BS20580-20260302T144500@VHSUNTERLAND
SUMMARY:Kreativer Kindertanz Minis von 3 - 5 Jahren (261BS20580) 
LOCATION:bs Tanzstudio Tanzboden, Hoftalstr. 24, 71720 Oberstenfeld
END:VEVENT
BEGIN:VEVENT
DTSTAMP:20260422T164615
DTSTART;TZID=Europe/Berlin:20260309T144500
DTEND;TZID=Europe/Berlin:20260309T153000
UID:261BS20580-20260309T144500@VHSUNTERLAND
SUMMARY:Kreativer Kindertanz Minis von 3 - 5 Jahren (261BS20580) 
LOCATION:bs Tanzstudio Tanzboden, Hoftalstr. 24, 71720 Oberstenfeld
END:VEVENT
BEGIN:VEVENT
DTSTAMP:20260422T164615
DTSTART;TZID=Europe/Berlin:20260316T144500
DTEND;TZID=Europe/Berlin:20260316T153000
UID:261BS20580-20260316T144500@VHSUNTERLAND
SUMMARY:Kreativer Kindertanz Minis von 3 - 5 Jahren (261BS20580) 
LOCATION:bs Tanzstudio Tanzboden, Hoftalstr. 24, 71720 Oberstenfeld
END:VEVENT
BEGIN:VEVENT
DTSTAMP:20260422T164615
DTSTART;TZID=Europe/Berlin:20260323T144500
DTEND;TZID=Europe/Berlin:20260323T153000
UID:261BS20580-20260323T144500@VHSUNTERLAND
SUMMARY:Kreativer Kindertanz Minis von 3 - 5 Jahren (261BS20580) 
LOCATION:bs Tanzstudio Tanzboden, Hoftalstr. 24, 71720 Oberstenfeld
END:VEVENT
BEGIN:VEVENT
DTSTAMP:20260422T164615
DTSTART;TZID=Europe/Berlin:20260413T144500
DTEND;TZID=Europe/Berlin:20260413T153000
UID:261BS20580-20260413T144500@VHSUNTERLAND
SUMMARY:Kreativer Kindertanz Minis von 3 - 5 Jahren (261BS20580) 
LOCATION:bs Tanzstudio Tanzboden, Hoftalstr. 24, 71720 Oberstenfeld
END:VEVENT
BEGIN:VEVENT
DTSTAMP:20260422T164615
DTSTART;TZID=Europe/Berlin:20260420T144500
DTEND;TZID=Europe/Berlin:20260420T153000
UID:261BS20580-20260420T144500@VHSUNTERLAND
SUMMARY:Kreativer Kindertanz Minis von 3 - 5 Jahren (261BS20580) 
LOCATION:bs Tanzstudio Tanzboden, Hoftalstr. 24, 71720 Oberstenfeld
END:VEVENT
BEGIN:VEVENT
DTSTAMP:20260422T164615
DTSTART;TZID=Europe/Berlin:20260427T144500
DTEND;TZID=Europe/Berlin:20260427T153000
UID:261BS20580-20260427T144500@VHSUNTERLAND
SUMMARY:Kreativer Kindertanz Minis von 3 - 5 Jahren (261BS20580) 
LOCATION:bs Tanzstudio Tanzboden, Hoftalstr. 24, 71720 Oberstenfeld
END:VEVENT
BEGIN:VEVENT
DTSTAMP:20260422T164615
DTSTART;TZID=Europe/Berlin:20260504T144500
DTEND;TZID=Europe/Berlin:20260504T153000
UID:261BS20580-20260504T144500@VHSUNTERLAND
SUMMARY:Kreativer Kindertanz Minis von 3 - 5 Jahren (261BS20580) 
LOCATION:bs Tanzstudio Tanzboden, Hoftalstr. 24, 71720 Oberstenfeld
END:VEVENT
BEGIN:VEVENT
DTSTAMP:20260422T164615
DTSTART;TZID=Europe/Berlin:20260511T144500
DTEND;TZID=Europe/Berlin:20260511T153000
UID:261BS20580-20260511T144500@VHSUNTERLAND
SUMMARY:Kreativer Kindertanz Minis von 3 - 5 Jahren (261BS20580) 
LOCATION:bs Tanzstudio Tanzboden, Hoftalstr. 24, 71720 Oberstenfeld
END:VEVENT
BEGIN:VEVENT
DTSTAMP:20260422T164615
DTSTART;TZID=Europe/Berlin:20260518T144500
DTEND;TZID=Europe/Berlin:20260518T153000
UID:261BS20580-20260518T144500@VHSUNTERLAND
SUMMARY:Kreativer Kindertanz Minis von 3 - 5 Jahren (261BS20580) 
LOCATION:bs Tanzstudio Tanzboden, Hoftalstr. 24, 71720 Oberstenfeld
END:VEVENT
BEGIN:VEVENT
DTSTAMP:20260422T164615
DTSTART;TZID=Europe/Berlin:20260608T144500
DTEND;TZID=Europe/Berlin:20260608T153000
UID:261BS20580-20260608T144500@VHSUNTERLAND
SUMMARY:Kreativer Kindertanz Minis von 3 - 5 Jahren (261BS20580) 
LOCATION:bs Tanzstudio Tanzboden, Hoftalstr. 24, 71720 Oberstenfeld
END:VEVENT
BEGIN:VEVENT
DTSTAMP:20260422T164615
DTSTART;TZID=Europe/Berlin:20260615T144500
DTEND;TZID=Europe/Berlin:20260615T153000
UID:261BS20580-20260615T144500@VHSUNTERLAND
SUMMARY:Kreativer Kindertanz Minis von 3 - 5 Jahren (261BS20580) 
LOCATION:bs Tanzstudio Tanzboden, Hoftalstr. 24, 71720 Oberstenfeld
END:VEVENT
BEGIN:VEVENT
DTSTAMP:20260422T164615
DTSTART;TZID=Europe/Berlin:20260622T144500
DTEND;TZID=Europe/Berlin:20260622T153000
UID:261BS20580-20260622T144500@VHSUNTERLAND
SUMMARY:Kreativer Kindertanz Minis von 3 - 5 Jahren (261BS20580) 
LOCATION:bs Tanzstudio Tanzboden, Hoftalstr. 24, 71720 Oberstenfeld
END:VEVENT
BEGIN:VEVENT
DTSTAMP:20260422T164615
DTSTART;TZID=Europe/Berlin:20260629T144500
DTEND;TZID=Europe/Berlin:20260629T153000
UID:261BS20580-20260629T144500@VHSUNTERLAND
SUMMARY:Kreativer Kindertanz Minis von 3 - 5 Jahren (261BS20580) 
LOCATION:bs Tanzstudio Tanzboden, Hoftalstr. 24, 71720 Oberstenfeld
END:VEVENT
BEGIN:VEVENT
DTSTAMP:20260422T164615
DTSTART;TZID=Europe/Berlin:20260706T144500
DTEND;TZID=Europe/Berlin:20260706T153000
UID:261BS20580-20260706T144500@VHSUNTERLAND
SUMMARY:Kreativer Kindertanz Minis von 3 - 5 Jahren (261BS20580) 
LOCATION:bs Tanzstudio Tanzboden, Hoftalstr. 24, 71720 Oberstenfeld
END:VEVENT
BEGIN:VEVENT
DTSTAMP:20260422T164615
DTSTART;TZID=Europe/Berlin:20260711T144500
DTEND;TZID=Europe/Berlin:20260711T153000
UID:261BS20580-20260711T144500@VHSUNTERLAND
SUMMARY:Kreativer Kindertanz Minis von 3 - 5 Jahren (261BS20580) 
LOCATION:bs Tanzstudio Tanzboden, Hoftalstr. 24, 71720 Oberstenfeld
END:VEVENT
BEGIN:VEVENT
DTSTAMP:20260422T164615
DTSTART;TZID=Europe/Berlin:20260713T144500
DTEND;TZID=Europe/Berlin:20260713T153000
UID:261BS20580-20260713T144500@VHSUNTERLAND
SUMMARY:Kreativer Kindertanz Minis von 3 - 5 Jahren (261BS20580) 
LOCATION:bs Tanzstudio Tanzboden, Hoftalstr. 24, 71720 Oberstenfeld
END:VEVENT
END:VCALENDAR