BEGIN:VCALENDAR
VERSION:2.0
PRODID:http://www.kufer.de/kuferweb / DE
METHOD:PUBLISH
CALSCALE:GREGORIAN
X-WR-TIMEZONE:Europe/Berlin
BEGIN:VTIMEZONE
TZID:Europe/Berlin
X-LIC-LOCATION:Europe/Berlin
BEGIN:DAYLIGHT
TZOFFSETFROM:+0100
TZOFFSETTO:+0200
TZNAME:CEST
DTSTART;TZID=Europe/Berlin:19700329T020000
RRULE:FREQ=YEARLY;INTERVAL=1;BYDAY=-1SU;BYMONTH=3
END:DAYLIGHT
BEGIN:STANDARD
TZOFFSETFROM:+0200
TZOFFSETTO:+0100
TZNAME:CET
DTSTART;TZID=Europe/Berlin:19701025T030000
RRULE:FREQ=YEARLY;INTERVAL=1;BYDAY=-1SU;BYMONTH=10
END:STANDARD
END:VTIMEZONE
BEGIN:VEVENT
DTSTAMP:20260423T080210
DTSTART;TZID=Europe/Berlin:20260129T150000
DTEND;TZID=Europe/Berlin:20260129T161500
UID:261BS10680-20260129T150000@VHSUNTERLAND
SUMMARY:Gedächtnistraining 60 plus So halten Sie Ihr Gehirn fit (261BS10680) 
LOCATION:bs Altes Forsthaus, Hauptstraße 17, 71717 Beilstein
END:VEVENT
BEGIN:VEVENT
DTSTAMP:20260423T080210
DTSTART;TZID=Europe/Berlin:20260205T150000
DTEND;TZID=Europe/Berlin:20260205T161500
UID:261BS10680-20260205T150000@VHSUNTERLAND
SUMMARY:Gedächtnistraining 60 plus So halten Sie Ihr Gehirn fit (261BS10680) 
LOCATION:bs Altes Forsthaus, Hauptstraße 17, 71717 Beilstein
END:VEVENT
BEGIN:VEVENT
DTSTAMP:20260423T080210
DTSTART;TZID=Europe/Berlin:20260212T150000
DTEND;TZID=Europe/Berlin:20260212T161500
UID:261BS10680-20260212T150000@VHSUNTERLAND
SUMMARY:Gedächtnistraining 60 plus So halten Sie Ihr Gehirn fit (261BS10680) 
LOCATION:bs Altes Forsthaus, Hauptstraße 17, 71717 Beilstein
END:VEVENT
BEGIN:VEVENT
DTSTAMP:20260423T080210
DTSTART;TZID=Europe/Berlin:20260226T150000
DTEND;TZID=Europe/Berlin:20260226T161500
UID:261BS10680-20260226T150000@VHSUNTERLAND
SUMMARY:Gedächtnistraining 60 plus So halten Sie Ihr Gehirn fit (261BS10680) 
LOCATION:bs Altes Forsthaus, Hauptstraße 17, 71717 Beilstein
END:VEVENT
BEGIN:VEVENT
DTSTAMP:20260423T080210
DTSTART;TZID=Europe/Berlin:20260312T150000
DTEND;TZID=Europe/Berlin:20260312T161500
UID:261BS10680-20260312T150000@VHSUNTERLAND
SUMMARY:Gedächtnistraining 60 plus So halten Sie Ihr Gehirn fit (261BS10680) 
LOCATION:bs Altes Forsthaus, Hauptstraße 17, 71717 Beilstein
END:VEVENT
BEGIN:VEVENT
DTSTAMP:20260423T080210
DTSTART;TZID=Europe/Berlin:20260319T150000
DTEND;TZID=Europe/Berlin:20260319T161500
UID:261BS10680-20260319T150000@VHSUNTERLAND
SUMMARY:Gedächtnistraining 60 plus So halten Sie Ihr Gehirn fit (261BS10680) 
LOCATION:bs Altes Forsthaus, Hauptstraße 17, 71717 Beilstein
END:VEVENT
BEGIN:VEVENT
DTSTAMP:20260423T080210
DTSTART;TZID=Europe/Berlin:20260326T150000
DTEND;TZID=Europe/Berlin:20260326T161500
UID:261BS10680-20260326T150000@VHSUNTERLAND
SUMMARY:Gedächtnistraining 60 plus So halten Sie Ihr Gehirn fit (261BS10680) 
LOCATION:bs Altes Forsthaus, Hauptstraße 17, 71717 Beilstein
END:VEVENT
END:VCALENDAR