BEGIN:VCALENDAR
VERSION:2.0
PRODID:http://www.kufer.de/kuferweb / DE
METHOD:PUBLISH
CALSCALE:GREGORIAN
X-WR-TIMEZONE:Europe/Berlin
BEGIN:VTIMEZONE
TZID:Europe/Berlin
X-LIC-LOCATION:Europe/Berlin
BEGIN:DAYLIGHT
TZOFFSETFROM:+0100
TZOFFSETTO:+0200
TZNAME:CEST
DTSTART;TZID=Europe/Berlin:19700329T020000
RRULE:FREQ=YEARLY;INTERVAL=1;BYDAY=-1SU;BYMONTH=3
END:DAYLIGHT
BEGIN:STANDARD
TZOFFSETFROM:+0200
TZOFFSETTO:+0100
TZNAME:CET
DTSTART;TZID=Europe/Berlin:19701025T030000
RRULE:FREQ=YEARLY;INTERVAL=1;BYDAY=-1SU;BYMONTH=10
END:STANDARD
END:VTIMEZONE
BEGIN:VEVENT
DTSTAMP:20260422T214318
DTSTART;TZID=Europe/Berlin:20260723T140000
DTEND;TZID=Europe/Berlin:20260723T161500
UID:261BS10412-20260723T140000@VHSUNTERLAND
SUMMARY:Trüffelspaziergang mit Verkostung Finden und probieren Sie echten Trüffel aus Beilstein! (261BS10412) 
LOCATION:bs Manufaktur für Feines, Gottlieb-Schulz-Str. 40, 71717 Beilstein-Etzleswenden
END:VEVENT
END:VCALENDAR