BEGIN:VCALENDAR
VERSION:2.0
PRODID:http://www.kufer.de/kuferweb / DE
METHOD:PUBLISH
CALSCALE:GREGORIAN
X-WR-TIMEZONE:Europe/Berlin
BEGIN:VTIMEZONE
TZID:Europe/Berlin
X-LIC-LOCATION:Europe/Berlin
BEGIN:DAYLIGHT
TZOFFSETFROM:+0100
TZOFFSETTO:+0200
TZNAME:CEST
DTSTART;TZID=Europe/Berlin:19700329T020000
RRULE:FREQ=YEARLY;INTERVAL=1;BYDAY=-1SU;BYMONTH=3
END:DAYLIGHT
BEGIN:STANDARD
TZOFFSETFROM:+0200
TZOFFSETTO:+0100
TZNAME:CET
DTSTART;TZID=Europe/Berlin:19701025T030000
RRULE:FREQ=YEARLY;INTERVAL=1;BYDAY=-1SU;BYMONTH=10
END:STANDARD
END:VTIMEZONE
BEGIN:VEVENT
DTSTAMP:20260423T095007
DTSTART;TZID=Europe/Berlin:20260226T133000
DTEND;TZID=Europe/Berlin:20260226T150000
UID:261BR40907-20260226T133000@VHSUNTERLAND
SUMMARY:Italienisch A1.1  für Anfänger*innen mit geringen Vorkenntnissen (261BR40907) 
LOCATION:br Kulturhaus, Raum K2, Heinsheimer Straße 16, 74906 Bad Rappenau
END:VEVENT
BEGIN:VEVENT
DTSTAMP:20260423T095007
DTSTART;TZID=Europe/Berlin:20260305T133000
DTEND;TZID=Europe/Berlin:20260305T150000
UID:261BR40907-20260305T133000@VHSUNTERLAND
SUMMARY:Italienisch A1.1  für Anfänger*innen mit geringen Vorkenntnissen (261BR40907) 
LOCATION:br Kulturhaus, Raum K2, Heinsheimer Straße 16, 74906 Bad Rappenau
END:VEVENT
BEGIN:VEVENT
DTSTAMP:20260423T095007
DTSTART;TZID=Europe/Berlin:20260312T133000
DTEND;TZID=Europe/Berlin:20260312T150000
UID:261BR40907-20260312T133000@VHSUNTERLAND
SUMMARY:Italienisch A1.1  für Anfänger*innen mit geringen Vorkenntnissen (261BR40907) 
LOCATION:br Kulturhaus, Raum K2, Heinsheimer Straße 16, 74906 Bad Rappenau
END:VEVENT
BEGIN:VEVENT
DTSTAMP:20260423T095007
DTSTART;TZID=Europe/Berlin:20260319T133000
DTEND;TZID=Europe/Berlin:20260319T150000
UID:261BR40907-20260319T133000@VHSUNTERLAND
SUMMARY:Italienisch A1.1  für Anfänger*innen mit geringen Vorkenntnissen (261BR40907) 
LOCATION:br Kulturhaus, Raum K2, Heinsheimer Straße 16, 74906 Bad Rappenau
END:VEVENT
BEGIN:VEVENT
DTSTAMP:20260423T095007
DTSTART;TZID=Europe/Berlin:20260326T133000
DTEND;TZID=Europe/Berlin:20260326T150000
UID:261BR40907-20260326T133000@VHSUNTERLAND
SUMMARY:Italienisch A1.1  für Anfänger*innen mit geringen Vorkenntnissen (261BR40907) 
LOCATION:br Kulturhaus, Raum K2, Heinsheimer Straße 16, 74906 Bad Rappenau
END:VEVENT
BEGIN:VEVENT
DTSTAMP:20260423T095007
DTSTART;TZID=Europe/Berlin:20260416T133000
DTEND;TZID=Europe/Berlin:20260416T150000
UID:261BR40907-20260416T133000@VHSUNTERLAND
SUMMARY:Italienisch A1.1  für Anfänger*innen mit geringen Vorkenntnissen (261BR40907) 
LOCATION:br Kulturhaus, Raum K2, Heinsheimer Straße 16, 74906 Bad Rappenau
END:VEVENT
BEGIN:VEVENT
DTSTAMP:20260423T095007
DTSTART;TZID=Europe/Berlin:20260423T133000
DTEND;TZID=Europe/Berlin:20260423T150000
UID:261BR40907-20260423T133000@VHSUNTERLAND
SUMMARY:Italienisch A1.1  für Anfänger*innen mit geringen Vorkenntnissen (261BR40907) 
LOCATION:br Kulturhaus, Raum K2, Heinsheimer Straße 16, 74906 Bad Rappenau
END:VEVENT
BEGIN:VEVENT
DTSTAMP:20260423T095007
DTSTART;TZID=Europe/Berlin:20260430T133000
DTEND;TZID=Europe/Berlin:20260430T150000
UID:261BR40907-20260430T133000@VHSUNTERLAND
SUMMARY:Italienisch A1.1  für Anfänger*innen mit geringen Vorkenntnissen (261BR40907) 
LOCATION:br Kulturhaus, Raum K2, Heinsheimer Straße 16, 74906 Bad Rappenau
END:VEVENT
BEGIN:VEVENT
DTSTAMP:20260423T095007
DTSTART;TZID=Europe/Berlin:20260507T133000
DTEND;TZID=Europe/Berlin:20260507T150000
UID:261BR40907-20260507T133000@VHSUNTERLAND
SUMMARY:Italienisch A1.1  für Anfänger*innen mit geringen Vorkenntnissen (261BR40907) 
LOCATION:br Kulturhaus, Raum K2, Heinsheimer Straße 16, 74906 Bad Rappenau
END:VEVENT
BEGIN:VEVENT
DTSTAMP:20260423T095007
DTSTART;TZID=Europe/Berlin:20260521T133000
DTEND;TZID=Europe/Berlin:20260521T150000
UID:261BR40907-20260521T133000@VHSUNTERLAND
SUMMARY:Italienisch A1.1  für Anfänger*innen mit geringen Vorkenntnissen (261BR40907) 
LOCATION:br Kulturhaus, Raum K2, Heinsheimer Straße 16, 74906 Bad Rappenau
END:VEVENT
END:VCALENDAR