BEGIN:VCALENDAR
VERSION:2.0
PRODID:http://www.kufer.de/kuferweb / DE
METHOD:PUBLISH
CALSCALE:GREGORIAN
X-WR-TIMEZONE:Europe/Berlin
BEGIN:VTIMEZONE
TZID:Europe/Berlin
X-LIC-LOCATION:Europe/Berlin
BEGIN:DAYLIGHT
TZOFFSETFROM:+0100
TZOFFSETTO:+0200
TZNAME:CEST
DTSTART;TZID=Europe/Berlin:19700329T020000
RRULE:FREQ=YEARLY;INTERVAL=1;BYDAY=-1SU;BYMONTH=3
END:DAYLIGHT
BEGIN:STANDARD
TZOFFSETFROM:+0200
TZOFFSETTO:+0100
TZNAME:CET
DTSTART;TZID=Europe/Berlin:19701025T030000
RRULE:FREQ=YEARLY;INTERVAL=1;BYDAY=-1SU;BYMONTH=10
END:STANDARD
END:VTIMEZONE
BEGIN:VEVENT
DTSTAMP:20260420T190104
DTSTART;TZID=Europe/Berlin:20260317T184500
DTEND;TZID=Europe/Berlin:20260317T201500
UID:261BR40810-20260317T184500@VHSUNTERLAND
SUMMARY:Französisch A1.2 für Anfänger*innen mit Vorkenntnissen (261BR40810) 
LOCATION:br Kulturhaus, Seminarraum, Heinsheimer Straße 16, 74906 Bad Rappenau
END:VEVENT
BEGIN:VEVENT
DTSTAMP:20260420T190104
DTSTART;TZID=Europe/Berlin:20260324T184500
DTEND;TZID=Europe/Berlin:20260324T201500
UID:261BR40810-20260324T184500@VHSUNTERLAND
SUMMARY:Französisch A1.2 für Anfänger*innen mit Vorkenntnissen (261BR40810) 
LOCATION:br Kulturhaus, Seminarraum, Heinsheimer Straße 16, 74906 Bad Rappenau
END:VEVENT
BEGIN:VEVENT
DTSTAMP:20260420T190104
DTSTART;TZID=Europe/Berlin:20260414T184500
DTEND;TZID=Europe/Berlin:20260414T201500
UID:261BR40810-20260414T184500@VHSUNTERLAND
SUMMARY:Französisch A1.2 für Anfänger*innen mit Vorkenntnissen (261BR40810) 
LOCATION:br Kulturhaus, Seminarraum, Heinsheimer Straße 16, 74906 Bad Rappenau
END:VEVENT
BEGIN:VEVENT
DTSTAMP:20260420T190104
DTSTART;TZID=Europe/Berlin:20260421T184500
DTEND;TZID=Europe/Berlin:20260421T201500
UID:261BR40810-20260421T184500@VHSUNTERLAND
SUMMARY:Französisch A1.2 für Anfänger*innen mit Vorkenntnissen (261BR40810) 
LOCATION:br Kulturhaus, Seminarraum, Heinsheimer Straße 16, 74906 Bad Rappenau
END:VEVENT
BEGIN:VEVENT
DTSTAMP:20260420T190104
DTSTART;TZID=Europe/Berlin:20260428T184500
DTEND;TZID=Europe/Berlin:20260428T201500
UID:261BR40810-20260428T184500@VHSUNTERLAND
SUMMARY:Französisch A1.2 für Anfänger*innen mit Vorkenntnissen (261BR40810) 
LOCATION:br Kulturhaus, Seminarraum, Heinsheimer Straße 16, 74906 Bad Rappenau
END:VEVENT
BEGIN:VEVENT
DTSTAMP:20260420T190104
DTSTART;TZID=Europe/Berlin:20260505T184500
DTEND;TZID=Europe/Berlin:20260505T201500
UID:261BR40810-20260505T184500@VHSUNTERLAND
SUMMARY:Französisch A1.2 für Anfänger*innen mit Vorkenntnissen (261BR40810) 
LOCATION:br Kulturhaus, Seminarraum, Heinsheimer Straße 16, 74906 Bad Rappenau
END:VEVENT
BEGIN:VEVENT
DTSTAMP:20260420T190104
DTSTART;TZID=Europe/Berlin:20260512T184500
DTEND;TZID=Europe/Berlin:20260512T201500
UID:261BR40810-20260512T184500@VHSUNTERLAND
SUMMARY:Französisch A1.2 für Anfänger*innen mit Vorkenntnissen (261BR40810) 
LOCATION:br Kulturhaus, Seminarraum, Heinsheimer Straße 16, 74906 Bad Rappenau
END:VEVENT
BEGIN:VEVENT
DTSTAMP:20260420T190104
DTSTART;TZID=Europe/Berlin:20260519T184500
DTEND;TZID=Europe/Berlin:20260519T201500
UID:261BR40810-20260519T184500@VHSUNTERLAND
SUMMARY:Französisch A1.2 für Anfänger*innen mit Vorkenntnissen (261BR40810) 
LOCATION:br Kulturhaus, Seminarraum, Heinsheimer Straße 16, 74906 Bad Rappenau
END:VEVENT
BEGIN:VEVENT
DTSTAMP:20260420T190104
DTSTART;TZID=Europe/Berlin:20260609T184500
DTEND;TZID=Europe/Berlin:20260609T201500
UID:261BR40810-20260609T184500@VHSUNTERLAND
SUMMARY:Französisch A1.2 für Anfänger*innen mit Vorkenntnissen (261BR40810) 
LOCATION:br Kulturhaus, Seminarraum, Heinsheimer Straße 16, 74906 Bad Rappenau
END:VEVENT
BEGIN:VEVENT
DTSTAMP:20260420T190104
DTSTART;TZID=Europe/Berlin:20260616T184500
DTEND;TZID=Europe/Berlin:20260616T201500
UID:261BR40810-20260616T184500@VHSUNTERLAND
SUMMARY:Französisch A1.2 für Anfänger*innen mit Vorkenntnissen (261BR40810) 
LOCATION:br Kulturhaus, Seminarraum, Heinsheimer Straße 16, 74906 Bad Rappenau
END:VEVENT
BEGIN:VEVENT
DTSTAMP:20260420T190104
DTSTART;TZID=Europe/Berlin:20260623T184500
DTEND;TZID=Europe/Berlin:20260623T201500
UID:261BR40810-20260623T184500@VHSUNTERLAND
SUMMARY:Französisch A1.2 für Anfänger*innen mit Vorkenntnissen (261BR40810) 
LOCATION:br Kulturhaus, Seminarraum, Heinsheimer Straße 16, 74906 Bad Rappenau
END:VEVENT
BEGIN:VEVENT
DTSTAMP:20260420T190104
DTSTART;TZID=Europe/Berlin:20260630T184500
DTEND;TZID=Europe/Berlin:20260630T201500
UID:261BR40810-20260630T184500@VHSUNTERLAND
SUMMARY:Französisch A1.2 für Anfänger*innen mit Vorkenntnissen (261BR40810) 
LOCATION:br Kulturhaus, Seminarraum, Heinsheimer Straße 16, 74906 Bad Rappenau
END:VEVENT
END:VCALENDAR