BEGIN:VCALENDAR
VERSION:2.0
PRODID:http://www.kufer.de/kuferweb / DE
METHOD:PUBLISH
CALSCALE:GREGORIAN
X-WR-TIMEZONE:Europe/Berlin
BEGIN:VTIMEZONE
TZID:Europe/Berlin
X-LIC-LOCATION:Europe/Berlin
BEGIN:DAYLIGHT
TZOFFSETFROM:+0100
TZOFFSETTO:+0200
TZNAME:CEST
DTSTART;TZID=Europe/Berlin:19700329T020000
RRULE:FREQ=YEARLY;INTERVAL=1;BYDAY=-1SU;BYMONTH=3
END:DAYLIGHT
BEGIN:STANDARD
TZOFFSETFROM:+0200
TZOFFSETTO:+0100
TZNAME:CET
DTSTART;TZID=Europe/Berlin:19701025T030000
RRULE:FREQ=YEARLY;INTERVAL=1;BYDAY=-1SU;BYMONTH=10
END:STANDARD
END:VTIMEZONE
BEGIN:VEVENT
DTSTAMP:20260421T153721
DTSTART;TZID=Europe/Berlin:20260119T160000
DTEND;TZID=Europe/Berlin:20260119T173000
UID:261BR40610-20260119T160000@VHSUNTERLAND
SUMMARY:Englisch A1.2 für Anfänger*innen mit geringen Vorkenntnissen (261BR40610) 
LOCATION:br Kulturhaus, Seminarraum, Heinsheimer Straße 16, 74906 Bad Rappenau
END:VEVENT
BEGIN:VEVENT
DTSTAMP:20260421T153721
DTSTART;TZID=Europe/Berlin:20260126T160000
DTEND;TZID=Europe/Berlin:20260126T173000
UID:261BR40610-20260126T160000@VHSUNTERLAND
SUMMARY:Englisch A1.2 für Anfänger*innen mit geringen Vorkenntnissen (261BR40610) 
LOCATION:br Kulturhaus, Seminarraum, Heinsheimer Straße 16, 74906 Bad Rappenau
END:VEVENT
BEGIN:VEVENT
DTSTAMP:20260421T153721
DTSTART;TZID=Europe/Berlin:20260202T160000
DTEND;TZID=Europe/Berlin:20260202T173000
UID:261BR40610-20260202T160000@VHSUNTERLAND
SUMMARY:Englisch A1.2 für Anfänger*innen mit geringen Vorkenntnissen (261BR40610) 
LOCATION:br Kulturhaus, Seminarraum, Heinsheimer Straße 16, 74906 Bad Rappenau
END:VEVENT
BEGIN:VEVENT
DTSTAMP:20260421T153721
DTSTART;TZID=Europe/Berlin:20260209T160000
DTEND;TZID=Europe/Berlin:20260209T173000
UID:261BR40610-20260209T160000@VHSUNTERLAND
SUMMARY:Englisch A1.2 für Anfänger*innen mit geringen Vorkenntnissen (261BR40610) 
LOCATION:br Kulturhaus, Seminarraum, Heinsheimer Straße 16, 74906 Bad Rappenau
END:VEVENT
BEGIN:VEVENT
DTSTAMP:20260421T153721
DTSTART;TZID=Europe/Berlin:20260216T160000
DTEND;TZID=Europe/Berlin:20260216T173000
UID:261BR40610-20260216T160000@VHSUNTERLAND
DESCRIPTION:Ersatz für Ausfall am 20.04.2026
SUMMARY:Englisch A1.2 für Anfänger*innen mit geringen Vorkenntnissen (261BR40610) 
LOCATION:br Kulturhaus, Seminarraum, Heinsheimer Straße 16, 74906 Bad Rappenau
END:VEVENT
BEGIN:VEVENT
DTSTAMP:20260421T153721
DTSTART;TZID=Europe/Berlin:20260223T160000
DTEND;TZID=Europe/Berlin:20260223T173000
UID:261BR40610-20260223T160000@VHSUNTERLAND
SUMMARY:Englisch A1.2 für Anfänger*innen mit geringen Vorkenntnissen (261BR40610) 
LOCATION:br Kulturhaus, Seminarraum, Heinsheimer Straße 16, 74906 Bad Rappenau
END:VEVENT
BEGIN:VEVENT
DTSTAMP:20260421T153721
DTSTART;TZID=Europe/Berlin:20260302T160000
DTEND;TZID=Europe/Berlin:20260302T173000
UID:261BR40610-20260302T160000@VHSUNTERLAND
SUMMARY:Englisch A1.2 für Anfänger*innen mit geringen Vorkenntnissen (261BR40610) 
LOCATION:br Kulturhaus, Seminarraum, Heinsheimer Straße 16, 74906 Bad Rappenau
END:VEVENT
BEGIN:VEVENT
DTSTAMP:20260421T153721
DTSTART;TZID=Europe/Berlin:20260309T160000
DTEND;TZID=Europe/Berlin:20260309T173000
UID:261BR40610-20260309T160000@VHSUNTERLAND
SUMMARY:Englisch A1.2 für Anfänger*innen mit geringen Vorkenntnissen (261BR40610) 
LOCATION:br Kulturhaus, Seminarraum, Heinsheimer Straße 16, 74906 Bad Rappenau
END:VEVENT
BEGIN:VEVENT
DTSTAMP:20260421T153721
DTSTART;TZID=Europe/Berlin:20260316T160000
DTEND;TZID=Europe/Berlin:20260316T173000
UID:261BR40610-20260316T160000@VHSUNTERLAND
SUMMARY:Englisch A1.2 für Anfänger*innen mit geringen Vorkenntnissen (261BR40610) 
LOCATION:br Kulturhaus, Seminarraum, Heinsheimer Straße 16, 74906 Bad Rappenau
END:VEVENT
BEGIN:VEVENT
DTSTAMP:20260421T153721
DTSTART;TZID=Europe/Berlin:20260323T160000
DTEND;TZID=Europe/Berlin:20260323T173000
UID:261BR40610-20260323T160000@VHSUNTERLAND
SUMMARY:Englisch A1.2 für Anfänger*innen mit geringen Vorkenntnissen (261BR40610) 
LOCATION:br Kulturhaus, Seminarraum, Heinsheimer Straße 16, 74906 Bad Rappenau
END:VEVENT
BEGIN:VEVENT
DTSTAMP:20260421T153721
DTSTART;TZID=Europe/Berlin:20260330T160000
DTEND;TZID=Europe/Berlin:20260330T173000
UID:261BR40610-20260330T160000@VHSUNTERLAND
DESCRIPTION:Ersatz für Ausfall am 13.04.2026
SUMMARY:Englisch A1.2 für Anfänger*innen mit geringen Vorkenntnissen (261BR40610) 
LOCATION:br Kulturhaus, Seminarraum, Heinsheimer Straße 16, 74906 Bad Rappenau
END:VEVENT
BEGIN:VEVENT
DTSTAMP:20260421T153721
DTSTART;TZID=Europe/Berlin:20260331T160000
DTEND;TZID=Europe/Berlin:20260331T173000
UID:261BR40610-20260331T160000@VHSUNTERLAND
DESCRIPTION:Ersatz für Ausfall am 27.04.2026
SUMMARY:Englisch A1.2 für Anfänger*innen mit geringen Vorkenntnissen (261BR40610) 
LOCATION:br Kulturhaus, Seminarraum, Heinsheimer Straße 16, 74906 Bad Rappenau
END:VEVENT
END:VCALENDAR