BEGIN:VCALENDAR
VERSION:2.0
PRODID:http://www.kufer.de/kuferweb / DE
METHOD:PUBLISH
CALSCALE:GREGORIAN
X-WR-TIMEZONE:Europe/Berlin
BEGIN:VTIMEZONE
TZID:Europe/Berlin
X-LIC-LOCATION:Europe/Berlin
BEGIN:DAYLIGHT
TZOFFSETFROM:+0100
TZOFFSETTO:+0200
TZNAME:CEST
DTSTART;TZID=Europe/Berlin:19700329T020000
RRULE:FREQ=YEARLY;INTERVAL=1;BYDAY=-1SU;BYMONTH=3
END:DAYLIGHT
BEGIN:STANDARD
TZOFFSETFROM:+0200
TZOFFSETTO:+0100
TZNAME:CET
DTSTART;TZID=Europe/Berlin:19701025T030000
RRULE:FREQ=YEARLY;INTERVAL=1;BYDAY=-1SU;BYMONTH=10
END:STANDARD
END:VTIMEZONE
BEGIN:VEVENT
DTSTAMP:20260421T042457
DTSTART;TZID=Europe/Berlin:20260414T164500
DTEND;TZID=Europe/Berlin:20260414T174500
UID:261BR30291-20260414T164500@VHSUNTERLAND
SUMMARY:Schwimmkurs für Anfänger*innen für Kinder ab 5 Jahren (261BR30291) 
LOCATION:br Grundschule Obergimpern, Lehrschwimmbecken, Am Dreschplatz 1-3, 74906 Bad Rappenenau
END:VEVENT
BEGIN:VEVENT
DTSTAMP:20260421T042457
DTSTART;TZID=Europe/Berlin:20260416T164500
DTEND;TZID=Europe/Berlin:20260416T174500
UID:261BR30291-20260416T164500@VHSUNTERLAND
SUMMARY:Schwimmkurs für Anfänger*innen für Kinder ab 5 Jahren (261BR30291) 
LOCATION:br Grundschule Obergimpern, Lehrschwimmbecken, Am Dreschplatz 1-3, 74906 Bad Rappenenau
END:VEVENT
BEGIN:VEVENT
DTSTAMP:20260421T042457
DTSTART;TZID=Europe/Berlin:20260421T164500
DTEND;TZID=Europe/Berlin:20260421T174500
UID:261BR30291-20260421T164500@VHSUNTERLAND
SUMMARY:Schwimmkurs für Anfänger*innen für Kinder ab 5 Jahren (261BR30291) 
LOCATION:br Grundschule Obergimpern, Lehrschwimmbecken, Am Dreschplatz 1-3, 74906 Bad Rappenenau
END:VEVENT
BEGIN:VEVENT
DTSTAMP:20260421T042457
DTSTART;TZID=Europe/Berlin:20260423T164500
DTEND;TZID=Europe/Berlin:20260423T174500
UID:261BR30291-20260423T164500@VHSUNTERLAND
SUMMARY:Schwimmkurs für Anfänger*innen für Kinder ab 5 Jahren (261BR30291) 
LOCATION:br Grundschule Obergimpern, Lehrschwimmbecken, Am Dreschplatz 1-3, 74906 Bad Rappenenau
END:VEVENT
BEGIN:VEVENT
DTSTAMP:20260421T042457
DTSTART;TZID=Europe/Berlin:20260428T164500
DTEND;TZID=Europe/Berlin:20260428T174500
UID:261BR30291-20260428T164500@VHSUNTERLAND
SUMMARY:Schwimmkurs für Anfänger*innen für Kinder ab 5 Jahren (261BR30291) 
LOCATION:br Grundschule Obergimpern, Lehrschwimmbecken, Am Dreschplatz 1-3, 74906 Bad Rappenenau
END:VEVENT
BEGIN:VEVENT
DTSTAMP:20260421T042457
DTSTART;TZID=Europe/Berlin:20260430T164500
DTEND;TZID=Europe/Berlin:20260430T174500
UID:261BR30291-20260430T164500@VHSUNTERLAND
SUMMARY:Schwimmkurs für Anfänger*innen für Kinder ab 5 Jahren (261BR30291) 
LOCATION:br Grundschule Obergimpern, Lehrschwimmbecken, Am Dreschplatz 1-3, 74906 Bad Rappenenau
END:VEVENT
BEGIN:VEVENT
DTSTAMP:20260421T042457
DTSTART;TZID=Europe/Berlin:20260505T164500
DTEND;TZID=Europe/Berlin:20260505T174500
UID:261BR30291-20260505T164500@VHSUNTERLAND
SUMMARY:Schwimmkurs für Anfänger*innen für Kinder ab 5 Jahren (261BR30291) 
LOCATION:br Grundschule Obergimpern, Lehrschwimmbecken, Am Dreschplatz 1-3, 74906 Bad Rappenenau
END:VEVENT
BEGIN:VEVENT
DTSTAMP:20260421T042457
DTSTART;TZID=Europe/Berlin:20260507T164500
DTEND;TZID=Europe/Berlin:20260507T174500
UID:261BR30291-20260507T164500@VHSUNTERLAND
SUMMARY:Schwimmkurs für Anfänger*innen für Kinder ab 5 Jahren (261BR30291) 
LOCATION:br Grundschule Obergimpern, Lehrschwimmbecken, Am Dreschplatz 1-3, 74906 Bad Rappenenau
END:VEVENT
BEGIN:VEVENT
DTSTAMP:20260421T042457
DTSTART;TZID=Europe/Berlin:20260519T164500
DTEND;TZID=Europe/Berlin:20260519T174500
UID:261BR30291-20260519T164500@VHSUNTERLAND
SUMMARY:Schwimmkurs für Anfänger*innen für Kinder ab 5 Jahren (261BR30291) 
LOCATION:br Grundschule Obergimpern, Lehrschwimmbecken, Am Dreschplatz 1-3, 74906 Bad Rappenenau
END:VEVENT
BEGIN:VEVENT
DTSTAMP:20260421T042457
DTSTART;TZID=Europe/Berlin:20260521T164500
DTEND;TZID=Europe/Berlin:20260521T174500
UID:261BR30291-20260521T164500@VHSUNTERLAND
DESCRIPTION:Ersatz für Ausfall am 12.05.2026
SUMMARY:Schwimmkurs für Anfänger*innen für Kinder ab 5 Jahren (261BR30291) 
LOCATION:br Grundschule Obergimpern, Lehrschwimmbecken, Am Dreschplatz 1-3, 74906 Bad Rappenenau
END:VEVENT
END:VCALENDAR