BEGIN:VCALENDAR
VERSION:2.0
PRODID:http://www.kufer.de/kuferweb / DE
METHOD:PUBLISH
CALSCALE:GREGORIAN
X-WR-TIMEZONE:Europe/Berlin
BEGIN:VTIMEZONE
TZID:Europe/Berlin
X-LIC-LOCATION:Europe/Berlin
BEGIN:DAYLIGHT
TZOFFSETFROM:+0100
TZOFFSETTO:+0200
TZNAME:CEST
DTSTART;TZID=Europe/Berlin:19700329T020000
RRULE:FREQ=YEARLY;INTERVAL=1;BYDAY=-1SU;BYMONTH=3
END:DAYLIGHT
BEGIN:STANDARD
TZOFFSETFROM:+0200
TZOFFSETTO:+0100
TZNAME:CET
DTSTART;TZID=Europe/Berlin:19701025T030000
RRULE:FREQ=YEARLY;INTERVAL=1;BYDAY=-1SU;BYMONTH=10
END:STANDARD
END:VTIMEZONE
BEGIN:VEVENT
DTSTAMP:20260421T153825
DTSTART;TZID=Europe/Berlin:20260302T090000
DTEND;TZID=Europe/Berlin:20260302T100000
UID:261BR30250-20260302T090000@VHSUNTERLAND
SUMMARY:Fitness Mix speziell für Bauch, Beine, Po (261BR30250) 
LOCATION:br Wasserschloss, Halle (2. OG), Hinter dem Schloss 1, 74906 Bad Rappenau
END:VEVENT
BEGIN:VEVENT
DTSTAMP:20260421T153825
DTSTART;TZID=Europe/Berlin:20260309T090000
DTEND;TZID=Europe/Berlin:20260309T100000
UID:261BR30250-20260309T090000@VHSUNTERLAND
SUMMARY:Fitness Mix speziell für Bauch, Beine, Po (261BR30250) 
LOCATION:br Wasserschloss, Halle (2. OG), Hinter dem Schloss 1, 74906 Bad Rappenau
END:VEVENT
BEGIN:VEVENT
DTSTAMP:20260421T153825
DTSTART;TZID=Europe/Berlin:20260316T090000
DTEND;TZID=Europe/Berlin:20260316T100000
UID:261BR30250-20260316T090000@VHSUNTERLAND
SUMMARY:Fitness Mix speziell für Bauch, Beine, Po (261BR30250) 
LOCATION:br Wasserschloss, Halle (2. OG), Hinter dem Schloss 1, 74906 Bad Rappenau
END:VEVENT
BEGIN:VEVENT
DTSTAMP:20260421T153825
DTSTART;TZID=Europe/Berlin:20260323T090000
DTEND;TZID=Europe/Berlin:20260323T100000
UID:261BR30250-20260323T090000@VHSUNTERLAND
SUMMARY:Fitness Mix speziell für Bauch, Beine, Po (261BR30250) 
LOCATION:br Wasserschloss, Halle (2. OG), Hinter dem Schloss 1, 74906 Bad Rappenau
END:VEVENT
BEGIN:VEVENT
DTSTAMP:20260421T153825
DTSTART;TZID=Europe/Berlin:20260413T090000
DTEND;TZID=Europe/Berlin:20260413T100000
UID:261BR30250-20260413T090000@VHSUNTERLAND
SUMMARY:Fitness Mix speziell für Bauch, Beine, Po (261BR30250) 
LOCATION:br Wasserschloss, Halle (2. OG), Hinter dem Schloss 1, 74906 Bad Rappenau
END:VEVENT
BEGIN:VEVENT
DTSTAMP:20260421T153825
DTSTART;TZID=Europe/Berlin:20260420T090000
DTEND;TZID=Europe/Berlin:20260420T100000
UID:261BR30250-20260420T090000@VHSUNTERLAND
SUMMARY:Fitness Mix speziell für Bauch, Beine, Po (261BR30250) 
LOCATION:br Wasserschloss, Halle (2. OG), Hinter dem Schloss 1, 74906 Bad Rappenau
END:VEVENT
BEGIN:VEVENT
DTSTAMP:20260421T153825
DTSTART;TZID=Europe/Berlin:20260427T090000
DTEND;TZID=Europe/Berlin:20260427T100000
UID:261BR30250-20260427T090000@VHSUNTERLAND
SUMMARY:Fitness Mix speziell für Bauch, Beine, Po (261BR30250) 
LOCATION:br Wasserschloss, Halle (2. OG), Hinter dem Schloss 1, 74906 Bad Rappenau
END:VEVENT
BEGIN:VEVENT
DTSTAMP:20260421T153825
DTSTART;TZID=Europe/Berlin:20260504T090000
DTEND;TZID=Europe/Berlin:20260504T100000
UID:261BR30250-20260504T090000@VHSUNTERLAND
SUMMARY:Fitness Mix speziell für Bauch, Beine, Po (261BR30250) 
LOCATION:br Wasserschloss, Halle (2. OG), Hinter dem Schloss 1, 74906 Bad Rappenau
END:VEVENT
BEGIN:VEVENT
DTSTAMP:20260421T153825
DTSTART;TZID=Europe/Berlin:20260511T090000
DTEND;TZID=Europe/Berlin:20260511T100000
UID:261BR30250-20260511T090000@VHSUNTERLAND
SUMMARY:Fitness Mix speziell für Bauch, Beine, Po (261BR30250) 
LOCATION:br Wasserschloss, Halle (2. OG), Hinter dem Schloss 1, 74906 Bad Rappenau
END:VEVENT
BEGIN:VEVENT
DTSTAMP:20260421T153825
DTSTART;TZID=Europe/Berlin:20260518T090000
DTEND;TZID=Europe/Berlin:20260518T100000
UID:261BR30250-20260518T090000@VHSUNTERLAND
SUMMARY:Fitness Mix speziell für Bauch, Beine, Po (261BR30250) 
LOCATION:br Wasserschloss, Halle (2. OG), Hinter dem Schloss 1, 74906 Bad Rappenau
END:VEVENT
BEGIN:VEVENT
DTSTAMP:20260421T153825
DTSTART;TZID=Europe/Berlin:20260608T090000
DTEND;TZID=Europe/Berlin:20260608T100000
UID:261BR30250-20260608T090000@VHSUNTERLAND
SUMMARY:Fitness Mix speziell für Bauch, Beine, Po (261BR30250) 
LOCATION:br Wasserschloss, Halle (2. OG), Hinter dem Schloss 1, 74906 Bad Rappenau
END:VEVENT
BEGIN:VEVENT
DTSTAMP:20260421T153825
DTSTART;TZID=Europe/Berlin:20260615T090000
DTEND;TZID=Europe/Berlin:20260615T100000
UID:261BR30250-20260615T090000@VHSUNTERLAND
SUMMARY:Fitness Mix speziell für Bauch, Beine, Po (261BR30250) 
LOCATION:br Wasserschloss, Halle (2. OG), Hinter dem Schloss 1, 74906 Bad Rappenau
END:VEVENT
BEGIN:VEVENT
DTSTAMP:20260421T153825
DTSTART;TZID=Europe/Berlin:20260622T090000
DTEND;TZID=Europe/Berlin:20260622T100000
UID:261BR30250-20260622T090000@VHSUNTERLAND
SUMMARY:Fitness Mix speziell für Bauch, Beine, Po (261BR30250) 
LOCATION:br Wasserschloss, Halle (2. OG), Hinter dem Schloss 1, 74906 Bad Rappenau
END:VEVENT
BEGIN:VEVENT
DTSTAMP:20260421T153825
DTSTART;TZID=Europe/Berlin:20260629T090000
DTEND;TZID=Europe/Berlin:20260629T100000
UID:261BR30250-20260629T090000@VHSUNTERLAND
SUMMARY:Fitness Mix speziell für Bauch, Beine, Po (261BR30250) 
LOCATION:br Wasserschloss, Halle (2. OG), Hinter dem Schloss 1, 74906 Bad Rappenau
END:VEVENT
BEGIN:VEVENT
DTSTAMP:20260421T153825
DTSTART;TZID=Europe/Berlin:20260706T090000
DTEND;TZID=Europe/Berlin:20260706T100000
UID:261BR30250-20260706T090000@VHSUNTERLAND
SUMMARY:Fitness Mix speziell für Bauch, Beine, Po (261BR30250) 
LOCATION:br Wasserschloss, Halle (2. OG), Hinter dem Schloss 1, 74906 Bad Rappenau
END:VEVENT
BEGIN:VEVENT
DTSTAMP:20260421T153825
DTSTART;TZID=Europe/Berlin:20260713T090000
DTEND;TZID=Europe/Berlin:20260713T100000
UID:261BR30250-20260713T090000@VHSUNTERLAND
SUMMARY:Fitness Mix speziell für Bauch, Beine, Po (261BR30250) 
LOCATION:br Wasserschloss, Halle (2. OG), Hinter dem Schloss 1, 74906 Bad Rappenau
END:VEVENT
BEGIN:VEVENT
DTSTAMP:20260421T153825
DTSTART;TZID=Europe/Berlin:20260720T090000
DTEND;TZID=Europe/Berlin:20260720T100000
UID:261BR30250-20260720T090000@VHSUNTERLAND
SUMMARY:Fitness Mix speziell für Bauch, Beine, Po (261BR30250) 
LOCATION:br Wasserschloss, Halle (2. OG), Hinter dem Schloss 1, 74906 Bad Rappenau
END:VEVENT
END:VCALENDAR