BEGIN:VCALENDAR
VERSION:2.0
PRODID:http://www.kufer.de/kuferweb / DE
METHOD:PUBLISH
CALSCALE:GREGORIAN
X-WR-TIMEZONE:Europe/Berlin
BEGIN:VTIMEZONE
TZID:Europe/Berlin
X-LIC-LOCATION:Europe/Berlin
BEGIN:DAYLIGHT
TZOFFSETFROM:+0100
TZOFFSETTO:+0200
TZNAME:CEST
DTSTART;TZID=Europe/Berlin:19700329T020000
RRULE:FREQ=YEARLY;INTERVAL=1;BYDAY=-1SU;BYMONTH=3
END:DAYLIGHT
BEGIN:STANDARD
TZOFFSETFROM:+0200
TZOFFSETTO:+0100
TZNAME:CET
DTSTART;TZID=Europe/Berlin:19701025T030000
RRULE:FREQ=YEARLY;INTERVAL=1;BYDAY=-1SU;BYMONTH=10
END:STANDARD
END:VTIMEZONE
BEGIN:VEVENT
DTSTAMP:20260422T092921
DTSTART;TZID=Europe/Berlin:20260414T180000
DTEND;TZID=Europe/Berlin:20260414T184500
UID:261BR30245-20260414T180000@VHSUNTERLAND
SUMMARY:Aqua-Fitness (261BR30245) 
LOCATION:br Grundschule Obergimpern, Lehrschwimmbecken, Am Dreschplatz 1-3, 74906 Bad Rappenenau
END:VEVENT
BEGIN:VEVENT
DTSTAMP:20260422T092921
DTSTART;TZID=Europe/Berlin:20260421T180000
DTEND;TZID=Europe/Berlin:20260421T184500
UID:261BR30245-20260421T180000@VHSUNTERLAND
SUMMARY:Aqua-Fitness (261BR30245) 
LOCATION:br Grundschule Obergimpern, Lehrschwimmbecken, Am Dreschplatz 1-3, 74906 Bad Rappenenau
END:VEVENT
BEGIN:VEVENT
DTSTAMP:20260422T092921
DTSTART;TZID=Europe/Berlin:20260428T180000
DTEND;TZID=Europe/Berlin:20260428T184500
UID:261BR30245-20260428T180000@VHSUNTERLAND
SUMMARY:Aqua-Fitness (261BR30245) 
LOCATION:br Grundschule Obergimpern, Lehrschwimmbecken, Am Dreschplatz 1-3, 74906 Bad Rappenenau
END:VEVENT
BEGIN:VEVENT
DTSTAMP:20260422T092921
DTSTART;TZID=Europe/Berlin:20260505T180000
DTEND;TZID=Europe/Berlin:20260505T184500
UID:261BR30245-20260505T180000@VHSUNTERLAND
SUMMARY:Aqua-Fitness (261BR30245) 
LOCATION:br Grundschule Obergimpern, Lehrschwimmbecken, Am Dreschplatz 1-3, 74906 Bad Rappenenau
END:VEVENT
BEGIN:VEVENT
DTSTAMP:20260422T092921
DTSTART;TZID=Europe/Berlin:20260519T180000
DTEND;TZID=Europe/Berlin:20260519T184500
UID:261BR30245-20260519T180000@VHSUNTERLAND
DESCRIPTION:Ersatz für Ausfall am 12.05.2026
SUMMARY:Aqua-Fitness (261BR30245) 
LOCATION:br Grundschule Obergimpern, Lehrschwimmbecken, Am Dreschplatz 1-3, 74906 Bad Rappenenau
END:VEVENT
END:VCALENDAR