BEGIN:VCALENDAR
VERSION:2.0
PRODID:http://www.kufer.de/kuferweb / DE
METHOD:PUBLISH
CALSCALE:GREGORIAN
X-WR-TIMEZONE:Europe/Berlin
BEGIN:VTIMEZONE
TZID:Europe/Berlin
X-LIC-LOCATION:Europe/Berlin
BEGIN:DAYLIGHT
TZOFFSETFROM:+0100
TZOFFSETTO:+0200
TZNAME:CEST
DTSTART;TZID=Europe/Berlin:19700329T020000
RRULE:FREQ=YEARLY;INTERVAL=1;BYDAY=-1SU;BYMONTH=3
END:DAYLIGHT
BEGIN:STANDARD
TZOFFSETFROM:+0200
TZOFFSETTO:+0100
TZNAME:CET
DTSTART;TZID=Europe/Berlin:19701025T030000
RRULE:FREQ=YEARLY;INTERVAL=1;BYDAY=-1SU;BYMONTH=10
END:STANDARD
END:VTIMEZONE
BEGIN:VEVENT
DTSTAMP:20260423T014148
DTSTART;TZID=Europe/Berlin:20260304T191000
DTEND;TZID=Europe/Berlin:20260304T201000
UID:261BR30235-20260304T191000@VHSUNTERLAND
SUMMARY:Fit mit Latin-Dance (261BR30235) 
LOCATION:br Kulturhaus, Entspannungsraum, Heinsheimer Straße 16, 74906 Bad Rappenau
END:VEVENT
BEGIN:VEVENT
DTSTAMP:20260423T014148
DTSTART;TZID=Europe/Berlin:20260311T191000
DTEND;TZID=Europe/Berlin:20260311T201000
UID:261BR30235-20260311T191000@VHSUNTERLAND
SUMMARY:Fit mit Latin-Dance (261BR30235) 
LOCATION:br Kulturhaus, Entspannungsraum, Heinsheimer Straße 16, 74906 Bad Rappenau
END:VEVENT
BEGIN:VEVENT
DTSTAMP:20260423T014148
DTSTART;TZID=Europe/Berlin:20260318T191000
DTEND;TZID=Europe/Berlin:20260318T201000
UID:261BR30235-20260318T191000@VHSUNTERLAND
SUMMARY:Fit mit Latin-Dance (261BR30235) 
LOCATION:br Kulturhaus, Entspannungsraum, Heinsheimer Straße 16, 74906 Bad Rappenau
END:VEVENT
BEGIN:VEVENT
DTSTAMP:20260423T014148
DTSTART;TZID=Europe/Berlin:20260325T191000
DTEND;TZID=Europe/Berlin:20260325T201000
UID:261BR30235-20260325T191000@VHSUNTERLAND
SUMMARY:Fit mit Latin-Dance (261BR30235) 
LOCATION:br Kulturhaus, Entspannungsraum, Heinsheimer Straße 16, 74906 Bad Rappenau
END:VEVENT
BEGIN:VEVENT
DTSTAMP:20260423T014148
DTSTART;TZID=Europe/Berlin:20260401T191000
DTEND;TZID=Europe/Berlin:20260401T201000
UID:261BR30235-20260401T191000@VHSUNTERLAND
SUMMARY:Fit mit Latin-Dance (261BR30235) 
LOCATION:br Kulturhaus, Entspannungsraum, Heinsheimer Straße 16, 74906 Bad Rappenau
END:VEVENT
BEGIN:VEVENT
DTSTAMP:20260423T014148
DTSTART;TZID=Europe/Berlin:20260408T191000
DTEND;TZID=Europe/Berlin:20260408T201000
UID:261BR30235-20260408T191000@VHSUNTERLAND
SUMMARY:Fit mit Latin-Dance (261BR30235) 
LOCATION:br Kulturhaus, Entspannungsraum, Heinsheimer Straße 16, 74906 Bad Rappenau
END:VEVENT
BEGIN:VEVENT
DTSTAMP:20260423T014148
DTSTART;TZID=Europe/Berlin:20260415T191000
DTEND;TZID=Europe/Berlin:20260415T201000
UID:261BR30235-20260415T191000@VHSUNTERLAND
SUMMARY:Fit mit Latin-Dance (261BR30235) 
LOCATION:br Kulturhaus, Entspannungsraum, Heinsheimer Straße 16, 74906 Bad Rappenau
END:VEVENT
BEGIN:VEVENT
DTSTAMP:20260423T014148
DTSTART;TZID=Europe/Berlin:20260422T191000
DTEND;TZID=Europe/Berlin:20260422T201000
UID:261BR30235-20260422T191000@VHSUNTERLAND
SUMMARY:Fit mit Latin-Dance (261BR30235) 
LOCATION:br Kulturhaus, Entspannungsraum, Heinsheimer Straße 16, 74906 Bad Rappenau
END:VEVENT
BEGIN:VEVENT
DTSTAMP:20260423T014148
DTSTART;TZID=Europe/Berlin:20260429T191000
DTEND;TZID=Europe/Berlin:20260429T201000
UID:261BR30235-20260429T191000@VHSUNTERLAND
SUMMARY:Fit mit Latin-Dance (261BR30235) 
LOCATION:br Kulturhaus, Entspannungsraum, Heinsheimer Straße 16, 74906 Bad Rappenau
END:VEVENT
BEGIN:VEVENT
DTSTAMP:20260423T014148
DTSTART;TZID=Europe/Berlin:20260520T191000
DTEND;TZID=Europe/Berlin:20260520T201000
UID:261BR30235-20260520T191000@VHSUNTERLAND
SUMMARY:Fit mit Latin-Dance (261BR30235) 
LOCATION:br Kulturhaus, Entspannungsraum, Heinsheimer Straße 16, 74906 Bad Rappenau
END:VEVENT
BEGIN:VEVENT
DTSTAMP:20260423T014148
DTSTART;TZID=Europe/Berlin:20260527T191000
DTEND;TZID=Europe/Berlin:20260527T201000
UID:261BR30235-20260527T191000@VHSUNTERLAND
DESCRIPTION:Ersatz für Ausfall am 06.05.2026
SUMMARY:Fit mit Latin-Dance (261BR30235) 
LOCATION:br Kulturhaus, Entspannungsraum, Heinsheimer Straße 16, 74906 Bad Rappenau
END:VEVENT
BEGIN:VEVENT
DTSTAMP:20260423T014148
DTSTART;TZID=Europe/Berlin:20260603T191000
DTEND;TZID=Europe/Berlin:20260603T201000
UID:261BR30235-20260603T191000@VHSUNTERLAND
DESCRIPTION:Ersatz für Ausfall am 13.05.2026
SUMMARY:Fit mit Latin-Dance (261BR30235) 
LOCATION:br Kulturhaus, Entspannungsraum, Heinsheimer Straße 16, 74906 Bad Rappenau
END:VEVENT
END:VCALENDAR