BEGIN:VCALENDAR
VERSION:2.0
PRODID:http://www.kufer.de/kuferweb / DE
METHOD:PUBLISH
CALSCALE:GREGORIAN
X-WR-TIMEZONE:Europe/Berlin
BEGIN:VTIMEZONE
TZID:Europe/Berlin
X-LIC-LOCATION:Europe/Berlin
BEGIN:DAYLIGHT
TZOFFSETFROM:+0100
TZOFFSETTO:+0200
TZNAME:CEST
DTSTART;TZID=Europe/Berlin:19700329T020000
RRULE:FREQ=YEARLY;INTERVAL=1;BYDAY=-1SU;BYMONTH=3
END:DAYLIGHT
BEGIN:STANDARD
TZOFFSETFROM:+0200
TZOFFSETTO:+0100
TZNAME:CET
DTSTART;TZID=Europe/Berlin:19701025T030000
RRULE:FREQ=YEARLY;INTERVAL=1;BYDAY=-1SU;BYMONTH=10
END:STANDARD
END:VTIMEZONE
BEGIN:VEVENT
DTSTAMP:20260423T214642
DTSTART;TZID=Europe/Berlin:20260302T171500
DTEND;TZID=Europe/Berlin:20260302T181500
UID:261BR30206-20260302T171500@VHSUNTERLAND
SUMMARY:Funktionsgymnastik bei Knie- und Hüftproblemen (261BR30206) 
LOCATION:br Kulturhaus, Entspannungsraum, Heinsheimer Straße 16, 74906 Bad Rappenau
END:VEVENT
BEGIN:VEVENT
DTSTAMP:20260423T214642
DTSTART;TZID=Europe/Berlin:20260309T171500
DTEND;TZID=Europe/Berlin:20260309T181500
UID:261BR30206-20260309T171500@VHSUNTERLAND
SUMMARY:Funktionsgymnastik bei Knie- und Hüftproblemen (261BR30206) 
LOCATION:br Kulturhaus, Entspannungsraum, Heinsheimer Straße 16, 74906 Bad Rappenau
END:VEVENT
BEGIN:VEVENT
DTSTAMP:20260423T214642
DTSTART;TZID=Europe/Berlin:20260323T171500
DTEND;TZID=Europe/Berlin:20260323T181500
UID:261BR30206-20260323T171500@VHSUNTERLAND
SUMMARY:Funktionsgymnastik bei Knie- und Hüftproblemen (261BR30206) 
LOCATION:br Kulturhaus, Entspannungsraum, Heinsheimer Straße 16, 74906 Bad Rappenau
END:VEVENT
BEGIN:VEVENT
DTSTAMP:20260423T214642
DTSTART;TZID=Europe/Berlin:20260608T171500
DTEND;TZID=Europe/Berlin:20260608T181500
UID:261BR30206-20260608T171500@VHSUNTERLAND
SUMMARY:Funktionsgymnastik bei Knie- und Hüftproblemen (261BR30206) 
LOCATION:br Kulturhaus, Entspannungsraum, Heinsheimer Straße 16, 74906 Bad Rappenau
END:VEVENT
BEGIN:VEVENT
DTSTAMP:20260423T214642
DTSTART;TZID=Europe/Berlin:20260615T171500
DTEND;TZID=Europe/Berlin:20260615T181500
UID:261BR30206-20260615T171500@VHSUNTERLAND
SUMMARY:Funktionsgymnastik bei Knie- und Hüftproblemen (261BR30206) 
LOCATION:br Kulturhaus, Entspannungsraum, Heinsheimer Straße 16, 74906 Bad Rappenau
END:VEVENT
BEGIN:VEVENT
DTSTAMP:20260423T214642
DTSTART;TZID=Europe/Berlin:20260622T171500
DTEND;TZID=Europe/Berlin:20260622T181500
UID:261BR30206-20260622T171500@VHSUNTERLAND
DESCRIPTION:Ersatz für Ausfall am 16.03.2026
SUMMARY:Funktionsgymnastik bei Knie- und Hüftproblemen (261BR30206) 
LOCATION:br Kulturhaus, Entspannungsraum, Heinsheimer Straße 16, 74906 Bad Rappenau
END:VEVENT
BEGIN:VEVENT
DTSTAMP:20260423T214642
DTSTART;TZID=Europe/Berlin:20260629T171500
DTEND;TZID=Europe/Berlin:20260629T181500
UID:261BR30206-20260629T171500@VHSUNTERLAND
DESCRIPTION:Ersatz für Ausfall am 13.04.2026
SUMMARY:Funktionsgymnastik bei Knie- und Hüftproblemen (261BR30206) 
LOCATION:br Kulturhaus, Entspannungsraum, Heinsheimer Straße 16, 74906 Bad Rappenau
END:VEVENT
BEGIN:VEVENT
DTSTAMP:20260423T214642
DTSTART;TZID=Europe/Berlin:20260706T171500
DTEND;TZID=Europe/Berlin:20260706T181500
UID:261BR30206-20260706T171500@VHSUNTERLAND
DESCRIPTION:Ersatz für Ausfall am 20.04.2026
SUMMARY:Funktionsgymnastik bei Knie- und Hüftproblemen (261BR30206) 
LOCATION:br Kulturhaus, Entspannungsraum, Heinsheimer Straße 16, 74906 Bad Rappenau
END:VEVENT
BEGIN:VEVENT
DTSTAMP:20260423T214642
DTSTART;TZID=Europe/Berlin:20260713T171500
DTEND;TZID=Europe/Berlin:20260713T181500
UID:261BR30206-20260713T171500@VHSUNTERLAND
DESCRIPTION:Ersatz für Ausfall am 27.04.2026
SUMMARY:Funktionsgymnastik bei Knie- und Hüftproblemen (261BR30206) 
LOCATION:br Kulturhaus, Entspannungsraum, Heinsheimer Straße 16, 74906 Bad Rappenau
END:VEVENT
BEGIN:VEVENT
DTSTAMP:20260423T214642
DTSTART;TZID=Europe/Berlin:20260720T171500
DTEND;TZID=Europe/Berlin:20260720T181500
UID:261BR30206-20260720T171500@VHSUNTERLAND
DESCRIPTION:Ersatz für Ausfall am 04.05.2026
SUMMARY:Funktionsgymnastik bei Knie- und Hüftproblemen (261BR30206) 
LOCATION:br Kulturhaus, Entspannungsraum, Heinsheimer Straße 16, 74906 Bad Rappenau
END:VEVENT
BEGIN:VEVENT
DTSTAMP:20260423T214642
DTSTART;TZID=Europe/Berlin:20260727T171500
DTEND;TZID=Europe/Berlin:20260727T181500
UID:261BR30206-20260727T171500@VHSUNTERLAND
DESCRIPTION:Ersatz für Ausfall am 11.05.2026
SUMMARY:Funktionsgymnastik bei Knie- und Hüftproblemen (261BR30206) 
LOCATION:br Kulturhaus, Entspannungsraum, Heinsheimer Straße 16, 74906 Bad Rappenau
END:VEVENT
BEGIN:VEVENT
DTSTAMP:20260423T214642
DTSTART;TZID=Europe/Berlin:20260803T171500
DTEND;TZID=Europe/Berlin:20260803T181500
UID:261BR30206-20260803T171500@VHSUNTERLAND
DESCRIPTION:Ersatz für Ausfall am 18.05.2026
SUMMARY:Funktionsgymnastik bei Knie- und Hüftproblemen (261BR30206) 
LOCATION:br Kulturhaus, Entspannungsraum, Heinsheimer Straße 16, 74906 Bad Rappenau
END:VEVENT
END:VCALENDAR